Workbook

Sheet FAMILLE 1
A1: Suivi familles Offre de service ARPEDA RPE
A2: Dates de rencontre (ajouter autant de lignes que de RDV) | B2: Famille | F2: Assistant maternel | I2: Cible ARPEDA (Oui / Non) | O2: Spécificités de la situation de la famille (Oui / Non) | X2: Orientation (Oui / Non) | AF2: Objet de la demande (Oui / Non) | AP2: Besoin principal identifié (Oui / Non) | AY2: Difficultés repérées (Oui / Non) | BE2: Niveau d'accompagnement ARPEDA 2 ou 3 | BF2: Clotûre de la demande (Oui / Non)
B3: Nombre d'enfants | C3: Nom Prénom | D3: NB Enfants de moins de 3 ans | E3: NB Enfants de plus de 3 ans | F3: Nom Prénom | G3: QPV Oui / Non | H3: FRR Oui / Non | I3: Famille monoparentale | J3: Famille en situation de précarité | K3: Parent en insertion professionnelle | L3: Famille en situation de handicap | M3: Famille allophone | N3: Famille en difficultés avec le numérique ou les démarches administratives | O3: Parent isolé | P3: Reprise d'emploi | Q3: Recherhe d'emploi | R3: Formation | S3: Situation de handicap de l'enfant | T3: Situation de handicap du parent | U3: Difficultés de mobilité | V3: Horaires atypiques | W3: Autre | X3: Caf | Y3: Collectivité | Z3: Pmi | AA3: France Travail | AB3: CCAS | AC3: Pôle ressources handicap | AD3: Animateur RPE | AE3: Autre | AF3: Information sur le rôle de parent employeur | AG3: Recherche d'un AM | AH3: Aide au recrutement | AI3: Pajemploi | AJ3: Information sur les aides financières | AK3: Elaboration du contrat de travail | AL3: Mensualisation | AM3: Congés payés | AN3: Fin de contrat | AO3: Autre | AP3: Recrutement | AQ3: Contrat de travail | AR3: Mensualisation | AS3: Déclaration Pajemploi | AT3: Congés payés | AU3: Relation employeur / salarié | AV3: Fin de contrat | AW3: Recherche d'information | AX3: Autre | AY3: Administratives | AZ3: Financières | BA3: Compréhension de la convention collective | BB3: Communication avec le salarié | BC3: Disponibilité des modes d'accueil | BD3: Autre | BE3: 2 ou 3 | BF3: Date | BG3: Durée (en jours) | BH3: Accompagnement complet mené à son terme | BI3: Réorientation vers une autre solution | BJ3: Abandon de la démarche
BG6: =BF6-A6 -> 0
F8: QPV : Quartier de la politique de la ville | G8: FRR: France ruralités revitalisation
A10: Temps de travail effectif (en heures / minutes)
A11: Dates des RDV | B11: Recruter et employer | C11: Déclarer et rémunérer | D11: Gérer de la fin de contrat | E11: Durée de l'action | F11: Commentaires
E14: =SUM(B14:D14) -> 0
E15: =SUM(B15:D15) -> 0
E16: =SUM(B16:D16) -> 0
E17: =SUM(B17:D17) -> 0
E18: =SUM(B18:D18) -> 0
E19: =SUM(B19:D19) -> 0
E20: =SUM(B20:D20) -> 0
E21: =SUM(B21:D21) -> 0
E22: =SUM(B22:D22) -> 0
E23: =SUM(B23:D23) -> 0
E24: =SUM(B24:D24) -> 0
E25: =SUM(B25:D25) -> 0
E26: =SUM(B26:D26) -> 0
A27: total | B27: =SUM(B14:B26) -> 0 | C27: =SUM(C14:C26) -> 0 | D27: =SUM(D14:D26) -> 0 | E27: =SUM(E14:E26) -> 0
A30: Ce tableau de suivi et son utilisation doivent garantir le respect du RGPD consultable à partir du lien :
A31: Le règlement général sur la protection des données - RGPD | CNIL

Sheet FAMILLE 2
A1: Suivi familles mission ARPEDA RPE
A2: Date 1ère rencontre | B2: Famille | F2: Assistant maternel | I2: Cible ARPEDA (Oui / Non) | O2: Spécificités de la situation de la famille (Oui / Non) | X2: Orientation (Oui / Non) | AF2: Objet de la demande (Oui / Non) | AP2: Besoin principal identifié (Oui / Non) | AY2: Difficultés repérées (Oui / Non) | BE2: Niveau d'accompagnement ARPEDA 2 ou 3 | BF2: Clotûre de la demande (Oui / Non)
B3: Nombre d'enfants | C3: Nom Prénom | D3: NB Enfants de moins de 3 ans | E3: NB Enfants de plus de 3 ans | F3: Nom Prénom | G3: QPV Oui / Non | H3: FRR Oui / Non | I3: Famille monoparentale | J3: Famille en situation de précarité | K3: Parent en insertion professionnelle | L3: Famille en situation de handicap | M3: Famille allophone | N3: Famille en difficultés avec le numérique ou les démarches administratives | O3: Parent isolé | P3: Reprise d'emploi | Q3: Recherhe d'emploi | R3: Formation | S3: Situation de handicap de l'enfant | T3: Situation de handicap du parent | U3: Difficultés de mobilité | V3: Horaires atypiques | W3: Autre | X3: Caf | Y3: Collectivité | Z3: Pmi | AA3: France Travail | AB3: CCAS | AC3: Pôle ressources handicap | AD3: Animateur RPE | AE3: Autre | AF3: Information sur le rôle de parent employeur | AG3: Recherche d'un AM | AH3: Aide au recrutement | AI3: Pajemploi | AJ3: Information sur les aides financières | AK3: Elaboration du contrat de travail | AL3: Mensualisation | AM3: Congés payés | AN3: Fin de contrat | AO3: Autre | AP3: Recrutement | AQ3: Contrat de travail | AR3: Mensualisation | AS3: Déclaration Pajemploi | AT3: Congés payés | AU3: Relation employeur / salarié | AV3: Fin de contrat | AW3: Recherche d'information | AX3: Autre | AY3: Administratives | AZ3: Financières | BA3: Compréhension de la convention collective | BB3: Communication avec le salarié | BC3: Disponibilité des modes d'accueil | BD3: Autre | BE3: 2 ou 3 | BF3: Date | BG3: Durée (en jours) | BH3: Accompagnement complet mené à son terme | BI3: Réorientation vers une autre solution | BJ3: Abandon de la démarche
BG4: =BF4-A4 -> 0
F6: QPV : Quartier de la politique de la ville | G6: FRR: France ruralités revitalisation
A8: Temps de travail effectif (en heures / minutes)
A9: Dates | B9: Recherche AM / Recueil des besoins | C9: Vie du contrat | D9: Déclaration Pajemploi | E9: Echanges-Bilans par tel AM/PE | F9: Gestion dossier | G9: Durée de l'action | H9: Commentaires
G12: =SUM(B12:F12) -> 0
G13: =SUM(B13:F13) -> 0
G14: =SUM(B14:F14) -> 0
G15: =SUM(B15:F15) -> 0
G16: =SUM(B16:F16) -> 0
G17: =SUM(B17:F17) -> 0
G18: =SUM(B18:F18) -> 0
G19: =SUM(B19:F19) -> 0
G20: =SUM(B20:F20) -> 0
G21: =SUM(B21:F21) -> 0
G22: =SUM(B22:F22) -> 0
G23: =SUM(B23:F23) -> 0
G24: =SUM(B24:F24) -> 0
A25: total | B25: =SUM(B12:B24) -> 0 | C25: =SUM(C12:C24) -> 0 | D25: =SUM(D12:D24) -> 0 | E25: =SUM(E12:E24) -> 0 | F25: =SUM(F12:F24) -> 0 | G25: =SUM(G12:G24) -> 0
A28: Ce tableau de suivi et son utilisation doivent garantir le respect du RGPD consultable à partir du lien :
A29: Le règlement général sur la protection des données - RGPD | CNIL

Sheet FAMILLE 3
A1: Suivi familles mission ARPEDA RPE
A2: Date 1ère rencontre | B2: Famille | F2: Assistant maternel | I2: Cible ARPEDA (Oui / Non) | O2: Spécificités de la situation de la famille (Oui / Non) | X2: Orientation (Oui / Non) | AF2: Objet de la demande (Oui / Non) | AP2: Besoin principal identifié (Oui / Non) | AY2: Difficultés repérées (Oui / Non) | BE2: Niveau d'accompagnement ARPEDA 2 ou 3 | BF2: Clotûre de la demande (Oui / Non)
B3: Nombre d'enfants | C3: Nom Prénom | D3: NB Enfants de moins de 3 ans | E3: NB Enfants de plus de 3 ans | F3: Nom Prénom | G3: QPV Oui / Non | H3: FRR Oui / Non | I3: Famille monoparentale | J3: Famille en situation de précarité | K3: Parent en insertion professionnelle | L3: Famille en situation de handicap | M3: Famille allophone | N3: Famille en difficultés avec le numérique ou les démarches administratives | O3: Parent isolé | P3: Reprise d'emploi | Q3: Recherhe d'emploi | R3: Formation | S3: Situation de handicap de l'enfant | T3: Situation de handicap du parent | U3: Difficultés de mobilité | V3: Horaires atypiques | W3: Autre | X3: Caf | Y3: Collectivité | Z3: Pmi | AA3: France Travail | AB3: CCAS | AC3: Pôle ressources handicap | AD3: Animateur RPE | AE3: Autre | AF3: Information sur le rôle de parent employeur | AG3: Recherche d'un AM | AH3: Aide au recrutement | AI3: Pajemploi | AJ3: Information sur les aides financières | AK3: Elaboration du contrat de travail | AL3: Mensualisation | AM3: Congés payés | AN3: Fin de contrat | AO3: Autre | AP3: Recrutement | AQ3: Contrat de travail | AR3: Mensualisation | AS3: Déclaration Pajemploi | AT3: Congés payés | AU3: Relation employeur / salarié | AV3: Fin de contrat | AW3: Recherche d'information | AX3: Autre | AY3: Administratives | AZ3: Financières | BA3: Compréhension de la convention collective | BB3: Communication avec le salarié | BC3: Disponibilité des modes d'accueil | BD3: Autre | BE3: 2 ou 3 | BF3: Date | BG3: Durée (en jours) | BH3: Accompagnement complet mené à son terme | BI3: Réorientation vers une autre solution | BJ3: Abandon de la démarche
BG4: =BF4-A4 -> 0
F6: QPV : Quartier de la politique de la ville | G6: FRR: France ruralités revitalisation
A8: Temps de travail effectif (en heures / minutes)
A9: Dates | B9: Recherche AM / Recueil des besoins | C9: Vie du contrat | D9: Déclaration Pajemploi | E9: Echanges-Bilans par tel AM/PE | F9: Gestion dossier | G9: Durée de l'action | H9: Commentaires
G12: =SUM(B12:F12) -> 0
G13: =SUM(B13:F13) -> 0
G14: =SUM(B14:F14) -> 0
G15: =SUM(B15:F15) -> 0
G16: =SUM(B16:F16) -> 0
G17: =SUM(B17:F17) -> 0
G18: =SUM(B18:F18) -> 0
G19: =SUM(B19:F19) -> 0
G20: =SUM(B20:F20) -> 0
G21: =SUM(B21:F21) -> 0
G22: =SUM(B22:F22) -> 0
G23: =SUM(B23:F23) -> 0
G24: =SUM(B24:F24) -> 0
A25: total | B25: =SUM(B12:B24) -> 0 | C25: =SUM(C12:C24) -> 0 | D25: =SUM(D12:D24) -> 0 | E25: =SUM(E12:E24) -> 0 | F25: =SUM(F12:F24) -> 0 | G25: =SUM(G12:G24) -> 0
A28: Ce tableau de suivi et son utilisation doivent garantir le respect du RGPD consultable à partir du lien :
A29: Le règlement général sur la protection des données - RGPD | CNIL

Sheet FAMILLE 4
A1: Suivi familles mission ARPEDA RPE
A2: Date 1ère rencontre | B2: Famille | F2: Assistant maternel | I2: Cible ARPEDA (Oui / Non) | O2: Spécificités de la situation de la famille (Oui / Non) | X2: Orientation (Oui / Non) | AF2: Objet de la demande (Oui / Non) | AP2: Besoin principal identifié (Oui / Non) | AY2: Difficultés repérées (Oui / Non) | BE2: Niveau d'accompagnement ARPEDA 2 ou 3 | BF2: Clotûre de la demande (Oui / Non)
B3: Nombre d'enfants | C3: Nom Prénom | D3: NB Enfants de moins de 3 ans | E3: NB Enfants de plus de 3 ans | F3: Nom Prénom | G3: QPV Oui / Non | H3: FRR Oui / Non | I3: Famille monoparentale | J3: Famille en situation de précarité | K3: Parent en insertion professionnelle | L3: Famille en situation de handicap | M3: Famille allophone | N3: Famille en difficultés avec le numérique ou les démarches administratives | O3: Parent isolé | P3: Reprise d'emploi | Q3: Recherhe d'emploi | R3: Formation | S3: Situation de handicap de l'enfant | T3: Situation de handicap du parent | U3: Difficultés de mobilité | V3: Horaires atypiques | W3: Autre | X3: Caf | Y3: Collectivité | Z3: Pmi | AA3: France Travail | AB3: CCAS | AC3: Pôle ressources handicap | AD3: Animateur RPE | AE3: Autre | AF3: Information sur le rôle de parent employeur | AG3: Recherche d'un AM | AH3: Aide au recrutement | AI3: Pajemploi | AJ3: Information sur les aides financières | AK3: Elaboration du contrat de travail | AL3: Mensualisation | AM3: Congés payés | AN3: Fin de contrat | AO3: Autre | AP3: Recrutement | AQ3: Contrat de travail | AR3: Mensualisation | AS3: Déclaration Pajemploi | AT3: Congés payés | AU3: Relation employeur / salarié | AV3: Fin de contrat | AW3: Recherche d'information | AX3: Autre | AY3: Administratives | AZ3: Financières | BA3: Compréhension de la convention collective | BB3: Communication avec le salarié | BC3: Disponibilité des modes d'accueil | BD3: Autre | BE3: 2 ou 3 | BF3: Date | BG3: Durée (en jours) | BH3: Accompagnement complet mené à son terme | BI3: Réorientation vers une autre solution | BJ3: Abandon de la démarche
BG4: =BF4-A4 -> 0
F6: QPV : Quartier de la politique de la ville | G6: FRR: France ruralités revitalisation
A8: Temps de travail effectif (en heures / minutes)
A9: Dates | B9: Recherche AM / Recueil des besoins | C9: Vie du contrat | D9: Déclaration Pajemploi | E9: Echanges-Bilans par tel AM/PE | F9: Gestion dossier | G9: Durée de l'action | H9: Commentaires
G12: =SUM(B12:F12) -> 0
G13: =SUM(B13:F13) -> 0
G14: =SUM(B14:F14) -> 0
G15: =SUM(B15:F15) -> 0
G16: =SUM(B16:F16) -> 0
G17: =SUM(B17:F17) -> 0
G18: =SUM(B18:F18) -> 0
G19: =SUM(B19:F19) -> 0
G20: =SUM(B20:F20) -> 0
G21: =SUM(B21:F21) -> 0
G22: =SUM(B22:F22) -> 0
G23: =SUM(B23:F23) -> 0
G24: =SUM(B24:F24) -> 0
A25: total | B25: =SUM(B12:B24) -> 0 | C25: =SUM(C12:C24) -> 0 | D25: =SUM(D12:D24) -> 0 | E25: =SUM(E12:E24) -> 0 | F25: =SUM(F12:F24) -> 0 | G25: =SUM(G12:G24) -> 0
A28: Ce tableau de suivi et son utilisation doivent garantir le respect du RGPD consultable à partir du lien :
A29: Le règlement général sur la protection des données - RGPD | CNIL

Sheet FAMILLE 5
A1: Suivi familles mission ARPEDA RPE
A2: Date 1ère rencontre | B2: Famille | F2: Assistant maternel | I2: Cible ARPEDA (Oui / Non) | O2: Spécificités de la situation de la famille (Oui / Non) | X2: Orientation (Oui / Non) | AF2: Objet de la demande (Oui / Non) | AP2: Besoin principal identifié (Oui / Non) | AY2: Difficultés repérées (Oui / Non) | BE2: Niveau d'accompagnement ARPEDA 2 ou 3 | BF2: Clotûre de la demande (Oui / Non)
B3: Nombre d'enfants | C3: Nom Prénom | D3: NB Enfants de moins de 3 ans | E3: NB Enfants de plus de 3 ans | F3: Nom Prénom | G3: QPV Oui / Non | H3: FRR Oui / Non | I3: Famille monoparentale | J3: Famille en situation de précarité | K3: Parent en insertion professionnelle | L3: Famille en situation de handicap | M3: Famille allophone | N3: Famille en difficultés avec le numérique ou les démarches administratives | O3: Parent isolé | P3: Reprise d'emploi | Q3: Recherhe d'emploi | R3: Formation | S3: Situation de handicap de l'enfant | T3: Situation de handicap du parent | U3: Difficultés de mobilité | V3: Horaires atypiques | W3: Autre | X3: Caf | Y3: Collectivité | Z3: Pmi | AA3: France Travail | AB3: CCAS | AC3: Pôle ressources handicap | AD3: Animateur RPE | AE3: Autre | AF3: Information sur le rôle de parent employeur | AG3: Recherche d'un AM | AH3: Aide au recrutement | AI3: Pajemploi | AJ3: Information sur les aides financières | AK3: Elaboration du contrat de travail | AL3: Mensualisation | AM3: Congés payés | AN3: Fin de contrat | AO3: Autre | AP3: Recrutement | AQ3: Contrat de travail | AR3: Mensualisation | AS3: Déclaration Pajemploi | AT3: Congés payés | AU3: Relation employeur / salarié | AV3: Fin de contrat | AW3: Recherche d'information | AX3: Autre | AY3: Administratives | AZ3: Financières | BA3: Compréhension de la convention collective | BB3: Communication avec le salarié | BC3: Disponibilité des modes d'accueil | BD3: Autre | BE3: 2 ou 3 | BF3: Date | BG3: Durée (en jours) | BH3: Accompagnement complet mené à son terme | BI3: Réorientation vers une autre solution | BJ3: Abandon de la démarche
BG4: =BF4-A4 -> 0
F6: QPV : Quartier de la politique de la ville | G6: FRR: France ruralités revitalisation
A8: Temps de travail effectif (en heures / minutes)
A9: Dates | B9: Recherche AM / Recueil des besoins | C9: Vie du contrat | D9: Déclaration Pajemploi | E9: Echanges-Bilans par tel AM/PE | F9: Gestion dossier | G9: Durée de l'action | H9: Commentaires
G12: =SUM(B12:F12) -> 0
G13: =SUM(B13:F13) -> 0
G14: =SUM(B14:F14) -> 0
G15: =SUM(B15:F15) -> 0
G16: =SUM(B16:F16) -> 0
G17: =SUM(B17:F17) -> 0
G18: =SUM(B18:F18) -> 0
G19: =SUM(B19:F19) -> 0
G20: =SUM(B20:F20) -> 0
G21: =SUM(B21:F21) -> 0
G22: =SUM(B22:F22) -> 0
G23: =SUM(B23:F23) -> 0
G24: =SUM(B24:F24) -> 0
A25: total | B25: =SUM(B12:B24) -> 0 | C25: =SUM(C12:C24) -> 0 | D25: =SUM(D12:D24) -> 0 | E25: =SUM(E12:E24) -> 0 | F25: =SUM(F12:F24) -> 0 | G25: =SUM(G12:G24) -> 0
A28: Ce tableau de suivi et son utilisation doivent garantir le respect du RGPD consultable à partir du lien :
A29: Le règlement général sur la protection des données - RGPD | CNIL

Sheet FAMILLE 6
A1: Suivi familles mission ARPEDA RPE
A2: Date 1ère rencontre | B2: Famille | F2: Assistant maternel | I2: Cible ARPEDA (Oui / Non) | O2: Spécificités de la situation de la famille (Oui / Non) | X2: Orientation (Oui / Non) | AF2: Objet de la demande (Oui / Non) | AP2: Besoin principal identifié (Oui / Non) | AY2: Difficultés repérées (Oui / Non) | BE2: Niveau d'accompagnement ARPEDA 2 ou 3 | BF2: Clotûre de la demande (Oui / Non)
B3: Nombre d'enfants | C3: Nom Prénom | D3: NB Enfants de moins de 3 ans | E3: NB Enfants de plus de 3 ans | F3: Nom Prénom | G3: QPV Oui / Non | H3: FRR Oui / Non | I3: Famille monoparentale | J3: Famille en situation de précarité | K3: Parent en insertion professionnelle | L3: Famille en situation de handicap | M3: Famille allophone | N3: Famille en difficultés avec le numérique ou les démarches administratives | O3: Parent isolé | P3: Reprise d'emploi | Q3: Recherhe d'emploi | R3: Formation | S3: Situation de handicap de l'enfant | T3: Situation de handicap du parent | U3: Difficultés de mobilité | V3: Horaires atypiques | W3: Autre | X3: Caf | Y3: Collectivité | Z3: Pmi | AA3: France Travail | AB3: CCAS | AC3: Pôle ressources handicap | AD3: Animateur RPE | AE3: Autre | AF3: Information sur le rôle de parent employeur | AG3: Recherche d'un AM | AH3: Aide au recrutement | AI3: Pajemploi | AJ3: Information sur les aides financières | AK3: Elaboration du contrat de travail | AL3: Mensualisation | AM3: Congés payés | AN3: Fin de contrat | AO3: Autre | AP3: Recrutement | AQ3: Contrat de travail | AR3: Mensualisation | AS3: Déclaration Pajemploi | AT3: Congés payés | AU3: Relation employeur / salarié | AV3: Fin de contrat | AW3: Recherche d'information | AX3: Autre | AY3: Administratives | AZ3: Financières | BA3: Compréhension de la convention collective | BB3: Communication avec le salarié | BC3: Disponibilité des modes d'accueil | BD3: Autre | BE3: 2 ou 3 | BF3: Date | BG3: Durée (en jours) | BH3: Accompagnement complet mené à son terme | BI3: Réorientation vers une autre solution | BJ3: Abandon de la démarche
BG4: =BF4-A4 -> 0
F6: QPV : Quartier de la politique de la ville | G6: FRR: France ruralités revitalisation
A8: Temps de travail effectif (en heures / minutes)
A9: Dates | B9: Recherche AM / Recueil des besoins | C9: Vie du contrat | D9: Déclaration Pajemploi | E9: Echanges-Bilans par tel AM/PE | F9: Gestion dossier | G9: Durée de l'action | H9: Commentaires
G12: =SUM(B12:F12) -> 0
G13: =SUM(B13:F13) -> 0
G14: =SUM(B14:F14) -> 0
G15: =SUM(B15:F15) -> 0
G16: =SUM(B16:F16) -> 0
G17: =SUM(B17:F17) -> 0
G18: =SUM(B18:F18) -> 0
G19: =SUM(B19:F19) -> 0
G20: =SUM(B20:F20) -> 0
G21: =SUM(B21:F21) -> 0
G22: =SUM(B22:F22) -> 0
G23: =SUM(B23:F23) -> 0
G24: =SUM(B24:F24) -> 0
A25: total | B25: =SUM(B12:B24) -> 0 | C25: =SUM(C12:C24) -> 0 | D25: =SUM(D12:D24) -> 0 | E25: =SUM(E12:E24) -> 0 | F25: =SUM(F12:F24) -> 0 | G25: =SUM(G12:G24) -> 0
A28: Ce tableau de suivi et son utilisation doivent garantir le respect du RGPD consultable à partir du lien :
A29: Le règlement général sur la protection des données - RGPD | CNIL

Sheet FAMILLE 7
A1: Suivi familles mission ARPEDA RPE
A2: Date 1ère rencontre | B2: Famille | F2: Assistant maternel | I2: Cible ARPEDA (Oui / Non) | O2: Spécificités de la situation de la famille (Oui / Non) | X2: Orientation (Oui / Non) | AF2: Objet de la demande (Oui / Non) | AP2: Besoin principal identifié (Oui / Non) | AY2: Difficultés repérées (Oui / Non) | BE2: Niveau d'accompagnement ARPEDA 2 ou 3 | BF2: Clotûre de la demande (Oui / Non)
B3: Nombre d'enfants | C3: Nom Prénom | D3: NB Enfants de moins de 3 ans | E3: NB Enfants de plus de 3 ans | F3: Nom Prénom | G3: QPV Oui / Non | H3: FRR Oui / Non | I3: Famille monoparentale | J3: Famille en situation de précarité | K3: Parent en insertion professionnelle | L3: Famille en situation de handicap | M3: Famille allophone | N3: Famille en difficultés avec le numérique ou les démarches administratives | O3: Parent isolé | P3: Reprise d'emploi | Q3: Recherhe d'emploi | R3: Formation | S3: Situation de handicap de l'enfant | T3: Situation de handicap du parent | U3: Difficultés de mobilité | V3: Horaires atypiques | W3: Autre | X3: Caf | Y3: Collectivité | Z3: Pmi | AA3: France Travail | AB3: CCAS | AC3: Pôle ressources handicap | AD3: Animateur RPE | AE3: Autre | AF3: Information sur le rôle de parent employeur | AG3: Recherche d'un AM | AH3: Aide au recrutement | AI3: Pajemploi | AJ3: Information sur les aides financières | AK3: Elaboration du contrat de travail | AL3: Mensualisation | AM3: Congés payés | AN3: Fin de contrat | AO3: Autre | AP3: Recrutement | AQ3: Contrat de travail | AR3: Mensualisation | AS3: Déclaration Pajemploi | AT3: Congés payés | AU3: Relation employeur / salarié | AV3: Fin de contrat | AW3: Recherche d'information | AX3: Autre | AY3: Administratives | AZ3: Financières | BA3: Compréhension de la convention collective | BB3: Communication avec le salarié | BC3: Disponibilité des modes d'accueil | BD3: Autre | BE3: 2 ou 3 | BF3: Date | BG3: Durée (en jours) | BH3: Accompagnement complet mené à son terme | BI3: Réorientation vers une autre solution | BJ3: Abandon de la démarche
BG4: =BF4-A4 -> 0
F6: QPV : Quartier de la politique de la ville | G6: FRR: France ruralités revitalisation
A8: Temps de travail effectif (en heures / minutes)
A9: Dates | B9: Recherche AM / Recueil des besoins | C9: Vie du contrat | D9: Déclaration Pajemploi | E9: Echanges-Bilans par tel AM/PE | F9: Gestion dossier | G9: Durée de l'action | H9: Commentaires
G12: =SUM(B12:F12) -> 0
G13: =SUM(B13:F13) -> 0
G14: =SUM(B14:F14) -> 0
G15: =SUM(B15:F15) -> 0
G16: =SUM(B16:F16) -> 0
G17: =SUM(B17:F17) -> 0
G18: =SUM(B18:F18) -> 0
G19: =SUM(B19:F19) -> 0
G20: =SUM(B20:F20) -> 0
G21: =SUM(B21:F21) -> 0
G22: =SUM(B22:F22) -> 0
G23: =SUM(B23:F23) -> 0
G24: =SUM(B24:F24) -> 0
A25: total | B25: =SUM(B12:B24) -> 0 | C25: =SUM(C12:C24) -> 0 | D25: =SUM(D12:D24) -> 0 | E25: =SUM(E12:E24) -> 0 | F25: =SUM(F12:F24) -> 0 | G25: =SUM(G12:G24) -> 0
A28: Ce tableau de suivi et son utilisation doivent garantir le respect du RGPD consultable à partir du lien :
A29: Le règlement général sur la protection des données - RGPD | CNIL

Sheet BILAN
A1: Suivi familles mission ARPEDA RPE
A2: ANNEE | B2: Famille | F2: Assistant maternel | I2: Cible ARPEDA (Oui / Non) | O2: Spécificités de la situation de la famille (Oui / Non) | X2: Orientation (Oui / Non) | AF2: Objet de la demande (Oui / Non) | AP2: Besoin principal identifié (Oui / Non) | AY2: Difficultés repérées (Oui / Non) | BE2: Niveau d'accompagnement ARPEDA 2 | BF2: Niveau d'accompagnement ARPEDA 3 | BG2: Clotûre de la demande (Oui / Non)
B3: Nombre d'enfants | C3: Nom Prénom | D3: NB Enfants de moins de 3 ans | E3: NB Enfants de plus de 3 ans | F3: Nom Prénom | G3: QPV Oui / Non | H3: FRR Oui / Non | I3: Famille monoparentale | J3: Famille en situation de précarité | K3: Parent en insertion professionnelle | L3: Famille en situation de handicap | M3: Famille allophone | N3: Famille en difficultés avec le numérique ou les démarches administratives | O3: Parent isolé | P3: Reprise d'emploi | Q3: Recherhe d'emploi | R3: Formation | S3: Situation de handicap de l'enfant | T3: Situation de handicap du parent | U3: Difficultés de mobilité | V3: Horaires atypiques | W3: Autre | X3: Caf | Y3: Collectivité | Z3: Pmi | AA3: France Travail | AB3: CCAS | AC3: Pôle ressources handicap | AD3: Animateur RPE | AE3: Autre | AF3: Information sur le rôle de parent employeur | AG3: Recherche d'un AM | AH3: Aide au recrutement | AI3: Pajemploi | AJ3: Information sur les aides financières | AK3: Elaboration du contrat de travail | AL3: Mensualisation | AM3: Congés payés | AN3: Fin de contrat | AO3: Autre | AP3: Recrutement | AQ3: Contrat de travail | AR3: Mensualisation | AS3: Déclaration Pajemploi | AT3: Congés payés | AU3: Relation employeur / salarié | AV3: Fin de contrat | AW3: Recherche d'information | AX3: Autre | AY3: Administratives | AZ3: Financières | BA3: Compréhension de la convention collective | BB3: Communication avec le salarié | BC3: Disponibilité des modes d'accueil | BD3: Autre | BE3: 2 ou 3 | BF3: 2 ou 3 | BG3: DUREE MOYENNE (en jours) | BH3: Accompagnement complet mené à son terme | BI3: Réorientation vers une autre solution | BJ3: Abandon de la démarche
B4: ='FAMILLE 1'!B6+'FAMILLE 2'!B4+'FAMILLE 3'!B4+'FAMILLE 4'!B4+'FAMILLE 5'!B4+'FAMILLE 6'!B4+'FAMILLE 7'!B4 -> 0 | C4: - | D4: ='FAMILLE 1'!D6+'FAMILLE 2'!D4+'FAMILLE 3'!D4+'FAMILLE 4'!D4+'FAMILLE 5'!D4+'FAMILLE 6'!D4+'FAMILLE 7'!D4 -> 0 | E4: ='FAMILLE 1'!E6+'FAMILLE 2'!E4+'FAMILLE 3'!E4+'FAMILLE 4'!E4+'FAMILLE 5'!E4+'FAMILLE 6'!E4+'FAMILLE 7'!E4 -> 0 | F4: - | G4: =COUNTIF('FAMILLE 1'!G6,"Oui")+COUNTIF('FAMILLE 2'!G4,"Oui")+COUNTIF('FAMILLE 3'!G4,"Oui")+COUNTIF('FAMILLE 4'!G4,"Oui")+COUNTIF('FAMILLE 5'!G4,"Oui")+COUNTIF('FAMILLE 6'!G4,"Oui")+COUNTIF('FAMILLE 7'!G4,"Oui") -> 0 | H4: =COUNTIF('FAMILLE 1'!H6,"Oui")+COUNTIF('FAMILLE 2'!H4,"Oui")+COUNTIF('FAMILLE 3'!H4,"Oui")+COUNTIF('FAMILLE 4'!H4,"Oui")+COUNTIF('FAMILLE 5'!H4,"Oui")+COUNTIF('FAMILLE 6'!H4,"Oui")+COUNTIF('FAMILLE 7'!H4,"Oui") -> 0 | I4: =COUNTIF('FAMILLE 1'!I6,"Oui")+COUNTIF('FAMILLE 2'!I4,"Oui")+COUNTIF('FAMILLE 3'!I4,"Oui")+COUNTIF('FAMILLE 4'!I4,"Oui")+COUNTIF('FAMILLE 5'!I4,"Oui")+COUNTIF('FAMILLE 6'!I4,"Oui")+COUNTIF('FAMILLE 7'!I4,"Oui") -> 0 | J4: =COUNTIF('FAMILLE 1'!J6,"Oui")+COUNTIF('FAMILLE 2'!J4,"Oui")+COUNTIF('FAMILLE 3'!J4,"Oui")+COUNTIF('FAMILLE 4'!J4,"Oui")+COUNTIF('FAMILLE 5'!J4,"Oui")+COUNTIF('FAMILLE 6'!J4,"Oui")+COUNTIF('FAMILLE 7'!J4,"Oui") -> 0 | K4: =COUNTIF('FAMILLE 1'!K6,"Oui")+COUNTIF('FAMILLE 2'!K4,"Oui")+COUNTIF('FAMILLE 3'!K4,"Oui")+COUNTIF('FAMILLE 4'!K4,"Oui")+COUNTIF('FAMILLE 5'!K4,"Oui")+COUNTIF('FAMILLE 6'!K4,"Oui")+COUNTIF('FAMILLE 7'!K4,"Oui") -> 0 | L4: =COUNTIF('FAMILLE 1'!L6,"Oui")+COUNTIF('FAMILLE 2'!L4,"Oui")+COUNTIF('FAMILLE 3'!L4,"Oui")+COUNTIF('FAMILLE 4'!L4,"Oui")+COUNTIF('FAMILLE 5'!L4,"Oui")+COUNTIF('FAMILLE 6'!L4,"Oui")+COUNTIF('FAMILLE 7'!L4,"Oui") -> 0 | M4: =COUNTIF('FAMILLE 1'!M6,"Oui")+COUNTIF('FAMILLE 2'!M4,"Oui")+COUNTIF('FAMILLE 3'!M4,"Oui")+COUNTIF('FAMILLE 4'!M4,"Oui")+COUNTIF('FAMILLE 5'!M4,"Oui")+COUNTIF('FAMILLE 6'!M4,"Oui")+COUNTIF('FAMILLE 7'!M4,"Oui") -> 0 | N4: =COUNTIF('FAMILLE 1'!N6,"Oui")+COUNTIF('FAMILLE 2'!N4,"Oui")+COUNTIF('FAMILLE 3'!N4,"Oui")+COUNTIF('FAMILLE 4'!N4,"Oui")+COUNTIF('FAMILLE 5'!N4,"Oui")+COUNTIF('FAMILLE 6'!N4,"Oui")+COUNTIF('FAMILLE 7'!N4,"Oui") -> 0 | ... V4: =COUNTIF('FAMILLE 1'!V6,"Oui")+COUNTIF('FAMILLE 2'!V4,"Oui")+COUNTIF('FAMILLE 3'!V4,"Oui")+COUNTIF('FAMILLE 4'!V4,"Oui")+COUNTIF('FAMILLE 5'!V4,"Oui")+COUNTIF('FAMILLE 6'!V4,"Oui")+COUNTIF('FAMILLE 7'!V4,"Oui") -> 0 | X4: =COUNTIF('FAMILLE 1'!X6,"Oui")+COUNTIF('FAMILLE 2'!X4,"Oui")+COUNTIF('FAMILLE 3'!X4,"Oui")+COUNTIF('FAMILLE 4'!X4,"Oui")+COUNTIF('FAMILLE 5'!X4,"Oui")+COUNTIF('FAMILLE 6'!X4,"Oui")+COUNTIF('FAMILLE 7'!X4,"Oui") -> 0 | Y4: =COUNTIF('FAMILLE 1'!Y6,"Oui")+COUNTIF('FAMILLE 2'!Y4,"Oui")+COUNTIF('FAMILLE 3'!Y4,"Oui")+COUNTIF('FAMILLE 4'!Y4,"Oui")+COUNTIF('FAMILLE 5'!Y4,"Oui")+COUNTIF('FAMILLE 6'!Y4,"Oui")+COUNTIF('FAMILLE 7'!Y4,"Oui") -> 0 | Z4: =COUNTIF('FAMILLE 1'!Z6,"Oui")+COUNTIF('FAMILLE 2'!Z4,"Oui")+COUNTIF('FAMILLE 3'!Z4,"Oui")+COUNTIF('FAMILLE 4'!Z4,"Oui")+COUNTIF('FAMILLE 5'!Z4,"Oui")+COUNTIF('FAMILLE 6'!Z4,"Oui")+COUNTIF('FAMILLE 7'!Z4,"Oui") -> 0 | AA4: =COUNTIF('FAMILLE 1'!AA6,"Oui")+COUNTIF('FAMILLE 2'!AA4,"Oui")+COUNTIF('FAMILLE 3'!AA4,"Oui")+COUNTIF('FAMILLE 4'!AA4,"Oui")+COUNTIF('FAMILLE 5'!AA4,"Oui")+COUNTIF('FAMILLE 6'!AA4,"Oui")+COUNTIF('FAMILLE 7'!AA4,"Oui") -> 0 | AB4: =COUNTIF('FAMILLE 1'!AB6,"Oui")+COUNTIF('FAMILLE 2'!AB4,"Oui")+COUNTIF('FAMILLE 3'!AB4,"Oui")+COUNTIF('FAMILLE 4'!AB4,"Oui")+COUNTIF('FAMILLE 5'!AB4,"Oui")+COUNTIF('FAMILLE 6'!AB4,"Oui")+COUNTIF('FAMILLE 7'!AB4,"Oui") -> 0 | AC4: =COUNTIF('FAMILLE 1'!AC6,"Oui")+COUNTIF('FAMILLE 2'!AC4,"Oui")+COUNTIF('FAMILLE 3'!AC4,"Oui")+COUNTIF('FAMILLE 4'!AC4,"Oui")+COUNTIF('FAMILLE 5'!AC4,"Oui")+COUNTIF('FAMILLE 6'!AC4,"Oui")+COUNTIF('FAMILLE 7'!AC4,"Oui") -> 0 | AD4: =COUNTIF('FAMILLE 1'!AD6,"Oui")+COUNTIF('FAMILLE 2'!AD4,"Oui")+COUNTIF('FAMILLE 3'!AD4,"Oui")+COUNTIF('FAMILLE 4'!AD4,"Oui")+COUNTIF('FAMILLE 5'!AD4,"Oui")+COUNTIF('FAMILLE 6'!AD4,"Oui")+COUNTIF('FAMILLE 7'!AD4,"Oui") -> 0 | AF4: =COUNTIF('FAMILLE 1'!AF6,"Oui")+COUNTIF('FAMILLE 2'!AF4,"Oui")+COUNTIF('FAMILLE 3'!AF4,"Oui")+COUNTIF('FAMILLE 4'!AF4,"Oui")+COUNTIF('FAMILLE 5'!AF4,"Oui")+COUNTIF('FAMILLE 6'!AF4,"Oui")+COUNTIF('FAMILLE 7'!AF4,"Oui") -> 0 | AG4: =COUNTIF('FAMILLE 1'!AG6,"Oui")+COUNTIF('FAMILLE 2'!AG4,"Oui")+COUNTIF('FAMILLE 3'!AG4,"Oui")+COUNTIF('FAMILLE 4'!AG4,"Oui")+COUNTIF('FAMILLE 5'!AG4,"Oui")+COUNTIF('FAMILLE 6'!AG4,"Oui")+COUNTIF('FAMILLE 7'!AG4,"Oui") -> 0 | AH4: =COUNTIF('FAMILLE 1'!AH6,"Oui")+COUNTIF('FAMILLE 2'!AH4,"Oui")+COUNTIF('FAMILLE 3'!AH4,"Oui")+COUNTIF('FAMILLE 4'!AH4,"Oui")+COUNTIF('FAMILLE 5'!AH4,"Oui")+COUNTIF('FAMILLE 6'!AH4,"Oui")+COUNTIF('FAMILLE 7'!AH4,"Oui") -> 0 | AI4: =COUNTIF('FAMILLE 1'!AI6,"Oui")+COUNTIF('FAMILLE 2'!AI4,"Oui")+COUNTIF('FAMILLE 3'!AI4,"Oui")+COUNTIF('FAMILLE 4'!AI4,"Oui")+COUNTIF('FAMILLE 5'!AI4,"Oui")+COUNTIF('FAMILLE 6'!AI4,"Oui")+COUNTIF('FAMILLE 7'!AI4,"Oui") -> 0 | AJ4: =COUNTIF('FAMILLE 1'!AJ6,"Oui")+COUNTIF('FAMILLE 2'!AJ4,"Oui")+COUNTIF('FAMILLE 3'!AJ4,"Oui")+COUNTIF('FAMILLE 4'!AJ4,"Oui")+COUNTIF('FAMILLE 5'!AJ4,"Oui")+COUNTIF('FAMILLE 6'!AJ4,"Oui")+COUNTIF('FAMILLE 7'!AJ4,"Oui") -> 0 | AK4: =COUNTIF('FAMILLE 1'!AK6,"Oui")+COUNTIF('FAMILLE 2'!AK4,"Oui")+COUNTIF('FAMILLE 3'!AK4,"Oui")+COUNTIF('FAMILLE 4'!AK4,"Oui")+COUNTIF('FAMILLE 5'!AK4,"Oui")+COUNTIF('FAMILLE 6'!AK4,"Oui")+COUNTIF('FAMILLE 7'!AK4,"Oui") -> 0 | AL4: =COUNTIF('FAMILLE 1'!AL6,"Oui")+COUNTIF('FAMILLE 2'!AL4,"Oui")+COUNTIF('FAMILLE 3'!AL4,"Oui")+COUNTIF('FAMILLE 4'!AL4,"Oui")+COUNTIF('FAMILLE 5'!AL4,"Oui")+COUNTIF('FAMILLE 6'!AL4,"Oui")+COUNTIF('FAMILLE 7'!AL4,"Oui") -> 0 | AM4: =COUNTIF('FAMILLE 1'!AM6,"Oui")+COUNTIF('FAMILLE 2'!AM4,"Oui")+COUNTIF('FAMILLE 3'!AM4,"Oui")+COUNTIF('FAMILLE 4'!AM4,"Oui")+COUNTIF('FAMILLE 5'!AM4,"Oui")+COUNTIF('FAMILLE 6'!AM4,"Oui")+COUNTIF('FAMILLE 7'!AM4,"Oui") -> 0 | AN4: =COUNTIF('FAMILLE 1'!AN6,"Oui")+COUNTIF('FAMILLE 2'!AN4,"Oui")+COUNTIF('FAMILLE 3'!AN4,"Oui")+COUNTIF('FAMILLE 4'!AN4,"Oui")+COUNTIF('FAMILLE 5'!AN4,"Oui")+COUNTIF('FAMILLE 6'!AN4,"Oui")+COUNTIF('FAMILLE 7'!AN4,"Oui") -> 0 | AP4: =COUNTIF('FAMILLE 1'!AP6,"Oui")+COUNTIF('FAMILLE 2'!AP4,"Oui")+COUNTIF('FAMILLE 3'!AP4,"Oui")+COUNTIF('FAMILLE 4'!AP4,"Oui")+COUNTIF('FAMILLE 5'!AP4,"Oui")+COUNTIF('FAMILLE 6'!AP4,"Oui")+COUNTIF('FAMILLE 7'!AP4,"Oui") -> 0 | AQ4: =COUNTIF('FAMILLE 1'!AQ6,"Oui")+COUNTIF('FAMILLE 2'!AQ4,"Oui")+COUNTIF('FAMILLE 3'!AQ4,"Oui")+COUNTIF('FAMILLE 4'!AQ4,"Oui")+COUNTIF('FAMILLE 5'!AQ4,"Oui")+COUNTIF('FAMILLE 6'!AQ4,"Oui")+COUNTIF('FAMILLE 7'!AQ4,"Oui") -> 0 | AR4: =COUNTIF('FAMILLE 1'!AR6,"Oui")+COUNTIF('FAMILLE 2'!AR4,"Oui")+COUNTIF('FAMILLE 3'!AR4,"Oui")+COUNTIF('FAMILLE 4'!AR4,"Oui")+COUNTIF('FAMILLE 5'!AR4,"Oui")+COUNTIF('FAMILLE 6'!AR4,"Oui")+COUNTIF('FAMILLE 7'!AR4,"Oui") -> 0 | AS4: =COUNTIF('FAMILLE 1'!AS6,"Oui")+COUNTIF('FAMILLE 2'!AS4,"Oui")+COUNTIF('FAMILLE 3'!AS4,"Oui")+COUNTIF('FAMILLE 4'!AS4,"Oui")+COUNTIF('FAMILLE 5'!AS4,"Oui")+COUNTIF('FAMILLE 6'!AS4,"Oui")+COUNTIF('FAMILLE 7'!AS4,"Oui") -> 0 | AT4: =COUNTIF('FAMILLE 1'!AT6,"Oui")+COUNTIF('FAMILLE 2'!AT4,"Oui")+COUNTIF('FAMILLE 3'!AT4,"Oui")+COUNTIF('FAMILLE 4'!AT4,"Oui")+COUNTIF('FAMILLE 5'!AT4,"Oui")+COUNTIF('FAMILLE 6'!AT4,"Oui")+COUNTIF('FAMILLE 7'!AT4,"Oui") -> 0 | AU4: =COUNTIF('FAMILLE 1'!AU6,"Oui")+COUNTIF('FAMILLE 2'!AU4,"Oui")+COUNTIF('FAMILLE 3'!AU4,"Oui")+COUNTIF('FAMILLE 4'!AU4,"Oui")+COUNTIF('FAMILLE 5'!AU4,"Oui")+COUNTIF('FAMILLE 6'!AU4,"Oui")+COUNTIF('FAMILLE 7'!AU4,"Oui") -> 0 | AV4: =COUNTIF('FAMILLE 1'!AV6,"Oui")+COUNTIF('FAMILLE 2'!AV4,"Oui")+COUNTIF('FAMILLE 3'!AV4,"Oui")+COUNTIF('FAMILLE 4'!AV4,"Oui")+COUNTIF('FAMILLE 5'!AV4,"Oui")+COUNTIF('FAMILLE 6'!AV4,"Oui")+COUNTIF('FAMILLE 7'!AV4,"Oui") -> 0 | AW4: =COUNTIF('FAMILLE 1'!AW6,"Oui")+COUNTIF('FAMILLE 2'!AW4,"Oui")+COUNTIF('FAMILLE 3'!AW4,"Oui")+COUNTIF('FAMILLE 4'!AW4,"Oui")+COUNTIF('FAMILLE 5'!AW4,"Oui")+COUNTIF('FAMILLE 6'!AW4,"Oui")+COUNTIF('FAMILLE 7'!AW4,"Oui") -> 0 | AY4: =COUNTIF('FAMILLE 1'!AY6,"Oui")+COUNTIF('FAMILLE 2'!AY4,"Oui")+COUNTIF('FAMILLE 3'!AY4,"Oui")+COUNTIF('FAMILLE 4'!AY4,"Oui")+COUNTIF('FAMILLE 5'!AY4,"Oui")+COUNTIF('FAMILLE 6'!AY4,"Oui")+COUNTIF('FAMILLE 7'!AY4,"Oui") -> 0 | AZ4: =COUNTIF('FAMILLE 1'!AZ6,"Oui")+COUNTIF('FAMILLE 2'!AZ4,"Oui")+COUNTIF('FAMILLE 3'!AZ4,"Oui")+COUNTIF('FAMILLE 4'!AZ4,"Oui")+COUNTIF('FAMILLE 5'!AZ4,"Oui")+COUNTIF('FAMILLE 6'!AZ4,"Oui")+COUNTIF('FAMILLE 7'!AZ4,"Oui") -> 0 | BA4: =COUNTIF('FAMILLE 1'!BA6,"Oui")+COUNTIF('FAMILLE 2'!BA4,"Oui")+COUNTIF('FAMILLE 3'!BA4,"Oui")+COUNTIF('FAMILLE 4'!BA4,"Oui")+COUNTIF('FAMILLE 5'!BA4,"Oui")+COUNTIF('FAMILLE 6'!BA4,"Oui")+COUNTIF('FAMILLE 7'!BA4,"Oui") -> 0 | BB4: =COUNTIF('FAMILLE 1'!BB6,"Oui")+COUNTIF('FAMILLE 2'!BB4,"Oui")+COUNTIF('FAMILLE 3'!BB4,"Oui")+COUNTIF('FAMILLE 4'!BB4,"Oui")+COUNTIF('FAMILLE 5'!BB4,"Oui")+COUNTIF('FAMILLE 6'!BB4,"Oui")+COUNTIF('FAMILLE 7'!BB4,"Oui") -> 0 | BC4: =COUNTIF('FAMILLE 1'!BC6,"Oui")+COUNTIF('FAMILLE 2'!BC4,"Oui")+COUNTIF('FAMILLE 3'!BC4,"Oui")+COUNTIF('FAMILLE 4'!BC4,"Oui")+COUNTIF('FAMILLE 5'!BC4,"Oui")+COUNTIF('FAMILLE 6'!BC4,"Oui")+COUNTIF('FAMILLE 7'!BC4,"Oui") -> 0 | BE4: =COUNTIF('FAMILLE 1'!BE6,"2")+COUNTIF('FAMILLE 2'!BE4,"2")+COUNTIF('FAMILLE 3'!BE4,"2")+COUNTIF('FAMILLE 4'!BE4,"2")+COUNTIF('FAMILLE 5'!BE4,"2")+COUNTIF('FAMILLE 6'!BE4,"2")+COUNTIF('FAMILLE 7'!BE4,"2") -> 0 | BF4: =COUNTIF('FAMILLE 1'!BE6,"3")+COUNTIF('FAMILLE 2'!BE4,"3")+COUNTIF('FAMILLE 3'!BE4,"3")+COUNTIF('FAMILLE 4'!BE4,"3")+COUNTIF('FAMILLE 5'!BE4,"3")+COUNTIF('FAMILLE 6'!BE4,"3")+COUNTIF('FAMILLE 7'!BE4,"3") -> 0 | BG4: =AVERAGE('FAMILLE 1:FAMILLE 7'!BG4) -> 0 | BH4: =COUNTIF('FAMILLE 1'!BH6,"Oui")+COUNTIF('FAMILLE 2'!BH4,"Oui")+COUNTIF('FAMILLE 3'!BH4,"Oui")+COUNTIF('FAMILLE 4'!BH4,"Oui")+COUNTIF('FAMILLE 5'!BH4,"Oui")+COUNTIF('FAMILLE 6'!BH4,"Oui")+COUNTIF('FAMILLE 7'!BH4,"Oui") -> 0 | BI4: =COUNTIF('FAMILLE 1'!BI6,"Oui")+COUNTIF('FAMILLE 2'!BI4,"Oui")+COUNTIF('FAMILLE 3'!BI4,"Oui")+COUNTIF('FAMILLE 4'!BI4,"Oui")+COUNTIF('FAMILLE 5'!BI4,"Oui")+COUNTIF('FAMILLE 6'!BI4,"Oui")+COUNTIF('FAMILLE 7'!BI4,"Oui") -> 0 | BJ4: =COUNTIF('FAMILLE 1'!BJ6,"Oui")+COUNTIF('FAMILLE 2'!BJ4,"Oui")+COUNTIF('FAMILLE 3'!BJ4,"Oui")+COUNTIF('FAMILLE 4'!BJ4,"Oui")+COUNTIF('FAMILLE 5'!BJ4,"Oui")+COUNTIF('FAMILLE 6'!BJ4,"Oui")+COUNTIF('FAMILLE 7'!BJ4,"Oui") -> 0
A8: Temps de travail total (en heures / minutes)
B9: Recherche AM / Recueil des besoins | C9: Contrat de travail | D9: Déclaration Paje-emploi | E9: Echanges-Bilans par tel AM/PE | F9: Gestion dossier | G9: TOTAL | H9: Commentaires
B12: ='FAMILLE 1'!B27+'FAMILLE 2'!B25+'FAMILLE 3'!B25+'FAMILLE 4'!B25+'FAMILLE 5'!B25+'FAMILLE 6'!B25+'FAMILLE 7'!B25 -> 0 | C12: ='FAMILLE 1'!C27+'FAMILLE 2'!C25+'FAMILLE 3'!C25+'FAMILLE 4'!C25+'FAMILLE 5'!C25+'FAMILLE 6'!C25+'FAMILLE 7'!C25 -> 0 | D12: ='FAMILLE 1'!D27+'FAMILLE 2'!D25+'FAMILLE 3'!D25+'FAMILLE 4'!D25+'FAMILLE 5'!D25+'FAMILLE 6'!D25+'FAMILLE 7'!D25 -> 0 | E12: ='FAMILLE 1'!#REF!+'FAMILLE 2'!E25+'FAMILLE 3'!E25+'FAMILLE 4'!E25+'FAMILLE 5'!E25+'FAMILLE 6'!E25+'FAMILLE 7'!E25 -> #REF! | F12: ='FAMILLE 1'!#REF!+'FAMILLE 2'!F25+'FAMILLE 3'!F25+'FAMILLE 4'!F25+'FAMILLE 5'!F25+'FAMILLE 6'!F25+'FAMILLE 7'!F25 -> #REF! | G12: =SUM(B12:F12) -> #REF!
