Workbook

Sheet Parametres
B2: Organisme : | C2: France entière
B4: Date : | C4: au 31/12/2025
B6: Fichier : | C6: Source : Allstat FR6 au titre du mois décembre 2025
B8: Retour liste

Sheet Liste_AL
B2: TABLEAUX TSAR AL (Aides au Logement)
B4: AL000 | C4: Chiffres clés des aides au logement
A5: Description des allocataires et situation du dossier | B5: AL001 | C5: Situtation familiale des foyers bénéficiaires d'une aide au logement - Personnes à charge
B6: AL002 | C6: Situtation familiale des foyers bénéficiaires d'une aide au logement - Enfants à charge
B7: AL003 | C7: Tranches d'âges des titulaires de dossiers AL
B8: AL004 | C8: Bénéficiaires d'une aide au logement en cohabitation
B9: AL005 | C9: Type de logement selon la prestation AL
B10: AL006 | C10: Foyers bénéficiaires d'une aide au logement en tiers payant
B11: AL007 | C11: Mesure d'abattement (et/ou) de neutralisation de ressources des bénéficiaires AL
B12: AL008 | C12: Ancienneté de la signature du prêt en accession pour les bénéficiaires AL
A13: Type de logement | B13: AL101 | C13: Type de logement selon la situation familiale AL - Personnes à charges
B14: AL102 | C14: Type de logement selon la situation familiale AL - Enfants à charges
B15: AL103 | C15: Type de logement selon la tranche d'âge du responsable du dossier AL
B16: AL104 | C16: Type de logement selon la zone géographique
B17: AL105 | C17: Type de logement selon le parc (public/privé)
B18: AL106 | C18: Type de logement et prestations versables
B19: AL107 | C19: Type de logement selon le Ratio loyer / Loyer plafond
A20: Etudiants | B20: AL150 | C20: Etudiants bénéficiaires d'une aide au logement par catégorie et type d'aide
A21: Impayés de loyer | B21: AL201 | C21: Bénéficiaires d'une aide au logement en situation d'impayés
B22: AL202 | C22: Bénéficiaires d'une aide au logement en situation d'impayés de loyer selon le type d'occupation du logement et le cumul de prestation
B23: AL203 | C23: Bénéficiaires d'une aide au logement en situation d'impayés de loyer selon la taille de la famille - Personnes à charge
B24: AL204 | C24: Bénéficiaires d'une aide au logement en situation d'impayés de loyer selon la taille de la famille - Enfants à charge
A25: Non décence | B25: AL301 | C25: Non-respect des normes de décence selon les prestations AL - Etat de la décence du logement
B26: AL302 | C26: Non-respect des normes de décence selon la zone géographique - Etat de la décence du logement
B27: AL303 | C27: Non-respect des normes de décence selon le parc (public/privé) - Etat de la décence du logement
B28: AL351 | C28: Non-respect des normes de décence selon les prestations AL - Mise en œuvre de la conservation
B29: AL352 | C29: Non-respect des normes de décence selon la zone géographique - Mise en œuvre de la conservation
B30: AL353 | C30: Non-respect des normes de décence selon le parc (public/privé) - Mise en œuvre de la conservation
A31: Dégressivité | B31: AL401 | C31: Dégressivité pour loyer élevé selon la zone géographique
B32: AL402 | C32: Dégressivité pour loyer élevé selon la taille du ménage
A33: Patrimoine | B33: AL501 | C33: Prise en compte des ressources du patrimoine selon les prestations AL
B34: AL502 | C34: Prise en compte des ressources du patrimoine selon la zone géographique
B35: AL503 | C35: Prise en compte des ressources du patrimoine selon l'âge du titulaire du dossier
B36: AL504 | C36: Prise en compte des ressources du patrimoine selon la situation familiale
A37: RLS | B37: AL601 | C37: Réduction de loyer de solidarité selon la zone géographique
B38: AL602 | C38: Réduction de loyer de solidarité selon la tranche d'âge
B39: AL603 | C39: Réduction de loyer de solidarité selon la situation familiale
B40: AL604 | C40: Réduction de loyer de solidarité selon le revenu d'activité annuel
B41: AL605 | C41: Réduction de loyer de solidarité selon la mesure corrective
A42: Montants | B42: AL901 | C42: Montants moyens selon la taille de la famille
B43: AL902 | C43: Montants détaillés selon la composition familiale
B44: AL903 | C44: Montants détaillés selon le zone géographique
A46: Dans cette partie, la composition familiale est prise au sens des aides au logement (présence du conjoint et nombre d'enfants à charge au sens des aides au logement)

Sheet AL000
B2: =Parametres!C2 -> 0
B4: Chiffres clés des aides au logement | G4: Retour liste
F6: =Parametres!C4 -> 0
B7: AL000 | C7: ALF | D7: ALS | E7: APL | F7: Total
B8: Foyers bénéficiaires d'une aide au logement (y compris AL < seuil) | C8: 810607 | D8: 2282586 | E8: 2632725 | F8: 5725918
B9: dont AL versable | C9: 802468 | D9: 2256841 | E9: 2626621 | F9: 5685930
B10: dont AL en dessous du seuil de versement | C10: 8139 | D10: 25745 | E10: 6104 | F10: 39988
B11: Personnes couvertes par une aide au logement (uniquement AL versable) | C11: 2683170 | D11: 2402582 | E11: 5684099 | F11: 10769851
B12: dont Enfants à charge au sens de l'aide au logement | C12: 1573123 | D12: 38 | E12: 2445661 | F12: 4018822
B13: dont Autres personnes à charge au sens de l'aide au logement | C13: 12976 | D13: 28 | E13: 34955 | F13: 47959
B14: Montant total de droit AL (uniquement AL versable) | C14: 2.6924806e+08 | D14: 4.7912505e+08 | E14: 6.3081036e+08 | F14: 1.3791835e+09
B15: Montant total de loyer | C15: 5.2101684e+08 | D15: 1.1601904e+09 | E15: 1.1621383e+09 | F15: 2.8433455e+09
B16: Montant moyen de droit versable AL (uniquement AL versable) | C16: =C14/C$9 -> #DIV/0! | D16: =D14/D$9 -> #DIV/0! | E16: =E14/E$9 -> #DIV/0! | F16: =F14/F$9 -> #DIV/0!
B17: Montant moyen du loyer (uniquement AL versable) | C17: =C15/C$9 -> #DIV/0! | D17: =D15/D$9 -> #DIV/0! | E17: =E15/E$9 -> #DIV/0! | F17: =F15/F$9 -> #DIV/0!
B19: =Parametres!C6 -> 0
B20: Champ : Foyers bénéficiaires d'une aide au logement

Sheet AL001
B2: =Parametres!C2 -> 0
B4: Situtation familiale des foyers bénéficiaires d'une aide au logement Personnes à charge au sens du logement | G4: Retour liste
F6: =Parametres!C4 -> 0
B7: AL001 | C7: ALF | D7: ALS | E7: APL | F7: Total
B8: Seul sans personne à charge | C8: 3086 | D8: 2111135 | E8: 1344042 | F8: 3458263
B9: Seul avec 1 personne à charge | C9: 238524 | D9: 6 | E9: 322700 | F9: 561230
B10: Seul avec 2 personnes à charge | C10: 165832 | D10: 24 | E10: 226229 | F10: 392085
B11: Seul avec 3 personnes à charge | C11: 67064 | D11: 1 | E11: 105514 | F11: 172579
B12: Seul avec 4 personnes à charge ou plus | C12: 33359 | D12: 0 | E12: 51274 | F12: 84633
B13: Sous total Seul | C13: 507865 | D13: 2111166 | E13: 2049759 | F13: 4668790
B14: En couple sans personne à charge | C14: 18231 | D14: 145670 | E14: 133037 | F14: 296938
B15: En couple avec 1 personne à charge | C15: 74492 | D15: 1 | E15: 91461 | F15: 165954
B16: En couple avec 2 personnes à charge | C16: 86985 | D16: 4 | E16: 125102 | F16: 212091
B17: En couple avec 3 personnes à charge | C17: 69763 | D17: 0 | E17: 132138 | F17: 201901
B18: En couple avec 4 personnes à charge ou plus | C18: 45132 | D18: 0 | E18: 95124 | F18: 140256
B19: Sous total en couple | C19: 294603 | D19: 145675 | E19: 576862 | F19: 1017140
B20: ENSEMBLE | C20: 802468 | D20: 2256841 | E20: 2626621 | F20: 5685930
B22: =AL000!B19 -> 0
B23: Champ : Foyers bénéficiaires d'une aide au logement
B24: Personne à charge : Enfant + Autres personnes à charge au sens des AL

Sheet AL002
B2: =Parametres!C2 -> 0
B4: Situtation familiale des foyers bénéficiaires d'une aide au logement Enfants à charge au sens du logement | G4: Retour liste
F6: =Parametres!C4 -> 0
B7: AL002 | C7: ALF | D7: ALS | E7: APL | F7: Total
B8: Seul sans enfant à charge | C8: 9604 | D8: 2111135 | E8: 1362047 | F8: 3482786
B9: Seul avec 1 enfant à charge | C9: 233579 | D9: 30 | E9: 308706 | F9: 542315
B10: Seul avec 2 enfants à charge | C10: 164905 | D10: 0 | E10: 223824 | F10: 388729
B11: Seul avec 3 enfants à charge | C11: 66727 | D11: 1 | E11: 104583 | F11: 171311
B12: Seul avec 4 enfants à charge ou plus | C12: 33050 | D12: 0 | E12: 50599 | F12: 83649
B13: Sous total Seul | C13: 507865 | D13: 2111166 | E13: 2049759 | F13: 4668790
B14: En couple sans enfant à charge | C14: 19787 | D14: 145670 | E14: 137776 | F14: 303233
B15: En couple avec 1 enfant à charge | C15: 73750 | D15: 5 | E15: 88933 | F15: 162688
B16: En couple avec 2 enfants à charge | C16: 86821 | D16: 0 | E16: 124458 | F16: 211279
B17: En couple avec 3 enfants à charge | C17: 69536 | D17: 0 | E17: 131676 | F17: 201212
B18: En couple avec 4 enfants à charge ou plus | C18: 44709 | D18: 0 | E18: 94019 | F18: 138728
B19: Sous total en couple | C19: 294603 | D19: 145675 | E19: 576862 | F19: 1017140
B20: ENSEMBLE | C20: 802468 | D20: 2256841 | E20: 2626621 | F20: 5685930
B22: =AL000!B19 -> 0
B23: Champ : Foyers bénéficiaires d'une aide au logement
B24: * Enfant à charge au sens des AL

Sheet AL003
B2: =Parametres!C2 -> 0
B4: Tranche d'âges des titulaires de dossiers AL | G4: Retour liste
F6: =Parametres!C4 -> 0
B7: AL003 | C7: ALF | D7: ALS | E7: APL | F7: Total
B8: Moins de 20 ans | C8: 2061 | D8: 250701 | E8: 38055 | F8: 290817
B9: de 20 à 24 ans | C9: 35299 | D9: 775429 | E9: 154739 | F9: 965467
B10: de 25 à 29 ans | C10: 85099 | D10: 274917 | E10: 160474 | F10: 520490
B11: de 30 à 34 ans | C11: 124873 | D11: 108515 | E11: 210217 | F11: 443605
B12: de 35 à 39 ans | C12: 158003 | D12: 77147 | E12: 271103 | F12: 506253
B13: de 40 à 44 ans | C13: 156876 | D13: 70462 | E13: 296069 | F13: 523407
B14: de 45 à 49 ans | C14: 115669 | D14: 72506 | E14: 270897 | F14: 459072
B15: de 50 à 54 ans | C15: 71906 | D15: 94739 | E15: 255640 | F15: 422285
B16: de 55 à 59 ans | C16: 33294 | D16: 115299 | E16: 236246 | F16: 384839
B17: de 60 à 64 ans | C17: 11580 | D17: 120930 | E17: 212424 | F17: 344934
B18: de 65 à 69 ans | C18: 3999 | D18: 96435 | E18: 172265 | F18: 272699
B19: 70 ans ou plus | C19: 3470 | D19: 197628 | E19: 347648 | F19: 548746
... B21: ENSEMBLE | C21: 802468 | D21: 2256841 | E21: 2626621 | F21: 5685930
B23: =AL000!B19 -> 0
B24: Champ : Foyers bénéficiaires d'une aide au logement
B25: Tranche d'âge calculée à partir de l'âge du responsable du dossier

Sheet AL004
B2: =Parametres!C2 -> 0
B4: Bénéficiaires d'une aide au logement en cohabitation | G4: Retour liste
F6: =Parametres!C4 -> 0
B7: AL004 | C7: ALF | D7: ALS | E7: APL | F7: Total
B8: Allocataires en cohabitation | C8: 10711 | D8: 290807 | E8: 52033 | F8: 353551
B9: 2 cohabitants | C9: 9387 | D9: 160022 | E9: 43938 | F9: 213347
B10: 3 cohabitants | C10: 836 | D10: 68269 | E10: 5370 | F10: 74475
B11: 4 cohabitants | C11: 288 | D11: 39878 | E11: 1802 | F11: 41968
B12: 5 cohabitants ou plus | C12: 200 | D12: 22638 | E12: 923 | F12: 23761
B13: Allocataires n'ayant pas de cohabitant | C13: 791757 | D13: 1966034 | E13: 2574588 | F13: 5332379
B14: ENSEMBLE | C14: 802468 | D14: 2256841 | E14: 2626621 | F14: 5685930
B16: =Parametres!C6 -> 0
B17: Champ : Foyers bénéficiaires d'une aide au logement
B18: Unité : Nombre de foyers bénéficiaires d'une aide au logement

Sheet AL005
B2: =Parametres!C2 -> 0
B4: Type de logement selon la prestation AL | G4: Retour liste
F6: =Parametres!C4 -> 0
B7: AL005 | C7: ALF | D7: ALS | E7: APL | F7: Total
B8: Foyer (Ehpad, Crous, FJT …) | C8: 683 | D8: 155660 | E8: 221597 | F8: 377940
B9: Location | C9: 760614 | D9: 2081791 | E9: 2382831 | F9: 5225236
B10: Accession | C10: 40957 | D10: 18841 | E10: 21343 | F10: 81141
B11: Non renseigné | C11: 214 | D11: 549 | E11: 850 | F11: 1613
B12: ENSEMBLE | C12: 802468 | D12: 2256841 | E12: 2626621 | F12: 5685930
B14: =Parametres!C6 -> 0
B15: Champ : Foyers bénéficiaires d'une aide au logement

Sheet AL006
B2: =Parametres!C2 -> 0
B4: Foyers bénéficiaires d'une aide au logement en tiers payant | G4: Retour liste
F6: =Parametres!C4 -> 0
B7: AL006 | C7: ALF | D7: ALS | E7: APL | F7: Total
B8: Situation des bailleurs | C8: 802468 | D8: 2256841 | E8: 2626621 | F8: 5685930
B9: Avec tiers payant | C9: 443732 | D9: 878841 | E9: 2578860 | F9: 3901433
B10: Sans tiers payant | C10: 358736 | D10: 1378000 | E10: 47761 | F10: 1784497
B12: =AL000!B19 -> 0
B13: Champ : Foyers bénéficiaires d'une aide au logement

Sheet AL007
B2: =Parametres!C2 -> 0
B4: Mesure d'abattement (et/ou) de neutralisation de ressources des bénéficiaires AL | G4: Retour liste
F6: =Parametres!C4 -> 0
B7: AL007 | C7: ALF | D7: ALS | E7: APL | F7: Total
B8: Foyers bénéfciaires AL bénéficiant d'au moins une mesure | C8: 235554 | D8: 282257 | E8: 635315 | F8: 1153126
B9: Isolé bénéficiant d'un abattement de ressources | C9: 39252 | D9: 102711 | E9: 148800 | F9: 290763
B10: Isolé bénéficiant d'une neutralisation de ressources | C10: 84574 | D10: 153270 | E10: 281765 | F10: 519609
B11: Couple avec un abattement | C11: 29116 | D11: 9312 | E11: 56556 | F11: 94984
B12: Couple avec une neutralisation | C12: 63606 | D12: 12035 | E12: 116291 | F12: 191932
B13: Couple avec deux abattements | C13: 1954 | D13: 627 | E13: 3103 | F13: 5684
B14: Couple avec deux neutralisations | C14: 11324 | D14: 2789 | E14: 18472 | F14: 32585
B15: Couple avec un abattement et une neutralisation | C15: 5728 | D15: 1513 | E15: 10328 | F15: 17569
B16: Sans abattement et sans neutralisation | C16: 566914 | D16: 1974584 | E16: 1991306 | F16: 4532804
B17: =Parametres!C6 -> 0
B18: Champ : Foyers bénéficiaires d'une aide au logement
B19: Unité : Nombre de foyers bénéficiaires d'une mesure d'abattement et/ou de neutralisation

Sheet AL008
B2: =Parametres!C2 -> 0
B4: Ancienneté de la signature du prêt en accession pour les bénéficiaires AL | G4: Retour liste
F6: =Parametres!C4 -> 0
B7: AL008 | C7: ALF | D7: ALS | E7: APL | F7: Total
B8: Ancienneté de la signature du prêt en accession
B9: 20 ans et plus | C9: 878 | D9: 655 | E9: 392 | F9: 1925
B10: 19 ans | C10: 1647 | D10: 1120 | E10: 671 | F10: 3438
B11: 18 ans | C11: 2082 | D11: 1259 | E11: 742 | F11: 4083
B12: 17 ans | C12: 2235 | D12: 1198 | E12: 811 | F12: 4244
B13: 16 ans | C13: 2160 | D13: 1109 | E13: 1275 | F13: 4544
B14: 15 ans | C14: 3090 | D14: 1587 | E14: 1979 | F14: 6656
B15: 14 ans | C15: 3105 | D15: 1420 | E15: 1671 | F15: 6196
B16: 13 ans | C16: 2573 | D16: 1215 | E16: 1394 | F16: 5182
B17: 12 ans | C17: 3073 | D17: 1281 | E17: 1651 | F17: 6005
B18: 11 ans | C18: 2995 | D18: 1316 | E18: 1707 | F18: 6018
B19: 10 ans | C19: 4223 | D19: 1606 | E19: 1892 | F19: 7721
B20: 9 ans | C20: 5018 | D20: 1676 | E20: 2436 | F20: 9130
... B30: Ensemble | C30: 40027 | D30: 17902 | E30: 20928 | F30: 78857
B32: =Parametres!C6 -> 0
B33: Champ : Foyers bénéficiaires d'une aide au logement
B34: Unité : Nombre de foyers bénéficiaires d'une aide au logement en accession

Sheet AL101
B2: =Parametres!C2 -> 0
B4: Type de logement selon la situation familiale AL - Personnes à charge | P4: Retour liste
O6: =Parametres!$C$4 -> 0
B7: AL101 | C7: Seuls | H7: Total Seul | I7: Couples | N7: Total En couple | O7: Ensemble
C8: Personne(s) à charge | I8: Personne(s) à charge
C9: 0 | D9: 1 | E9: 2 | F9: 3 | G9: 4 ou plus | I9: 0 | J9: 1 | K9: 2 | L9: 3 | M9: 4 ou plus
B10: Foyer (Ehpad, Crous, FJT …) | C10: 356608 | D10: 4372 | E10: 1635 | F10: 541 | G10: 197 | H10: 363353 | I10: 12150 | J10: 1004 | K10: 662 | L10: 442 | M10: 329 | N10: 14587 | O10: 377940
B11: Location | C11: 3080640 | D11: 544820 | E11: 381761 | F11: 168492 | G11: 83181 | H11: 4258894 | I11: 280569 | J11: 159748 | K11: 201959 | L11: 190877 | M11: 133189 | N11: 966342 | O11: 5225236
B12: Accession | C12: 19624 | D12: 12038 | E12: 8683 | F12: 3545 | G12: 1254 | H12: 45144 | I12: 4006 | J12: 5202 | K12: 9469 | L12: 10582 | M12: 6738 | N12: 35997 | O12: 81141
B13: Non renseigné | C13: 1391 | D13: 0 | E13: 6 | F13: 1 | G13: 1 | H13: 1399 | I13: 213 | J13: 0 | K13: 1 | L13: 0 | M13: 0 | N13: 214 | O13: 1613
B14: ENSEMBLE | C14: 3458263 | D14: 561230 | E14: 392085 | F14: 172579 | G14: 84633 | H14: 4668790 | I14: 296938 | J14: 165954 | K14: 212091 | L14: 201901 | M14: 140256 | N14: 1017140 | O14: 5685930
B15: =Parametres!C6 -> 0
B16: Champ : Foyers bénéficiaires d'une aide au logement
B17: Unité : Nombre de foyers bénéficiaires d'une aide au logement
B18: Personne à charge : Enfant + Autres personnes à charge au sens des AL
B20: AL101 ALF | C20: Seuls | H20: Total Seul | I20: Couples | N20: Total En couple | O20: Ensemble
C21: Personne(s) à charge | I21: Personne(s) à charge
C22: 0 | D22: 1 | E22: 2 | F22: 3 | G22: 4 ou plus | I22: 0 | J22: 1 | K22: 2 | L22: 3 | M22: 4 ou plus
B23: Foyer (Ehpad, Crous, FJT …) ALF | C23: 25 | D23: 319 | E23: 106 | F23: 36 | G23: 10 | H23: 496 | I23: 76 | J23: 51 | K23: 33 | L23: 12 | M23: 15 | N23: 187 | O23: 683
B24: Location ALF | C24: 2883 | D24: 228501 | E24: 159140 | F24: 64570 | G24: 32565 | H24: 487659 | I24: 17971 | J24: 70536 | K24: 80223 | L24: 62933 | M24: 41292 | N24: 272955 | O24: 760614
B25: Accession ALF | C25: 33 | D25: 9704 | E25: 6584 | F25: 2458 | G25: 783 | H25: 19562 | I25: 118 | J25: 3905 | K25: 6729 | L25: 6818 | M25: 3825 | N25: 21395 | O25: 40957
B26: Non renseigné ALF | C26: 145 | D26: 0 | E26: 2 | F26: 0 | G26: 1 | H26: 148 | I26: 66 | J26: 0 | K26: 0 | L26: 0 | M26: 0 | N26: 66 | O26: 214
B27: ENSEMBLE ALF | C27: 3086 | D27: 238524 | E27: 165832 | F27: 67064 | G27: 33359 | H27: 507865 | I27: 18231 | J27: 74492 | K27: 86985 | L27: 69763 | M27: 45132 | N27: 294603 | O27: 802468
B29: AL101 ALS | C29: Seuls | H29: Total Seul | I29: Couples | N29: Total En couple | O29: Ensemble
C30: Personne(s) à charge | I30: Personne(s) à charge
C31: 0 | D31: 1 | E31: 2 | F31: 3 | G31: 4 ou plus | I31: 0 | J31: 1 | K31: 2 | L31: 3 | M31: 4 ou plus
B32: Foyer (Ehpad, Crous, FJT …) ALS | C32: 150815 | D32: 2 | E32: 0 | F32: 0 | G32: 0 | H32: 150817 | I32: 4843 | J32: 0 | K32: 0 | L32: 0 | M32: 0 | N32: 4843 | O32: 155660
B33: Location ALS | C33: 1944000 | D33: 4 | E33: 24 | F33: 0 | G33: 0 | H33: 1944028 | I33: 137758 | J33: 1 | K33: 4 | L33: 0 | M33: 0 | N33: 137763 | O33: 2081791
B34: Accession ALS | C34: 15815 | D34: 0 | E34: 0 | F34: 1 | G34: 0 | H34: 15816 | I34: 3025 | J34: 0 | K34: 0 | L34: 0 | M34: 0 | N34: 3025 | O34: 18841
B35: Non renseigné ALS | C35: 505 | D35: 0 | E35: 0 | F35: 0 | G35: 0 | H35: 505 | I35: 44 | J35: 0 | K35: 0 | L35: 0 | M35: 0 | N35: 44 | O35: 549
B36: ENSEMBLE ALS | C36: 2111135 | D36: 6 | E36: 24 | F36: 1 | G36: 0 | H36: 2111166 | I36: 145670 | J36: 1 | K36: 4 | L36: 0 | M36: 0 | N36: 145675 | O36: 2256841
B38: AL101 APL | C38: Seuls | H38: Total Seul | I38: Couples | N38: Total En couple | O38: Ensemble
C39: Personne(s) à charge | I39: Personne(s) à charge
C40: 0 | D40: 1 | E40: 2 | F40: 3 | G40: 4 ou plus | I40: 0 | J40: 1 | K40: 2 | L40: 3 | M40: 4 ou plus
B41: Foyer (Ehpad, Crous, FJT …) APL | C41: 205768 | D41: 4051 | E41: 1529 | F41: 505 | G41: 187 | H41: 212040 | I41: 7231 | J41: 953 | K41: 629 | L41: 430 | M41: 314 | N41: 9557 | O41: 221597
B42: Location APL | C42: 1133757 | D42: 316315 | E42: 222597 | F42: 103922 | G42: 50616 | H42: 1827207 | I42: 124840 | J42: 89211 | K42: 121732 | L42: 127944 | M42: 91897 | N42: 555624 | O42: 2382831
B43: Accession APL | C43: 3776 | D43: 2334 | E43: 2099 | F43: 1086 | G43: 471 | H43: 9766 | I43: 863 | J43: 1297 | K43: 2740 | L43: 3764 | M43: 2913 | N43: 11577 | O43: 21343
B44: Non renseigné APL | C44: 741 | D44: 0 | E44: 4 | F44: 1 | G44: 0 | H44: 746 | I44: 103 | J44: 0 | K44: 1 | L44: 0 | M44: 0 | N44: 104 | O44: 850
B45: ENSEMBLE APL | C45: 1344042 | D45: 322700 | E45: 226229 | F45: 105514 | G45: 51274 | H45: 2049759 | I45: 133037 | J45: 91461 | K45: 125102 | L45: 132138 | M45: 95124 | N45: 576862 | O45: 2626621

Sheet AL102
B2: =Parametres!C2 -> 0
B4: Type de logement selon la situation familiale AL - Enfants à charge | P4: Retour liste
O6: =Parametres!$C$4 -> 0
B7: AL102 | C7: Seul | H7: Total Seul | I7: En couple | N7: Total En couple | O7: Ensemble
C8: Enfant(s) à charge* | I8: Enfant(s) à charge*
C9: 0 | D9: 1 | E9: 2 | F9: 3 | G9: 4 ou plus | I9: 0 | J9: 1 | K9: 2 | L9: 3 | M9: 4 ou plus
B10: Foyer (Ehpad, Crous, FJT …) | C10: 356713 | D10: 4286 | E10: 1620 | F10: 537 | G10: 197 | H10: 363353 | I10: 12161 | J10: 997 | K10: 659 | L10: 442 | M10: 328 | N10: 14587 | O10: 377940
B11: Location | C11: 3104557 | D11: 526298 | E11: 378526 | F11: 167287 | G11: 82226 | H11: 4258894 | I11: 286623 | J11: 156510 | K11: 201153 | L11: 190265 | M11: 131791 | N11: 966342 | O11: 5225236
B12: Accession | C12: 20125 | D12: 11728 | E12: 8579 | F12: 3486 | G12: 1226 | H12: 45144 | I12: 4236 | J12: 5181 | K12: 9466 | L12: 10505 | M12: 6609 | N12: 35997 | O12: 81141
B13: Non renseigné | C13: 1391 | D13: 3 | E13: 4 | F13: 1 | G13: 0 | H13: 1399 | I13: 213 | J13: 0 | K13: 1 | L13: 0 | M13: 0 | N13: 214 | O13: 1613
B14: ENSEMBLE | C14: 3482786 | D14: 542315 | E14: 388729 | F14: 171311 | G14: 83649 | H14: 4668790 | I14: 303233 | J14: 162688 | K14: 211279 | L14: 201212 | M14: 138728 | N14: 1017140 | O14: 5685930
B15: =Parametres!C6 -> 0
B16: Champ : Foyers bénéficiaires d'une aide au logement
B17: Unité : Nombre de foyers bénéficiaires d'une aide au logement
B18: *Enfant(s) à charge au sens des AL
B20: AL102 ALF | C20: Seul | H20: Total Seul | I20: En couple | N20: Total En couple | O20: Ensemble
C21: Enfant(s) à charge* | I21: Enfant(s) à charge*
C22: 0 | D22: 1 | E22: 2 | F22: 3 | G22: 4 ou plus | I22: 0 | J22: 1 | K22: 2 | L22: 3 | M22: 4 ou plus
B23: Foyer (Ehpad, Crous, FJT …) ALF | C23: 50 | D23: 296 | E23: 104 | F23: 36 | G23: 10 | H23: 496 | I23: 79 | J23: 49 | K23: 32 | L23: 12 | M23: 15 | N23: 187 | O23: 683
B24: Location ALF | C24: 9009 | D24: 223803 | E24: 158298 | F24: 64272 | G24: 32277 | H24: 487659 | I24: 19357 | J24: 69832 | K24: 80075 | L24: 62750 | M24: 40941 | N24: 272955 | O24: 760614
B25: Accession ALF | C25: 400 | D25: 9479 | E25: 6501 | F25: 2419 | G25: 763 | H25: 19562 | I25: 285 | J25: 3869 | K25: 6714 | L25: 6774 | M25: 3753 | N25: 21395 | O25: 40957
B26: Non renseigné ALF | C26: 145 | D26: 1 | E26: 2 | F26: 0 | G26: 0 | H26: 148 | I26: 66 | J26: 0 | K26: 0 | L26: 0 | M26: 0 | N26: 66 | O26: 214
B27: ENSEMBLE ALF | C27: 9604 | D27: 233579 | E27: 164905 | F27: 66727 | G27: 33050 | H27: 507865 | I27: 19787 | J27: 73750 | K27: 86821 | L27: 69536 | M27: 44709 | N27: 294603 | O27: 802468
B29: AL102 ALS | C29: Seul | H29: Total Seul | I29: En couple | N29: Total En couple | O29: Ensemble
C30: Enfant(s) à charge* | I30: Enfant(s) à charge*
C31: 0 | D31: 1 | E31: 2 | F31: 3 | G31: 4 ou plus | I31: 0 | J31: 1 | K31: 2 | L31: 3 | M31: 4 ou plus
B32: Foyer (Ehpad, Crous, FJT …) ALS | C32: 150815 | D32: 2 | E32: 0 | F32: 0 | G32: 0 | H32: 150817 | I32: 4843 | J32: 0 | K32: 0 | L32: 0 | M32: 0 | N32: 4843 | O32: 155660
B33: Location ALS | C33: 1944000 | D33: 28 | E33: 0 | F33: 0 | G33: 0 | H33: 1944028 | I33: 137758 | J33: 5 | K33: 0 | L33: 0 | M33: 0 | N33: 137763 | O33: 2081791
B34: Accession ALS | C34: 15815 | D34: 0 | E34: 0 | F34: 1 | G34: 0 | H34: 15816 | I34: 3025 | J34: 0 | K34: 0 | L34: 0 | M34: 0 | N34: 3025 | O34: 18841
B35: Non renseigné ALS | C35: 505 | D35: 0 | E35: 0 | F35: 0 | G35: 0 | H35: 505 | I35: 44 | J35: 0 | K35: 0 | L35: 0 | M35: 0 | N35: 44 | O35: 549
B36: ENSEMBLE ALS | C36: 2111135 | D36: 30 | E36: 0 | F36: 1 | G36: 0 | H36: 2111166 | I36: 145670 | J36: 5 | K36: 0 | L36: 0 | M36: 0 | N36: 145675 | O36: 2256841
B38: AL102 APL | C38: Seul | H38: Total Seul | I38: En couple | N38: Total En couple | O38: Ensemble
C39: Enfant(s) à charge* | I39: Enfant(s) à charge*
C40: 0 | D40: 1 | E40: 2 | F40: 3 | G40: 4 ou plus | I40: 0 | J40: 1 | K40: 2 | L40: 3 | M40: 4 ou plus
B41: Foyer (Ehpad, Crous, FJT …) APL | C41: 205848 | D41: 3988 | E41: 1516 | F41: 501 | G41: 187 | H41: 212040 | I41: 7239 | J41: 948 | K41: 627 | L41: 430 | M41: 313 | N41: 9557 | O41: 221597
B42: Location APL | C42: 1151548 | D42: 302467 | E42: 220228 | F42: 103015 | G42: 49949 | H42: 1827207 | I42: 129508 | J42: 86673 | K42: 121078 | L42: 127515 | M42: 90850 | N42: 555624 | O42: 2382831
B43: Accession APL | C43: 3910 | D43: 2249 | E43: 2078 | F43: 1066 | G43: 463 | H43: 9766 | I43: 926 | J43: 1312 | K43: 2752 | L43: 3731 | M43: 2856 | N43: 11577 | O43: 21343
B44: Non renseigné APL | C44: 741 | D44: 2 | E44: 2 | F44: 1 | G44: 0 | H44: 746 | I44: 103 | J44: 0 | K44: 1 | L44: 0 | M44: 0 | N44: 104 | O44: 850
B45: ENSEMBLE APL | C45: 1362047 | D45: 308706 | E45: 223824 | F45: 104583 | G45: 50599 | H45: 2049759 | I45: 137776 | J45: 88933 | K45: 124458 | L45: 131676 | M45: 94019 | N45: 576862 | O45: 2626621

Sheet AL103
B2: =Parametres!C2 -> 0
B4: Type de logement selon la tranche d'âge du responsable du dossier AL | Q4: Retour liste
P6: =Parametres!C4 -> 0
B7: AL103 | C7: Tranches d'âges des titulaires AL du dossier | P7: Total
C8: Moins de 20 ans | D8: De 20 à 24 ans | E8: De 25 à 29 ans | F8: De 30 à 34 ans | G8: De 35 à 39 ans | H8: De 40 à 44 ans | I8: De 45 à 49 ans | J8: De 50 à 54 ans | K8: De 55 à 59 ans | L8: De 60 à 64 ans | M8: De 65 à 69 ans | N8: 70 ans ou plus | O8: Inc. Ou aberrant
B10: Foyer (Ehpad, Crous, FJT …) | C10: 21585 | D10: 62392 | E10: 30207 | F10: 17567 | G10: 15038 | H10: 14827 | I10: 14620 | J10: 18492 | K10: 21583 | L10: 25210 | M10: 25003 | N10: 111016 | O10: 400 | P10: 377940
B11: Location | C11: 269119 | D11: 902629 | E11: 489834 | F11: 423375 | G11: 481272 | H11: 490783 | I11: 426232 | J11: 389401 | K11: 353831 | L11: 314274 | M11: 245286 | N11: 436370 | O11: 2830 | P11: 5225236
B12: Accession | C12: 0 | D12: 3 | E12: 162 | F12: 2458 | G12: 9844 | H12: 17695 | I12: 18157 | J12: 14329 | K12: 9370 | L12: 5412 | M12: 2383 | N12: 1327 | O12: 1 | P12: 81141
B13: Non renseigné | C13: 113 | D13: 443 | E13: 287 | F13: 205 | G13: 99 | H13: 102 | I13: 63 | J13: 63 | K13: 55 | L13: 38 | M13: 27 | N13: 33 | O13: 85 | P13: 1613
B14: ENSEMBLE | C14: 290817 | D14: 965467 | E14: 520490 | F14: 443605 | G14: 506253 | H14: 523407 | I14: 459072 | J14: 422285 | K14: 384839 | L14: 344934 | M14: 272699 | N14: 548746 | O14: 3316 | P14: 5685930
B15: =Parametres!C6 -> 0
B16: Champ : Titulaires de dossier d'une aide au logement
B17: Unité : Nombre de foyers bénéficiaires d'une aide au logement
B19: AL103 ALF | C19: Tranches d'âges des titulaires AL du dossier | P19: Total
C20: Moins de 20 ans | D20: De 20 à 24 ans | E20: De 25 à 29 ans | F20: De 30 à 34 ans | G20: De 35 à 39 ans | H20: De 40 à 44 ans | I20: De 45 à 49 ans | J20: De 50 à 54 ans | K20: De 55 à 59 ans | L20: De 60 à 64 ans | M20: De 65 à 69 ans | N20: 70 ans ou plus | O20: Inc. Ou aberrant
B22: Foyer (Ehpad, Crous, FJT …) ALF | C22: 46 | D22: 138 | E22: 93 | F22: 84 | G22: 92 | H22: 60 | I22: 53 | J22: 47 | K22: 25 | L22: 4 | M22: 11 | N22: 30 | O22: 0 | P22: 683
B23: Location ALF | C23: 2013 | D23: 35133 | E23: 84875 | F23: 123175 | G23: 151720 | H23: 145719 | I23: 104968 | J23: 64786 | K23: 30163 | L23: 10636 | M23: 3732 | N23: 3361 | O23: 333 | P23: 760614
B24: Accession ALF | C24: 0 | D24: 3 | E24: 91 | F24: 1559 | G24: 6157 | H24: 11078 | I24: 10635 | J24: 7060 | K24: 3102 | L24: 937 | M24: 256 | N24: 79 | O24: 0 | P24: 40957
B25: Non renseigné ALF | C25: 2 | D25: 25 | E25: 40 | F25: 55 | G25: 34 | H25: 19 | I25: 13 | J25: 13 | K25: 4 | L25: 3 | M25: 0 | N25: 0 | O25: 6 | P25: 214
B26: ENSEMBLE ALF | C26: 2061 | D26: 35299 | E26: 85099 | F26: 124873 | G26: 158003 | H26: 156876 | I26: 115669 | J26: 71906 | K26: 33294 | L26: 11580 | M26: 3999 | N26: 3470 | O26: 339 | P26: 802468
B28: AL103 ALS | C28: Tranches d'âges des titulaires AL du dossier | P28: Total
C29: Moins de 20 ans | D29: De 20 à 24 ans | E29: De 25 à 29 ans | F29: De 30 à 34 ans | G29: De 35 à 39 ans | H29: De 40 à 44 ans | I29: De 45 à 49 ans | J29: De 50 à 54 ans | K29: De 55 à 59 ans | L29: De 60 à 64 ans | M29: De 65 à 69 ans | N29: 70 ans ou plus | O29: Inc. Ou aberrant
B31: Foyer (Ehpad, Crous, FJT …) ALS | C31: 13125 | D31: 35569 | E31: 11526 | F31: 5000 | G31: 4171 | H31: 4194 | I31: 4232 | J31: 5629 | K31: 7124 | L31: 9110 | M31: 9694 | N31: 46154 | O31: 132 | P31: 155660
B32: Location ALS | C32: 237522 | D32: 739641 | E32: 263265 | F32: 103174 | G32: 72042 | H32: 64581 | I32: 65883 | J32: 85555 | K32: 104162 | L32: 108488 | M32: 85040 | N32: 150478 | O32: 1960 | P32: 2081791
B33: Accession ALS | C33: 0 | D33: 0 | E33: 33 | F33: 296 | G33: 920 | H33: 1679 | I33: 2380 | J33: 3541 | K33: 3996 | L33: 3322 | M33: 1688 | N33: 986 | O33: 0 | P33: 18841
B34: Non renseigné ALS | C34: 54 | D34: 219 | E34: 93 | F34: 45 | G34: 14 | H34: 8 | I34: 11 | J34: 14 | K34: 17 | L34: 10 | M34: 13 | N34: 10 | O34: 41 | P34: 549
B35: ENSEMBLE ALS | C35: 250701 | D35: 775429 | E35: 274917 | F35: 108515 | G35: 77147 | H35: 70462 | I35: 72506 | J35: 94739 | K35: 115299 | L35: 120930 | M35: 96435 | N35: 197628 | O35: 2133 | P35: 2256841
B37: AL103 APL | C37: Tranches d'âges des titulaires AL du dossier | P37: Total
C38: Moins de 20 ans | D38: De 20 à 24 ans | E38: De 25 à 29 ans | F38: De 30 à 34 ans | G38: De 35 à 39 ans | H38: De 40 à 44 ans | I38: De 45 à 49 ans | J38: De 50 à 54 ans | K38: De 55 à 59 ans | L38: De 60 à 64 ans | M38: De 65 à 69 ans | N38: 70 ans ou plus | O38: Inc. Ou aberrant
B40: Foyer (Ehpad, Crous, FJT …) APL | C40: 8414 | D40: 26685 | E40: 18588 | F40: 12483 | G40: 10775 | H40: 10573 | I40: 10335 | J40: 12816 | K40: 14434 | L40: 16096 | M40: 15298 | N40: 64832 | O40: 268 | P40: 221597
B41: Location APL | C41: 29584 | D41: 127855 | E41: 141694 | F41: 197026 | G41: 257510 | H41: 280483 | I41: 255381 | J41: 239060 | K41: 219506 | L41: 195150 | M41: 156514 | N41: 282531 | O41: 537 | P41: 2382831
B42: Accession APL | C42: 0 | D42: 0 | E42: 38 | F42: 603 | G42: 2767 | H42: 4938 | I42: 5142 | J42: 3728 | K42: 2272 | L42: 1153 | M42: 439 | N42: 262 | O42: 1 | P42: 21343
B43: Non renseigné APL | C43: 57 | D43: 199 | E43: 154 | F43: 105 | G43: 51 | H43: 75 | I43: 39 | J43: 36 | K43: 34 | L43: 25 | M43: 14 | N43: 23 | O43: 38 | P43: 850
B44: ENSEMBLE APL | C44: 38055 | D44: 154739 | E44: 160474 | F44: 210217 | G44: 271103 | H44: 296069 | I44: 270897 | J44: 255640 | K44: 236246 | L44: 212424 | M44: 172265 | N44: 347648 | O44: 844 | P44: 2626621

Sheet AL104
B2: =Parametres!C2 -> 0
B4: Type de logement selon la zone géographique | H4: Retour liste
G6: =Parametres!C4 -> 0
B7: AL104 | C7: Zones géographiques | G7: Total
C8: Zone 1 | D8: Zone 2 et 9 (Dom) | E8: Zone 3 | F8: Non renseigné
B10: Foyer (Ehpad, Crous, FJT …) | C10: 64775 | D10: 158762 | E10: 154403 | F10: 0 | G10: 377940
B11: Location | C11: 933058 | D11: 2654670 | E11: 1637508 | F11: 0 | G11: 5225236
B12: Accession | C12: 11184 | D12: 26592 | E12: 43365 | F12: 0 | G12: 81141
B13: Non renseigné | C13: 3 | D13: 3 | E13: 5 | F13: 1602 | G13: 1613
B14: ENSEMBLE | C14: 1009020 | D14: 2840027 | E14: 1835281 | F14: 1602 | G14: 5685930
B15: =Parametres!C6 -> 0
B16: Champ : Foyers bénéficiaires d'une aide au logement
B17: Unité : Nombre de foyers bénéficiaires d'une aide au logement
B18: Zone 1 : agglomération parisienne et villes nouvelles situées en région Île-de-France
B19: Zone 2 : autres communes d'Ile-de France, agglomérations de plus de 100 000 habitants de province, villes nouvelles de province, Corse et Dom
B20: Zone 3 : le reste du territoire métropolitain
B22: AL104 ALF | C22: Zones géographiques ALF | G22: Total
C23: Zone 1 | D23: Zone 2 et 9 (Dom) | E23: Zone 3 | F23: Non renseigné
B25: Foyer (Ehpad, Crous, FJT …) ALF | C25: 173 | D25: 348 | E25: 162 | F25: 0 | G25: 683
B26: Location ALF | C26: 109757 | D26: 334558 | E26: 316299 | F26: 0 | G26: 760614
B27: Accession ALF | C27: 6311 | D27: 13256 | E27: 21390 | F27: 0 | G27: 40957
B28: Non renseigné ALF | C28: 0 | D28: 1 | E28: 0 | F28: 213 | G28: 214
B29: ENSEMBLE ALF | C29: 116241 | D29: 348163 | E29: 337851 | F29: 213 | G29: 802468
B31: AL104 ALS | C31: Zones géographiques ALS | G31: Total
C32: Zone 1 | D32: Zone 2 et 9 (Dom) | E32: Zone 3 | F32: Non renseigné
B34: Foyer (Ehpad, Crous, FJT …) ALS | C34: 14180 | D34: 73086 | E34: 68394 | F34: 0 | G34: 155660
B35: Location ALS | C35: 336117 | D35: 1181755 | E35: 563919 | F35: 0 | G35: 2081791
B36: Accession ALS | C36: 1869 | D36: 7257 | E36: 9715 | F36: 0 | G36: 18841
B37: Non renseigné ALS | C37: 0 | D37: 1 | E37: 0 | F37: 548 | G37: 549
B38: ENSEMBLE ALS | C38: 352166 | D38: 1262099 | E38: 642028 | F38: 548 | G38: 2256841
B40: AL104 APL | C40: Zones géographiques APL | G40: Total
C41: Zone 1 | D41: Zone 2 et 9 (Dom) | E41: Zone 3 | F41: Non renseigné
B43: Foyer (Ehpad, Crous, FJT …) APL | C43: 50422 | D43: 85328 | E43: 85847 | F43: 0 | G43: 221597
B44: Location APL | C44: 487184 | D44: 1138357 | E44: 757290 | F44: 0 | G44: 2382831
B45: Accession APL | C45: 3004 | D45: 6079 | E45: 12260 | F45: 0 | G45: 21343
B46: Non renseigné APL | C46: 3 | D46: 1 | E46: 5 | F46: 841 | G46: 850
B47: ENSEMBLE APL | C47: 540613 | D47: 1229765 | E47: 855402 | F47: 841 | G47: 2626621

Sheet AL105
B2: =Parametres!C2 -> 0
B4: Type de logement selon le parc (public/privé) | F4: Retour liste
E6: =Parametres!C4 -> 0
B7: AL105 | C7: Type de parc selon le bailleur | E7: Total
C8: Privé | D8: Public (social)
B10: Foyer (Ehpad, Crous, FJT …) | C10: 333403 | D10: 44537 | E10: 377940
B11: Location | C11: 2815438 | D11: 2409798 | E11: 5225236
B12: Accession | C12: 80655 | D12: 486 | E12: 81141
B13: Non renseigné | C13: 1608 | D13: 5 | E13: 1613
B14: ENSEMBLE | C14: 3231104 | D14: 2454826 | E14: 5685930
B15: =Parametres!C6 -> 0
B16: Champ : Foyers bénéficiaires d'une aide au logement
B17: Unité : Nombre de foyers bénéficiaires d'une aide au logement
B19: AL105 ALF | C19: Type de parc selon le bailleur ALF | E19: Total
C20: Privé | D20: Public (social)
B22: Foyer (Ehpad, Crous, FJT …) ALF | C22: 605 | D22: 78 | E22: 683
B23: Location ALF | C23: 651486 | D23: 109128 | E23: 760614
B24: Accession ALF | C24: 40951 | D24: 6 | E24: 40957
B25: Non renseigné ALF | C25: 213 | D25: 1 | E25: 214
B26: ENSEMBLE ALF | C26: 693255 | D26: 109213 | E26: 802468
B28: AL105 ALS | C28: Type de parc selon le bailleur ALS | E28: Total
C29: Privé | D29: Public (social)
B31: Foyer (Ehpad, Crous, FJT …) ALS | C31: 155453 | D31: 207 | E31: 155660
B32: Location ALS | C32: 1989019 | D32: 92772 | E32: 2081791
B33: Accession ALS | C33: 18837 | D33: 4 | E33: 18841
B34: Non renseigné ALS | C34: 548 | D34: 1 | E34: 549
B35: ENSEMBLE ALS | C35: 2163857 | D35: 92984 | E35: 2256841
B37: AL105 APL | C37: Type de parc selon le bailleur APL | E37: Total
C38: Privé | D38: Public (social)
B40: Foyer (Ehpad, Crous, FJT …) APL | C40: 177345 | D40: 44252 | E40: 221597
B41: Location APL | C41: 174933 | D41: 2207898 | E41: 2382831
B42: Accession APL | C42: 20867 | D42: 476 | E42: 21343
B43: Non renseigné APL | C43: 847 | D43: 3 | E43: 850
B44: ENSEMBLE APL | C44: 373992 | D44: 2252629 | E44: 2626621

Sheet AL106
B2: =Parametres!C2 -> 0
B4: Type de logement et prestations versables | I4: Retour liste
H5: =Parametres!C4 -> 0
B6: AL106 | C6: Foyers bénéficiaires d'une aide au logement avec des prestations…
C7: AL seule | D7: PAJE | E7: Enfance | F7: Handicap dépendance | G7: Minima sociaux | H7: Prestations internationales
B9: Foyer (Ehpad, Crous, FJT …) | C9: 216987 | D9: 3542 | E9: 6745 | F9: 117587 | G9: 57877 | H9: 13
B10: Location | C10: 2171744 | D10: 417411 | E10: 1603560 | F10: 746936 | G10: 2077015 | H10: 2628
B11: Accession | C11: 11510 | D11: 4559 | E11: 52356 | F11: 16416 | G11: 39261 | H11: 140
B12: Non renseigné | C12: 775 | D12: 156 | E12: 316 | F12: 152 | G12: 665 | H12: 0
B13: ENSEMBLE | C13: 2401016 | D13: 425668 | E13: 1662977 | F13: 881091 | G13: 2174818 | H13: 2781
B14: =Parametres!C6 -> 0
B15: Champ : Foyers bénéficiaires d'une aide au logement
B16: Unité : Nombre de foyers bénéficiaires d'une aide au logement
B17: Note : Un foyer peut bénéficier de plusieurs prestations et donc être présent sur plusieurs lignes
B19: AL106 ALF | C19: Foyers bénéficiaires de l'ALF avec des prestations…
C20: AL seule | D20: PAJE | E20: Enfance | F20: Handicap dépendance | G20: Minima sociaux | H20: Prestations internationales
B22: Foyer (Ehpad, Crous, FJT …) ALF | C22: 93 | D22: 253 | E22: 424 | F22: 160 | G22: 383 | H22: 0
B23: Location ALF | C23: 29433 | D23: 186084 | E23: 624028 | F23: 100493 | G23: 508534 | H23: 988
B24: Accession ALF | C24: 1489 | D24: 3209 | E24: 36807 | F24: 6870 | G24: 21903 | H24: 96
B25: Non renseigné ALF | C25: 21 | D25: 67 | E25: 148 | F25: 29 | G25: 152 | H25: 0
B26: ENSEMBLE ALF | C26: 31036 | D26: 189613 | E26: 661407 | F26: 107552 | G26: 530972 | H26: 1084
B28: AL106 ALS | C28: Foyers bénéficiaires de l'ALS avec des prestations…
C29: AL seule | D29: PAJE | E29: Enfance | F29: Handicap dépendance | G29: Minima sociaux | H29: Prestations internationales
B31: Foyer (Ehpad, Crous, FJT …) ALS | C31: 101838 | D31: 2 | E31: 4 | F31: 52014 | G31: 8163 | H31: 0
B32: Location ALS | C32: 1391070 | D32: 47 | E32: 2539 | F32: 195777 | G32: 512241 | H32: 14
B33: Accession ALS | C33: 7831 | D33: 1 | E33: 172 | F33: 4403 | G33: 7176 | H33: 0
B34: Non renseigné ALS | C34: 396 | D34: 0 | E34: 1 | F34: 35 | G34: 121 | H34: 0
B35: ENSEMBLE ALS | C35: 1501135 | D35: 50 | E35: 2716 | F35: 252229 | G35: 527701 | H35: 14
B37: AL106 APL | C37: Foyers bénéficiaires de l'APL avec des prestations…
C38: AL seule | D38: PAJE | E38: Enfance | F38: Handicap dépendance | G38: Minima sociaux | H38: Prestations internationales
B40: Foyer (Ehpad, Crous, FJT …) APL | C40: 115056 | D40: 3287 | E40: 6317 | F40: 65413 | G40: 49331 | H40: 13
B41: Location APL | C41: 751241 | D41: 231280 | E41: 976993 | F41: 450666 | G41: 1056240 | H41: 1626
B42: Accession APL | C42: 2190 | D42: 1349 | E42: 15377 | F42: 5143 | G42: 10182 | H42: 44
B43: Non renseigné APL | C43: 358 | D43: 89 | E43: 167 | F43: 88 | G43: 392 | H43: 0
B44: ENSEMBLE APL | C44: 868845 | D44: 236005 | E44: 998854 | F44: 521310 | G44: 1116145 | H44: 1683

Sheet AL107
B2: =Parametres!C2 -> 0
B4: Type de logement selon le Ratio loyer / Loyer plafond | J4: Retour liste
I6: =Parametres!C4 -> 0
B7: AL107 | C7: Part du loyer par rapport au plafond | I7: Total
C8: Inférieur à 50% | D8: De 50 à 100% | E8: De 100 à 150% | F8: De 150 à 200% | G8: Supérieur à 200% | H8: Autre*
B10: Foyer (Ehpad, Crous, FJT …) | C10: 158 | D10: 96231 | E10: 126058 | F10: 25053 | G10: 130438 | H10: 2 | I10: 377940
B11: Location | C11: 0 | D11: 1189465 | E11: 2444864 | F11: 1149975 | G11: 440897 | H11: 35 | I11: 5225236
B12: Accession | C12: 0 | D12: 1926 | E12: 5916 | F12: 5108 | G12: 5194 | H12: 62997 | I12: 81141
B13: Non renseigné | C13: 0 | D13: 0 | E13: 3 | F13: 1 | G13: 0 | H13: 1609 | I13: 1613
B14: ENSEMBLE | C14: 158 | D14: 1287622 | E14: 2576841 | F14: 1180137 | G14: 576529 | H14: 64643 | I14: 5685930
B15: =Parametres!C6 -> 0
B16: Champ : Foyers bénéficiaires d'une aide au logement
B17: Unité : Nombre de foyers bénéficiaires d'une aide au logement
B18: (*) Loyer inconnu, à zéro ou déménagement en cours sur le mois
B19: En ALS foyer, la totalité des redevances dues sont prises en compte pour le calcul de l'aide, pour les personnes agées ou handicapées, ainsi le loyer dépasse souvent 200 % du loyer plafond.
B21: AL107 ALF | C21: Part du loyer ALF par rapport au plafond | I21: Total
C22: Inférieur à 50% | D22: De 50 à 100% | E22: De 100 à 150% | F22: De 150 à 200% | G22: Supérieur à 200% | H22: Autre*
B24: Foyer (Ehpad, Crous, FJT …) ALF | C24: 16 | D24: 162 | E24: 204 | F24: 114 | G24: 187 | H24: 0 | I24: 683
B25: Location ALF | C25: 0 | D25: 87805 | E25: 354825 | F25: 243195 | G25: 74784 | H25: 5 | I25: 760614
B26: Accession ALF | C26: 0 | D26: 764 | E26: 2603 | F26: 2784 | G26: 3140 | H26: 31666 | I26: 40957
B27: Non renseigné ALF | C27: 0 | D27: 0 | E27: 1 | F27: 0 | G27: 0 | H27: 213 | I27: 214
B28: ENSEMBLE ALF | C28: 16 | D28: 88731 | E28: 357633 | F28: 246093 | G28: 78111 | H28: 31884 | I28: 802468
B30: AL107 ALS | C30: Part du loyer ALS par rapport au plafond | I30: Total
C31: Inférieur à 50% | D31: De 50 à 100% | E31: De 100 à 150% | F31: De 150 à 200% | G31: Supérieur à 200% | H31: Autre*
B33: Foyer (Ehpad, Crous, FJT …) ALS | C33: 142 | D33: 13208 | E33: 32533 | F33: 11973 | G33: 97804 | H33: 0 | I33: 155660
B34: Location ALS | C34: 0 | D34: 187721 | E34: 864736 | F34: 690150 | G34: 339169 | H34: 15 | I34: 2081791
B35: Accession ALS | C35: 0 | D35: 509 | E35: 1074 | F35: 1021 | G35: 1262 | H35: 14975 | I35: 18841
B36: Non renseigné ALS | C36: 0 | D36: 0 | E36: 1 | F36: 0 | G36: 0 | H36: 548 | I36: 549
B37: ENSEMBLE ALS | C37: 142 | D37: 201438 | E37: 898344 | F37: 703144 | G37: 438235 | H37: 15538 | I37: 2256841
B39: AL107 APL | C39: Part du loyer APL par rapport au plafond | I39: Total
C40: Inférieur à 50% | D40: De 50 à 100% | E40: De 100 à 150% | F40: De 150 à 200% | G40: Supérieur à 200% | H40: Autre*
B42: Foyer (Ehpad, Crous, FJT …) APL | C42: 0 | D42: 82861 | E42: 93321 | F42: 12966 | G42: 32447 | H42: 2 | I42: 221597
B43: Location APL | C43: 0 | D43: 913939 | E43: 1225303 | F43: 216630 | G43: 26944 | H43: 15 | I43: 2382831
B44: Accession APL | C44: 0 | D44: 653 | E44: 2239 | F44: 1303 | G44: 792 | H44: 16356 | I44: 21343
B45: Non renseigné APL | C45: 0 | D45: 0 | E45: 1 | F45: 1 | G45: 0 | H45: 848 | I45: 850
B46: ENSEMBLE APL | C46: 0 | D46: 997453 | E46: 1320864 | F46: 230900 | G46: 60183 | H46: 17221 | I46: 2626621

Sheet AL150
B2: =Parametres!C2 -> 0
B4: Etudiants bénéficiaires d'une aide au logement par catégorie et type d'aide | N4: Retour liste
M6: =Parametres!C4 -> 0
B7: AL150 | C7: Étudiants au sens de la legislation | H7: Autres étudiants | M7: Nb total d'étudiants
C8: Non boursiers | D8: Boursiers | E8: Mt moyen du loyer | F8: Mt moyen de l'aide | G8: Nb étudiants | H8: Apprentis | I8: Étudiants salariés | J8: Mt moyen du loyer | K8: Mt moyen de l'aide | L8: Nb autres étudiants
B10: Foyer (Ehpad, Crous, FJT …) | C10: 28227 | D10: 26762 | E10: 320.55 | F10: 139.38 | G10: 54989 | H10: 14429 | I10: 6514 | J10: 398.19 | K10: 270.5 | L10: 20943 | M10: 75932
B11: Location | C11: 539072 | D11: 199953 | E11: 405.96 | F11: 199.27 | G11: 739025 | H11: 158978 | I11: 111689 | J11: 449.53 | K11: 245.29 | L11: 270667 | M11: 1009692
B12: Accession | C12: 31 | D12: 1 | E12: 652.68 | F12: 284.64 | G12: 32 | H12: 56 | I12: 15 | J12: 598.99 | K12: 216.54 | L12: 71 | M12: 103
B13: Non renseigné | C13: 170 | D13: 60 | E13: 0 | F13: 196.22 | G13: 230 | H13: 103 | I13: 35 | J13: 1.38 | K13: 282.84 | L13: 138 | M13: 368
B14: ENSEMBLE | C14: 567500 | D14: 226776 | E14: 399.94 | F14: 195.12 | G14: 794276 | H14: 173566 | I14: 118253 | J14: 445.67 | K14: 247.11 | L14: 291819 | M14: 1086095
B15: =Parametres!C6 -> 0
B16: Champ : Étudiants bénéficiaires d'une aide au logement
B17: Unité : Nombre de foyers bénéficiaires d'une aide au logement
B19: AL150 ALF | C19: Étudiants au sens de la legislation | H19: Autres étudiants | M19: Nb total d'étudiants
C20: Non boursiers | D20: Boursiers | E20: Mt moyen du loyer | F20: Mt moyen de l'aide | G20: Nb étudiants | H20: Apprentis | I20: Étudiants salariés | J20: Mt moyen du loyer | K20: Mt moyen de l'aide | L20: Nb autres étudiants
B22: Foyer (Ehpad, Crous, FJT …) ALF | C22: 44 | D22: 24 | E22: 379.42 | F22: 243.64 | G22: 68 | H22: 10 | I22: 10 | J22: 394.29 | K22: 258.54 | L22: 20 | M22: 88
B23: Location ALF | C23: 3098 | D23: 1011 | E23: 621.22 | F23: 390.22 | G23: 4109 | H23: 2926 | I23: 1973 | J23: 641.21 | K23: 352.44 | L23: 4899 | M23: 9008
B24: Accession ALF | C24: 16 | D24: 1 | E24: 668.56 | F24: 341.88 | G24: 17 | H24: 28 | I24: 5 | J24: 582.16 | K24: 198.14 | L24: 33 | M24: 50
B25: Non renseigné ALF | C25: 2 | D25: 1 | E25: 0 | F25: 327.64 | G25: 3 | H25: 1 | I25: 0 | J25: 0 | K25: 417.08 | L25: 1 | M25: 4
B26: ENSEMBLE ALF | C26: 3160 | D26: 1037 | E26: 617.05 | F26: 387.6 | G26: 4197 | H26: 2965 | I26: 1988 | J26: 639.69 | K26: 351.05 | L26: 4953 | M26: 9150
B28: AL150 ALS | C28: Étudiants au sens de la legislation | H28: Autres étudiants | M28: Nb total d'étudiants
C29: Non boursiers | D29: Boursiers | E29: Mt moyen du loyer | F29: Mt moyen de l'aide | G29: Nb étudiants | H29: Apprentis | I29: Étudiants salariés | J29: Mt moyen du loyer | K29: Mt moyen de l'aide | L29: Nb autres étudiants
B31: Foyer (Ehpad, Crous, FJT …) ALS | C31: 21227 | D31: 24665 | E31: 297.99 | F31: 121.39 | G31: 45892 | H31: 2584 | I31: 4694 | J31: 297.57 | K31: 141.09 | L31: 7278 | M31: 53170
B32: Location ALS | C32: 484860 | D32: 151658 | E32: 421.84 | F32: 198.58 | G32: 636518 | H32: 136129 | I32: 96302 | J32: 463.02 | K32: 244.65 | L32: 232431 | M32: 868949
B33: Accession ALS | C33: 7 | D33: 0 | E33: 583.8 | F33: 190.23 | G33: 7 | H33: 12 | I33: 2 | J33: 420.51 | K33: 183.34 | L33: 14 | M33: 21
B34: Non renseigné ALS | C34: 120 | D34: 32 | E34: 0 | F34: 193.68 | G34: 152 | H34: 42 | I34: 27 | J34: 0 | K34: 236.14 | L34: 69 | M34: 221
B35: ENSEMBLE ALS | C35: 506214 | D35: 176355 | E35: 413.42 | F35: 193.39 | G35: 682569 | H35: 138767 | I35: 101025 | J35: 457.87 | K35: 241.5 | L35: 239792 | M35: 922361
B37: AL150 APL | C37: Étudiants au sens de la legislation | H37: Autres étudiants | M37: Nb total d'étudiants
C38: Non boursiers | D38: Boursiers | E38: Mt moyen du loyer | F38: Mt moyen de l'aide | G38: Nb étudiants | H38: Apprentis | I38: Étudiants salariés | J38: Mt moyen du loyer | K38: Mt moyen de l'aide | L38: Nb autres étudiants
B40: Foyer (Ehpad, Crous, FJT …) APL | C40: 6956 | D40: 2073 | E40: 434.74 | F40: 230.04 | G40: 9029 | H40: 11835 | I40: 1810 | J40: 451.86 | K40: 339.54 | L40: 13645 | M40: 22674
B41: Location APL | C41: 51114 | D41: 47284 | E41: 294.26 | F41: 195.72 | G41: 98398 | H41: 19923 | I41: 13414 | J41: 327.26 | K41: 234.01 | L41: 33337 | M41: 131735
B42: Accession APL | C42: 8 | D42: 0 | E42: 679.2 | F42: 245.6 | G42: 8 | H42: 16 | I42: 8 | J42: 726.23 | K42: 261.22 | L42: 24 | M42: 32
B43: Non renseigné APL | C43: 48 | D43: 27 | E43: 0 | F43: 196.1 | G43: 75 | H43: 60 | I43: 8 | J43: 2.8 | K43: 328.25 | L43: 68 | M43: 143
B44: ENSEMBLE APL | C44: 58126 | D44: 49384 | E44: 305.88 | F44: 198.6 | G44: 107510 | H44: 31834 | I44: 15240 | J44: 363.11 | K44: 264.75 | L44: 47074 | M44: 154584

Sheet AL201
B2: =Parametres!C2 -> 0
B4: Bénéficiaires d'une aide au logement en situation d'impayés de loyer | G4: Retour liste
F6: =Parametres!C4 -> 0
B7: AL201 | D7: Nombre de foyers | E7: Montants moyens
E8: versés | F8: retenus
B9: Perçoit de l'aide | C9: Bénéficiaire de l'ALF | D9: 25174 | E9: 383.16 | F9: 0
C10: Bénéficiaire de l'ALS | D10: 22376 | E10: 235.33 | F10: 0
C11: Bénéficiaire de l'APL | D11: 181786 | E11: 269.14 | F11: 0
B12: Sous le seuil de versement | C12: Bénéficiaire de l'ALF | D12: 157 | E12: 0 | F12: 0
C13: Bénéficiaire de l'ALS | D13: 233 | E13: 0 | F13: 0
C14: Bénéficiaire de l'APL | D14: 109 | E14: 0 | F14: 0
B15: Ne perçoit pas d'aide AVEC droit calculé | C15: Suspendu avec motif - Avenant non reçu/irréalisable | D15: 319 | E15: 0 | F15: 273.89
C16: Suspendu avec motif - Détection impayé | D16: 571 | E16: 0 | F16: 244.27
C17: Suspendu avec motif - Plan apurement non reçu | D17: 2370 | E17: 0 | F17: 253.36
C18: Suspendu avec motif - Décision FSL non reçue | D18: 35 | E18: 0 | F18: 261.48
C19: Suspendu avec motif - Contrôle annuel impayé | D19: 1264 | E19: 0 | F19: 261.67
C20: Suspendu avec motif - Fin de procédure absence réponse | D20: 2 | E20: 0 | F20: 267.36
C21: Suspendu avec motif - Apurement non respecté | D21: 1229 | E21: 0 | F21: 244.6
C22: Suspendu avec motif - Plan par défaut non reçu | D22: 2743 | E22: 0 | F22: 269.25
C23: Suspendu - Etat impayé | D23: 7804 | E23: 0 | F23: 259.25
B24: Ne perçoit pas d'aide SANS droit calculé | C24: Suspendu avec motif - Avenant non reçu/irréalisable | D24: 213 | E24: 0 | F24: 0
C25: Suspendu avec motif - Détection impayé | D25: 992 | E25: 0 | F25: 0
C26: Suspendu avec motif - Plan apurement non reçu | D26: 2102 | E26: 0 | F26: 0
C27: Suspendu avec motif - Décision FSL non reçue | D27: 90 | E27: 0 | F27: 0
C28: Suspendu avec motif - Contrôle annuel impayé | D28: 1038 | E28: 0 | F28: 0
C29: Suspendu avec motif - Fin de procédure absence réponse | D29: 1 | E29: 0 | F29: 0
C30: Suspendu avec motif - Apurement non respecté | D30: 890 | E30: 0 | F30: 0
C31: Suspendu avec motif - Plan par défaut non reçu | D31: 1286 | E31: 0 | F31: 0
C32: Suspendu - Etat impayé | D32: 52087 | E32: 0 | F32: 0
B33: ENSEMBLE | D33: 304871 | E33: 209.39 | F33: 13.88
B34: =Parametres!C6 -> 0
B35: Champ : Bénéficiaires d'une aide au logement en situation d'impayé de loyer
B36: Unité : Nombre de foyers bénéficiaires d'une aide au logement

Sheet AL202
B2: =Parametres!C2 -> 0
B4: Bénéficiaires d'une aide au logement en situation d'impayés de loyer selon le type d'occupation du logement et le cumul de prestation | I4: Retour liste
H6: =Parametres!C4 -> 0
B7: AL202 | C7: Foyers bénéficiaires d'une aide au logement en situation d'impayé de loyer avec des prestations…
C8: AL seule | D8: PAJE | E8: Enfance | F8: Handicap dépendance | G8: Insertion | H8: Prestations internationales
B10: Foyer (Ehpad, Crous, FJT …) | C10: 3229 | D10: 251 | E10: 663 | F10: 813 | G10: 4242 | H10: 0
B11: Location | C11: 68250 | D11: 30676 | E11: 137993 | F11: 40196 | G11: 158744 | H11: 180
B12: Accession | C12: 227 | D12: 23 | E12: 538 | F12: 157 | G12: 373 | H12: 2
B13: Non renseigné | C13: 809 | D13: 0 | E13: 0 | F13: 0 | G13: 0 | H13: 0
B14: ENSEMBLE | C14: 72515 | D14: 30950 | E14: 139194 | F14: 41166 | G14: 163359 | H14: 182
B15: =Parametres!C6 -> 0
B16: Champ : Bénéficiaires d'une aide au logement en situation d'impayé de loyer
B17: Unité : Nombre de foyers bénéficiaires d'une aide au logement
B18: Note : Un foyer peut bénéficier de plusieurs prestations et donc être présent sur plusieurs lignes
B20: AL202 ALF | C20: Foyers bénéficiaires d'une aide au logement en situation d'impayé de loyer avec des prestations…
C21: AL seule | D21: PAJE | E21: Enfance | F21: Handicap dépendance | G21: Insertion | H21: Prestations internationales
B23: Foyer (Ehpad, Crous, FJT …) ALF | C23: 1 | D23: 7 | E23: 16 | F23: 1 | G23: 16 | H23: 0
B24: Location ALF | C24: 1766 | D24: 6775 | E24: 28205 | F24: 4177 | G24: 20991 | H24: 40
B25: Accession ALF | C25: 29 | D25: 12 | E25: 265 | F25: 54 | G25: 141 | H25: 1
B26: Non renseigné ALF | C26: 96 | D26: 0 | E26: 0 | F26: 0 | G26: 0 | H26: 0
B27: ENSEMBLE ALF | C27: 1892 | D27: 6794 | E27: 28486 | F27: 4232 | G27: 21148 | H27: 41
B29: AL202 ALS | C29: Foyers bénéficiaires d'une aide au logement en situation d'impayé de loyer avec des prestations…
C30: AL seule | D30: PAJE | E30: Enfance | F30: Handicap dépendance | G30: Insertion | H30: Prestations internationales
B32: Foyer (Ehpad, Crous, FJT …) ALS | C32: 238 | D32: 0 | E32: 0 | F32: 43 | G32: 38 | H32: 0
B33: Location ALS | C33: 16816 | D33: 2 | E33: 212 | F33: 3387 | G33: 14702 | H33: 1
B34: Accession ALS | C34: 97 | D34: 0 | E34: 3 | F34: 22 | G34: 82 | H34: 0
B35: Non renseigné ALS | C35: 181 | D35: 0 | E35: 0 | F35: 0 | G35: 0 | H35: 0
B36: ENSEMBLE ALS | C36: 17332 | D36: 2 | E36: 215 | F36: 3452 | G36: 14822 | H36: 1
B38: AL202 APL | C38: Foyers bénéficiaires d'une aide au logement en situation d'impayé de loyer avec des prestations…
C39: AL seule | D39: PAJE | E39: Enfance | F39: Handicap dépendance | G39: Insertion | H39: Prestations internationales
B41: Foyer (Ehpad, Crous, FJT …) APL | C41: 2990 | D41: 244 | E41: 647 | F41: 769 | G41: 4188 | H41: 0
B42: Location APL | C42: 49668 | D42: 23899 | E42: 109576 | F42: 32632 | G42: 123051 | H42: 139
B43: Accession APL | C43: 101 | D43: 11 | E43: 270 | F43: 81 | G43: 150 | H43: 1
B44: Non renseigné APL | C44: 532 | D44: 0 | E44: 0 | F44: 0 | G44: 0 | H44: 0
B45: ENSEMBLE APL | C45: 53291 | D45: 24154 | E45: 110493 | F45: 33482 | G45: 127389 | H45: 140

Sheet AL203
B2: =Parametres!C2 -> 0
B4: Bénéficiaires d'une aide au logement en situation d'impayés de loyer selon la taille de la famille Personnes à charge | G4: Retour liste
F6: =Parametres!C4 -> 0
B7: AL203 | C7: ALF | D7: ALS | E7: APL | F7: Total
B8: Seul sans personne à charge | C8: 151 | D8: 32312 | E8: 97232 | F8: 129695
B9: Seul avec 1 personne à charge | C9: 8818 | D9: 0 | E9: 33839 | F9: 42657
B10: Seul avec 2 personnes à charge | C10: 6524 | D10: 0 | E10: 24482 | F10: 31006
B11: Seul avec 3 personnes à charge | C11: 3122 | D11: 0 | E11: 12053 | F11: 15175
B12: Seul avec 4 personnes à charge ou plus | C12: 1968 | D12: 0 | E12: 6900 | F12: 8868
B13: Sous total seul | C13: 20583 | D13: 32312 | E13: 174506 | F13: 227401
B14: En couple sans personne à charge | C14: 573 | D14: 3176 | E14: 11400 | F14: 15149
B15: En couple avec 1 personne à charge | C15: 3646 | D15: 0 | E15: 12003 | F15: 15649
B16: En couple avec 2 personnes à charge | C16: 4213 | D16: 1 | E16: 15408 | F16: 19622
B17: En couple avec 3 personnes à charge | C17: 2852 | D17: 0 | E17: 12846 | F17: 15698
B18: En couple avec 4 personnes à charge ou plus | C18: 1817 | D18: 0 | E18: 9535 | F18: 11352
B19: Sous total en couple | C19: 13101 | D19: 3177 | E19: 61192 | F19: 77470
B20: ENSEMBLE | C20: 33684 | D20: 35489 | E20: 235698 | F20: 304871
B21: =Parametres!C6 -> 0
B22: Champ : Bénéficiaires d'une aide au logement en situation d'impayé de loyer
B23: Unité : Nombre de foyers bénéficiaires d'une aide au logement
B24: Personne à charge : Enfants + Autres personnes à charge au sens des AL

Sheet AL204
B2: =Parametres!C2 -> 0
B4: Bénéficiaires d'une aide au logement en situation d'impayés de loyer selon la taille de la famille Enfants à charge | G4: Retour liste
F6: =Parametres!C4 -> 0
B7: AL204 | C7: ALF | D7: ALS | E7: APL | F7: Total
B8: Seul sans enfant à charge | C8: 329 | D8: 32312 | E8: 98280 | F8: 130921
B9: Seul avec 1 enfant à charge | C9: 8700 | D9: 0 | E9: 33175 | F9: 41875
B10: Seul avec 2 enfants à charge | C10: 6491 | D10: 0 | E10: 24280 | F10: 30771
B11: Seul avec 3 enfants à charge | C11: 3108 | D11: 0 | E11: 11930 | F11: 15038
B12: Seul avec 4 enfants à charge ou plus | C12: 1955 | D12: 0 | E12: 6841 | F12: 8796
B13: Sous total seul | C13: 20583 | D13: 32312 | E13: 174506 | F13: 227401
B14: En couple sans enfant à charge | C14: 618 | D14: 3176 | E14: 11668 | F14: 15462
B15: En couple avec 1 enfant à charge | C15: 3639 | D15: 1 | E15: 11933 | F15: 15573
B16: En couple avec 2 enfants à charge | C16: 4209 | D16: 0 | E16: 15356 | F16: 19565
B17: En couple avec 3 enfants à charge | C17: 2840 | D17: 0 | E17: 12793 | F17: 15633
B18: En couple avec 4 enfants à charge ou plus | C18: 1795 | D18: 0 | E18: 9442 | F18: 11237
B19: Sous total en couple | C19: 13101 | D19: 3177 | E19: 61192 | F19: 77470
B20: ENSEMBLE | C20: 33684 | D20: 35489 | E20: 235698 | F20: 304871
B21: =Parametres!C6 -> 0
B22: Champ : Bénéficiaires d'une aide au logement en situation d'impayé de loyer
B23: Unité : Nombre de foyers bénéficiaires d'une aide au logement
B24: *Enfant(s) à charge au sens des AL

Sheet AL301
B2: =Parametres!C2 -> 0
B4: Non-respect des normes de décence selon les prestations AL Etat de la décence du logement | F4: Retour liste
E6: =Parametres!C4 -> 0
B7: AL301 | C7: État de la décence du logement
C8: Présomption indécence | D8: Diagnostic lancé | E8: Indécence constatée | F8: Refus travaux allocataire
B9: Bénéficiaires ALF | C9: 6830 | D9: 1462 | E9: 3013 | F9: 18
B10: Bénéficiaires ALS | C10: 9959 | D10: 1419 | E10: 2314 | F10: 22
B11: Bénéficiaires APL | C11: 0 | D11: 0 | E11: 0 | F11: 0
B12: ENSEMBLE | C12: 16789 | D12: 2881 | E12: 5327 | F12: 40
B13: =Parametres!C6 -> 0
B14: Champ : Bénéficiaires ou suspendus d'une aide au logement en situation de non décence
B15: Unité : Nombre de foyers bénéficiaires d'une aide au logement ou suspendus

Sheet AL302
B2: =Parametres!C2 -> 0
B4: Non-respect des normes de décence selon la zone géographique Etat de la décence du logement | F4: Retour liste
E6: =Parametres!C4 -> 0
B7: AL302 | C7: État de la décence du logement
C8: Présomption indécence | D8: Diagnostic lancé | E8: Indécence constatée | F8: Refus travaux allocataire
B9: Foyers bénéficiaires d'une aide au logement par zone
B10: Zone 1 | C10: 3240 | D10: 212 | E10: 293 | F10: 4
B11: Zone 2 et 9 (Dom) | C11: 7329 | D11: 1654 | E11: 2481 | F11: 18
B12: Zone 3 | C12: 6220 | D12: 1015 | E12: 2553 | F12: 18
B13: Zone non renseignée | C13: 0 | D13: 0 | E13: 0 | F13: 0
B14: ENSEMBLE | C14: 16789 | D14: 2881 | E14: 5327 | F14: 40
B15: =Parametres!C6 -> 0
B16: Champ : Bénéficiaires ou suspendus d'une aide au logement en situation de non décence
B17: Unité : Nombre de foyers bénéficiaires d'une aide au logement ou suspendus
B18: Zone 1 : agglomération parisienne et villes nouvelles situées en région Île-de-France
B19: Zone 2 : autres communes d'Ile-de France, agglomérations de plus de 100 000 habitants de province, villes nouvelles de province, Corse et Dom
B20: Zone 3 : le reste du territoire métropolitain

Sheet AL303
B2: =Parametres!C2 -> 0
B4: Non-respect des normes de décence selon le parc (public/privé) Etat de la décence du logement | F4: Retour liste
E6: =Parametres!C4 -> 0
B7: AL303 | C7: État de la décence du logement
C8: Présomption indécence | D8: Diagnostic lancé | E8: Indécence constatée | F8: Refus travaux allocataire
B9: Type de parc selon le bailleur
B10: Public (social) | C10: 517 | D10: 154 | E10: 453 | F10: 1
B11: Privé | C11: 16272 | D11: 2727 | E11: 4874 | F11: 39
B12: ENSEMBLE | C12: 16789 | D12: 2881 | E12: 5327 | F12: 40
B13: =Parametres!C6 -> 0
B14: Champ : Bénéficiaires ou suspendus d'une aide au logement en situation de non décence
B15: Unité : Nombre de foyers bénéficiaires d'une aide au logement ou suspendus

Sheet AL351
B2: =Parametres!C2 -> 0
B4: Non-respect des normes de décence selon les prestations AL Mise en œuvre de la conservation | F4: Retour liste
E6: =Parametres!C4 -> 0
B7: AL351 | C7: Mise en œuvre de la conservation
C8: Conservation en cours | D8: Conservation libérée (1) | E8: Conservation définitive (2)
B9: Bénéficiaires ALF | C9: 2035 | D9: 678 | E9: 64
B10: Bénéficiaires ALS | C10: 1550 | D10: 425 | E10: 80
B11: Bénéficiaires APL | C11: 0 | D11: 0 | E11: 0
B12: ENSEMBLE | C12: 3585 | D12: 1103 | E12: 144
B13: =Parametres!C6 -> 0
B14: Champ : Bénéficiaires ou suspendus d'une aide au logement en situation de non décence
B15: Unité : Nombre de foyers bénéficiaires d'une aide au logement ou suspendus
B16: (1) conservation libérée : remboursements et reprises du versement de l'aide au logement faisant suite à une mise en conformité
B17: (2) conservation définitive : conservations non rendues avec suspension de l'aide au logement

Sheet AL352
B2: =Parametres!C2 -> 0
B4: Non-respect des normes de décence selon la zone géographique Mise en œuvre de la conservation | F4: Retour liste
E6: =Parametres!C4 -> 0
B7: AL352 | C7: Mise en œuvre de la conservation
C8: Conservation en cours | D8: Conservation libérée (1) | E8: Conservation définitive (2)
B9: Foyers bénéficiaires d'une aide au logement par zone
B10: Zone 1 | C10: 201 | D10: 33 | E10: 8
B11: Zone 2 et 9 (Dom) | C11: 1673 | D11: 536 | E11: 58
B12: Zone 3 | C12: 1711 | D12: 534 | E12: 78
B13: Zone non renseignée | C13: 0 | D13: 0 | E13: 0
B14: ENSEMBLE | C14: 3585 | D14: 1103 | E14: 144
B15: =Parametres!C6 -> 0
B16: Champ : Bénéficiaires ou suspendus d'une aide au logement en situation de non décence
B17: Unité : Nombre de foyers bénéficiaires d'une aide au logement ou suspendus
B18: Zone 1 : agglomération parisienne et villes nouvelles situées en région Île-de-France
B19: Zone 2 : autres communes d'Ile-de France, agglomérations de plus de 100 000 habitants de province, villes nouvelles de province, Corse et Dom
B20: Zone 3 : le reste du territoire métropolitain
B21: (1) conservation libérée : remboursements et reprises du versement de l'aide au logement faisant suite à une mise en conformité
B22: (2) conservation définitive : conservations non rendues avec suspension de l'aide au logement

Sheet AL353
B2: =Parametres!C2 -> 0
B4: Non-respect des normes de décence selon le parc (public/privé) Mise en œuvre de la conservation | F4: Retour liste
E6: =Parametres!C4 -> 0
B7: AL353 | C7: Mise en œuvre de la conservation
C8: Conservation en cours | D8: Conservation libérée (1) | E8: Conservation définitive (2)
B9: Type de parc selon le bailleur
B10: Public (social) | C10: 319 | D10: 116 | E10: 1
B11: Privé | C11: 3266 | D11: 987 | E11: 143
B12: ENSEMBLE | C12: 3585 | D12: 1103 | E12: 144
B13: =Parametres!C6 -> 0
B14: Champ : Bénéficiaires ou suspendus d'une aide au logement en situation de non décence
B15: Unité : Nombre de foyers bénéficiaires d'une aide au logement ou suspendus
B16: (1) conservation libérée : remboursements et reprises du versement de l'aide au logement faisant suite à une mise en conformité
B17: (2) conservation définitive : conservations non rendues avec suspension de l'aide au logement

Sheet AL401
B2: =Parametres!C2 -> 0
B4: Dégressivité pour loyer élevé selon la zone géographique | H4: Retour liste
G6: =Parametres!C4 -> 0
B7: AL401 | C7: Aide diminuée | G7: Aide supprimée
C8: ALF | D8: ALS | E8: APL | F8: Total | G8: Total
B9: Foyers bénéficiaires d'une aide au logement par zone géographique
B10: Zone 1 | C10: 338 | D10: 3172 | E10: 49 | F10: 3559 | G10: 1117
B11: Zone 2 et 9 (Dom) | C11: 3697 | D11: 20597 | E11: 807 | F11: 25101 | G11: 3551
B12: Zone 3 | C12: 3059 | D12: 9475 | E12: 398 | F12: 12932 | G12: 2287
B13: Zone non renseignée | C13: 1 | D13: 17 | E13: 0 | F13: 18 | G13: 0
B14: ENSEMBLE | C14: 7095 | D14: 33261 | E14: 1254 | F14: 41610 | G14: 6955
B15: =Parametres!C6 -> 0
B16: Champ : Bénéficiaires d'une aide au logement impactés par une mesure de dégressivité
B17: Unité : Nombre de foyers bénéficiaires d'une aide au logement ou suspendus
B18: Zone 1 : agglomération parisienne et villes nouvelles situées en région Île-de-France
B19: Zone 2 : autres communes d'Ile-de France, agglomérations de plus de 100 000 habitants de province, villes nouvelles de province, Corse et Dom
B20: Zone 3 : le reste du territoire métropolitain
B22: A compter du 1er juillet 2016
B23: Un double seuil, au niveau des loyers, est prévu consistant à appliquer une dégressivité de l'aide jusqu'à sa possible suppression : l'aide au logement est réduite jusqu'à devenir nulle en fonction de seuils définis en multiple des loyers plafonds applicables par zone et en fonction de la taille des ménages.
B24: La mesure s'applique à l'ensemble des bénéficiaires d'aide au logement (Al/Apl) occupant un logement en qualité de locataire, à l'exclusion des foyers avec un droit Aah ou Aeeh et les logements de type meublé (codes 2 10 en Al et 63 en Apl), les logements foyer, les foyers Pa/Pi, les maison de retraite, les centres de long séjour,et les foyers jeunes travailleurs et résidences sociales.

Sheet AL402
B2: =Parametres!C2 -> 0
B4: Dégressivité pour loyer élevé selon la taille du ménage | H4: Retour liste
G6: =Parametres!C4 -> 0
B7: AL402 | C7: Aide diminuée | G7: Aide supprimée
C8: ALF | D8: ALS | E8: APL | F8: Total | G8: Total
B9: Taille des ménages
B10: Ä 1 personne | C10: 25 | D10: 30319 | E10: 1166 | F10: 31510 | G10: 5348
B11: Ä 2 personnes | C11: 2564 | D11: 2942 | E11: 64 | F11: 5570 | G11: 854
B12: Ä 3 personnes | C12: 2451 | D12: 0 | E12: 13 | F12: 2464 | G12: 458
B13: Ä 4 personnes | C13: 1390 | D13: 0 | E13: 7 | F13: 1397 | G13: 214
B14: Ä 5 personnes | C14: 524 | D14: 0 | E14: 4 | F14: 528 | G14: 58
B15: Ä 6 personnes | C15: 112 | D15: 0 | E15: 0 | F15: 112 | G15: 17
B16: Ä 7 personnes | C16: 23 | D16: 0 | E16: 0 | F16: 23 | G16: 5
B17: Ä 8 personnes | C17: 4 | D17: 0 | E17: 0 | F17: 4 | G17: 0
B18: Ä 9 personnes | C18: 2 | D18: 0 | E18: 0 | F18: 2 | G18: 1
B19: Ä 10 personnes ou plus | C19: 0 | D19: 0 | E19: 0 | F19: 0 | G19: 0
B20: ENSEMBLE | C20: 7095 | D20: 33261 | E20: 1254 | F20: 41610 | G20: 6955
B21: =Parametres!C6 -> 0
B22: Champ : Bénéficiaires d'une aide au logement impactés par une mesure de dégressivité
B23: Unité : Nombre de foyers bénéficiaires d'une aide au logement ou suspendus
B24: Personne(s) = Titulaire du dossier + conjoint éventuel + enfant(s) à charge au sens des AL + autre(s) personne(s) à charge au sens des AL
B25: Zone 1 : agglomération parisienne et villes nouvelles situées en région Île-de-France
B26: Zone 2 : autres communes d'Ile-de France, agglomérations de plus de 100 000 habitants de province, villes nouvelles de province, Corse et Dom
B27: Zone 3 : le reste du territoire métropolitain
B29: A compter du 1er juillet 2016
B30: Un double seuil, au niveau des loyers, est prévu consistant à appliquer une dégressivité de l'aide jusqu'à sa possible suppression : l'aide au logement est réduite jusqu'à devenir nulle en fonction de seuils définis en multiple des loyers plafonds applicables par zone et en fonction de la taille des ménages.
B31: La mesure s'applique à l'ensemble des bénéficiaires d'aide au logement (Al/Apl) occupant un logement en qualité de locataire, à l'exclusion des foyers avec un droit Aah ou Aeeh et les logements de type meublé (codes 2 10 en Al et 63 en Apl), les logements foyer, les foyers Pa/Pi, les maison de retraite, les centres de long séjour,et les foyers jeunes travailleurs et résidences sociales.

Sheet AL501
B2: =Parametres!C2 -> 0
B4: Prise en compte des ressources du patrimoine selon les prestations AL | G4: Retour liste
F6: =Parametres!C4 -> 0
B7: AL501 | C7: Prise en compte des revenus du patrimoine | F7: Nombre
C8: Dormant uniquement | D8: Non dormant uniquement | E8: Dormant et non dormant | F8: bénéficiaires impactés
B9: Type de prestation
B10: Bénéficiaires ALF | C10: 462 | D10: 114 | E10: 637 | F10: 1213
B11: Bénéficiaires ALS | C11: 1771 | D11: 220 | E11: 2460 | F11: 4451
B12: Bénéficiaires APL | C12: 1367 | D12: 127 | E12: 1006 | F12: 2500
B13: ENSEMBLE | C13: 3600 | D13: 461 | E13: 4103 | F13: 8164
B14: =Parametres!C6 -> 0
B15: Champ : Foyers bénéficiaires AL impactés par la mesure patrimoine
B16: Unité : Nombre de foyers bénéficiaires d'une aide au logement ou suspendus
B18: A compter du 1er octobre 2016
B19: Les éléments de patrimoine sont pris en compte sous réserve que la valeur globale du patrimoine déclaré soit supérieure à 30 000 € : le patrimoine est alors pris en compte pour le calcul des aides au logement, de manière forfaitaire en pourcentage de la valeur déclarée ou de la valeur locative, s'agissant respectivement du patrimoine mobilier et immobilier.
B20: A compter du 16.10.2017, la valeur du patrimoine à prendre en considération pour comparaison au seuil de 30 000 € s’entend de la globalité du patrimoine (mobilier et/ou immobilier) détenu par les allocataires, c’est-à-dire y compris le patrimoine producteur de revenus imposables (ex : logement mis en location...).
B21: Sont exclus du périmètre de la mesure :
B22: - les foyers avec un droit Aah servi au titre de l'allocataire et/ou de son conjoint, à l'exclusion des dossiers où le droit Aah est versé au titre d'un enfant vivant au foyer de ses parents.;
B23: - les foyers avec un droit Aeeh ;
B24: - les personnes hébergées dans des structures ayant vocation à accueillir des personnes âgées ou handicapées (résidences autonomie ou Ehpad) (codes 8, 9 et 52).

Sheet AL502
B2: =Parametres!C2 -> 0
B4: Prise en compte des ressources du patrimoine selon la zone géographique | F4: Retour liste
F6: =Parametres!C4 -> 0
B7: AL502 | C7: Prise en compte des revenus du patrimoine | F7: Nombre
C8: Dormant uniquement | D8: Non dormant uniquement | E8: Dormant et non dormant | F8: bénéficiaires impactés
B9: Foyers bénéficiaires d'une aide au logement par zone géographique
B10: Zone 1 | C10: 547 | D10: 81 | E10: 561 | F10: 1189
B11: Zone 2 et 9 (Dom) | C11: 1451 | D11: 183 | E11: 1683 | F11: 3317
B12: Zone 3 | C12: 1602 | D12: 197 | E12: 1857 | F12: 3656
B13: Zone non renseignée | C13: 0 | D13: 0 | E13: 2 | F13: 2
B14: ENSEMBLE | C14: 3600 | D14: 461 | E14: 4103 | F14: 8164
B15: =Parametres!C6 -> 0
B16: Champ : Foyers bénéficiaires AL impactés par la mesure patrimoine
B17: Unité : Nombre de foyers bénéficiaires d'une aide au logement ou suspendus
B19: Zone 1 : agglomération parisienne et villes nouvelles situées en région Île-de-France
B20: Zone 2 : autres communes d'Ile-de France, agglomérations de plus de 100 000 habitants de province, villes nouvelles de province, Corse et Dom
B21: Zone 3 : le reste du territoire métropolitain
B23: A compter du 1er octobre 2016
B24: Les éléments de patrimoine sont pris en compte sous réserve que la valeur globale du patrimoine déclaré soit supérieure à 30 000 € : le patrimoine est alors pris en compte pour le calcul des aides au logement, de manière forfaitaire en pourcentage de la valeur déclarée ou de la valeur locative, s'agissant respectivement du patrimoine mobilier et immobilier.
B25: A compter du 16.10.2017, la valeur du patrimoine à prendre en considération pour comparaison au seuil de 30 000 € s’entend de la globalité du patrimoine (mobilier et/ou immobilier) détenu par les allocataires, c’est-à-dire y compris le patrimoine producteur de revenus imposables (ex : logement mis en location...).
B26: Sont exclus du périmètre de la mesure :
B27: - les foyers avec un droit Aah servi au titre de l'allocataire et/ou de son conjoint, à l'exclusion des dossiers où le droit Aah est versé au titre d'un enfant vivant au foyer de ses parents.;
B28: - les foyers avec un droit Aeeh ;
B29: - les personnes hébergées dans des structures ayant vocation à accueillir des personnes âgées ou handicapées (résidences autonomie ou Ehpad) (codes 8, 9 et 52).

Sheet AL503
B2: =Parametres!C2 -> 0
B4: Prise en compte des ressources du patrimoine selon l'âge du titulaire du dossier | F4: Retour liste
F6: =Parametres!C4 -> 0
B7: AL503 | C7: Prise en compte des revenus du patrimoine | F7: Nombre
C8: Dormant uniquement | D8: Non dormant uniquement | E8: Dormant et non dormant | F8: bénéficiaires impactés
B9: Moins de 20 ans | C9: 33 | D9: 4 | E9: 91 | F9: 128
B10: de 20 à 24 ans | C10: 766 | D10: 70 | E10: 951 | F10: 1787
B11: de 25 à 29 ans | C11: 256 | D11: 34 | E11: 367 | F11: 657
B12: de 30 à 34 ans | C12: 162 | D12: 30 | E12: 207 | F12: 399
B13: de 35 à 39 ans | C13: 252 | D13: 55 | E13: 271 | F13: 578
B14: de 40 à 44 ans | C14: 247 | D14: 46 | E14: 319 | F14: 612
B15: de 45 à 49 ans | C15: 250 | D15: 45 | E15: 284 | F15: 579
B16: de 50 à 54 ans | C16: 239 | D16: 34 | E16: 246 | F16: 519
B17: de 55 à 59 ans | C17: 219 | D17: 27 | E17: 218 | F17: 464
B18: de 60 à 64 ans | C18: 243 | D18: 21 | E18: 260 | F18: 524
B19: de 65 à 69 ans | C19: 202 | D19: 20 | E19: 213 | F19: 435
B20: 70 ans ou plus | C20: 724 | D20: 74 | E20: 671 | F20: 1469
... B22: ENSEMBLE | C22: 3600 | D22: 461 | E22: 4103 | F22: 8164
B23: =Parametres!C6 -> 0
B24: Champ : Foyers bénéficiaires AL impactés par la mesure patrimoine
B25: Unité : Nombre de foyers bénéficiaires d'une aide au logement ou suspendus
B27: A compter du 1er octobre 2016
B28: Les éléments de patrimoine sont pris en compte sous réserve que la valeur globale du patrimoine déclaré soit supérieure à 30 000 € : le patrimoine est alors pris en compte pour le calcul des aides au logement, de manière forfaitaire en pourcentage de la valeur déclarée ou de la valeur locative, s'agissant respectivement du patrimoine mobilier et immobilier.
B29: A compter du 16.10.2017, la valeur du patrimoine à prendre en considération pour comparaison au seuil de 30 000 € s’entend de la globalité du patrimoine (mobilier et/ou immobilier) détenu par les allocataires, c’est-à-dire y compris le patrimoine producteur de revenus imposables (ex : logement mis en location...).
B30: Sont exclus du périmètre de la mesure :
B31: - les foyers avec un droit Aah servi au titre de l'allocataire et/ou de son conjoint, à l'exclusion des dossiers où le droit Aah est versé au titre d'un enfant vivant au foyer de ses parents.;
B32: - les foyers avec un droit Aeeh ;
B33: - les personnes hébergées dans des structures ayant vocation à accueillir des personnes âgées ou handicapées (résidences autonomie ou Ehpad) (codes 8, 9 et 52).

Sheet AL504
B2: =Parametres!C2 -> 0
B4: Prise en compte des ressources du patrimoine selon la situation familiale | F4: Retour liste
F6: =Parametres!C4 -> 0
B7: AL504 | C7: Prise en compte des revenus du patrimoine | F7: Nombre
C8: Dormant uniquement | D8: Non dormant uniquement | E8: Dormant et non dormant | F8: bénéficiaires impactés
B9: Situation familiale
B10: Seul sans enfant | C10: 2185 | D10: 256 | E10: 2733 | F10: 5174
B11: Seul avec enfant | C11: 607 | D11: 106 | E11: 646 | F11: 1359
B12: En couple sans enfant | C12: 540 | D12: 45 | E12: 518 | F12: 1103
B13: En couple avec enfant | C13: 268 | D13: 54 | E13: 206 | F13: 528
B14: ENSEMBLE | C14: 3600 | D14: 461 | E14: 4103 | F14: 8164
B15: =Parametres!C6 -> 0
B16: Champ : Foyers bénéficiaires AL impactés par la mesure patrimoine
B17: Unité : Nombre de foyers bénéficiaires d'une aide au logement ou suspendus
B19: A compter du 1er octobre 2016
B20: Les éléments de patrimoine sont pris en compte sous réserve que la valeur globale du patrimoine déclaré soit supérieure à 30 000 € : le patrimoine est alors pris en compte pour le calcul des aides au logement, de manière forfaitaire en pourcentage de la valeur déclarée ou de la valeur locative, s'agissant respectivement du patrimoine mobilier et immobilier.
B21: A compter du 16.10.2017, la valeur du patrimoine à prendre en considération pour comparaison au seuil de 30 000 € s’entend de la globalité du patrimoine (mobilier et/ou immobilier) détenu par les allocataires, c’est-à-dire y compris le patrimoine producteur de revenus imposables (ex : logement mis en location...).
B22: Sont exclus du périmètre de la mesure :
B23: - les foyers avec un droit Aah servi au titre de l'allocataire et/ou de son conjoint, à l'exclusion des dossiers où le droit Aah est versé au titre d'un enfant vivant au foyer de ses parents.;
B24: - les foyers avec un droit Aeeh ;
B25: - les personnes hébergées dans des structures ayant vocation à accueillir des personnes âgées ou handicapées (résidences autonomie ou Ehpad) (codes 8, 9 et 52).

Sheet AL601
B2: =Parametres!C2 -> 0
B4: Réduction de loyer de solidarité selon la zone géographique | I4: Retour liste
H6: =Parametres!C4 -> 0
B7: AL601 | C7: Foyers impactés par la RLS | D7: dont gardant leur droit versable (1) | E7: dont perdant leur droit versable (2) | F7: dont sans versement avant réforme (3) | G7: Montant moyen mensuel de RLS | H7: Montant moyen baisse APL induite par la RLS
B8: Foyers bénéficiaires d'une aide au logement par zone géographique
B9: Zone 1 | C9: 345154 | D9: 343546 | E9: 0 | F9: 1608 | G9: 53.61 | H9: 52.39
B10: Zone 2 et 9 (Dom) | C10: 819170 | D10: 817132 | E10: 0 | F10: 2038 | G10: 45.81 | H10: 44.8
B11: Zone 3 | C11: 537548 | D11: 536334 | E11: 0 | F11: 1214 | G11: 41.81 | H11: 40.79
B12: Zone non renseignée | C12: 0 | D12: 0 | E12: 0 | F12: 0 | G12: 0 | H12: 0
B13: ENSEMBLE | C13: 1701872 | D13: 1697012 | E13: 0 | F13: 4860 | G13: 46.13 | H13: 45.07
B14: =Parametres!C6 -> 0
B15: Champ : Foyers bénéficiaires AL imapctés par la RLS
B16: Unité : Nombre de foyers bénéficiaires d'une aide au logement ou suspendus
B17: Le dispositif de réduction de loyer de solidarité entre en vigueur au 1er février 2018 : il consiste en une réduction de loyer à laquelle est associée une baisse de l'APL. Il s'applique au parc social géré par les bailleurs sociaux.
B18: Les Caf transmettent aux bailleurs la donnée RLS dans le cadre des flux existants, qui sera portée sur la quittance de loyer du locataire.
B19: (1) Bénéficiaires gardant un droit d'aide au logement supérieur à 10 €
B20: (2) Bénéficiaires ayant un droit supérieur à 10 € passant à moins de 10 € suite à la réforme RLS
B21: (3) Bénéficiaires ayant un droit positif sous le seuil de versement passant à 0 €
B23: Zone 1 : agglomération parisienne et villes nouvelles situées en région Île-de-France
B24: Zone 2 : autres communes d'Ile-de France, agglomérations de plus de 100 000 habitants de province, villes nouvelles de province, Corse et Dom
B25: Zone 3 : le reste du territoire métropolitain

Sheet AL602
B2: =Parametres!C2 -> 0
B4: Réduction de loyer de solidarité selon la tranche d'âge du titulaire du dossier | I4: Retour liste
H6: =Parametres!C4 -> 0
B7: AL602 | C7: Foyers impactés par la RLS | D7: dont gardant leur droit versable (1) | E7: dont perdant leur droit versable (2) | F7: dont sans versement avant réforme (3) | G7: Montant moyen mensuel de RLS | H7: Montant moyen baisse APL induite par la RLS
B8: Moins de 20 ans | C8: 7582 | D8: 7564 | E8: 0 | F8: 18 | G8: 35.63 | H8: 34.78
B9: de 20 à 24 ans | C9: 50794 | D9: 50566 | E9: 0 | F9: 228 | G9: 41.44 | H9: 40.45
B10: de 25 à 29 ans | C10: 99533 | D10: 99171 | E10: 0 | F10: 362 | G10: 47.51 | H10: 46.41
B11: de 30 à 34 ans | C11: 152560 | D11: 152012 | E11: 0 | F11: 548 | G11: 51.51 | H11: 50.33
B12: de 35 à 39 ans | C12: 200106 | D12: 199417 | E12: 0 | F12: 689 | G12: 54.09 | H12: 52.87
B13: de 40 à 44 ans | C13: 215339 | D13: 214712 | E13: 0 | F13: 627 | G13: 53.47 | H13: 52.26
B14: de 45 à 49 ans | C14: 194209 | D14: 193618 | E14: 0 | F14: 591 | G14: 50.52 | H14: 49.37
B15: de 50 à 54 ans | C15: 184881 | D15: 184375 | E15: 0 | F15: 506 | G15: 45.49 | H15: 44.44
B16: de 55 à 59 ans | C16: 174558 | D16: 174163 | E16: 0 | F16: 395 | G16: 41.03 | H16: 40.06
B17: de 60 à 64 ans | C17: 151486 | D17: 151107 | E17: 0 | F17: 379 | G17: 38.13 | H17: 37.2
B18: de 65 à 69 ans | C18: 105874 | D18: 105644 | E18: 0 | F18: 230 | G18: 37.34 | H18: 36.48
B19: 70 ans ou plus | C19: 164645 | D19: 164366 | E19: 0 | F19: 279 | G19: 36.94 | H19: 36.13
... B21: ENSEMBLE | C21: 1701872 | D21: 1697012 | E21: 0 | F21: 4860 | G21: 46.13 | H21: 45.07
B22: =Parametres!C6 -> 0
B23: Champ : Foyers bénéficiaires AL imapctés par la RLS
B24: Unité : Nombre de foyers bénéficiaires d'une aide au logement ou suspendus
B25: Le dispositif de réduction de loyer de solidarité entre en vigueur au 1er février 2018 : il consiste en une réduction de loyer à laquelle est associée une baisse de l'APL. Il s'applique au parc social géré par les bailleurs sociaux.
B26: Les Caf transmettent aux bailleurs la donnée RLS dans le cadre des flux existants, qui sera portée sur la quittance de loyer du locataire.
B27: (1) Bénéficiaires gardant un droit d'aide au logement supérieur à 10 €
B28: (2) Bénéficiaires ayant un droit supérieur à 10 € passant à moins de 10 € suite à la réforme RLS
B29: (3) Bénéficiaires ayant un droit positif sous le seuil de versement passant à 0 €

Sheet AL603
B2: =Parametres!C2 -> 0
B4: Réduction de loyer de solidarité selon la situation familiale | I4: Retour liste
H6: =Parametres!C4 -> 0
B7: AL603 | C7: Foyers impactés par la RLS | D7: dont gardant leur droit versable (1) | E7: dont perdant leur droit versable (2) | F7: dont sans versement avant réforme (3) | G7: Montant moyen mensuel de RLS | H7: Montant moyen baisse APL induite par la RLS
B8: Situation familiale
B9: Seul sans personne à charge | C9: 749492 | D9: 747136 | E9: 0 | F9: 2356 | G9: 34.66 | H9: 33.82
B10: Seul avec 1 personne à charge | C10: 228651 | D10: 228274 | E10: 0 | F10: 377 | G10: 47.32 | H10: 46.25
B11: Seul avec 2 personnes à charge | C11: 175771 | D11: 175496 | E11: 0 | F11: 275 | G11: 54.26 | H11: 53.04
B12: Seul avec 3 personnes à charge | C12: 94694 | D12: 94575 | E12: 0 | F12: 119 | G12: 61.6 | H12: 60.29
B13: Seul avec 4 personnes à charge ou plus | C13: 48430 | D13: 48383 | E13: 0 | F13: 47 | G13: 71.79 | H13: 70.1
B14: Sous total Seul | C14: 1297038 | D14: 1293864 | E14: 0 | F14: 3174 | G14: 42.9 | H14: 41.91
B15: En couple sans personne à charge | C15: 86652 | D15: 86327 | E15: 0 | F15: 325 | G15: 42.65 | H15: 41.63
B16: En couple avec 1 personne à charge | C16: 59271 | D16: 58974 | E16: 0 | F16: 297 | G16: 47.86 | H16: 46.77
B17: En couple avec 2 personnes à charge | C17: 83334 | D17: 82919 | E17: 0 | F17: 415 | G17: 55 | H17: 53.77
B18: En couple avec 3 personnes à charge | C18: 97860 | D18: 97515 | E18: 0 | F18: 345 | G18: 62.21 | H18: 60.9
B19: En couple avec 4 personnes à charge ou plus | C19: 77717 | D19: 77413 | E19: 0 | F19: 304 | G19: 72.83 | H19: 71.15
B20: Sous total en couple | C20: 404834 | D20: 403148 | E20: 0 | F20: 1686 | G20: 56.48 | H20: 55.21
B21: ENSEMBLE | C21: 1701872 | D21: 1697012 | E21: 0 | F21: 4860 | G21: 46.13 | H21: 45.07
B22: =Parametres!C6 -> 0
B23: Champ : Foyers bénéficiaires AL imapctés par la RLS
B24: Unité : Nombre de foyers bénéficiaires d'une aide au logement ou suspendus
B25: Personne à charge : Enfants + Autres personnes à charge au sens des AL
B26: Le dispositif de réduction de loyer de solidarité entre en vigueur au 1er février 2018 : il consiste en une réduction de loyer à laquelle est associée une baisse de l'APL. Il s'applique au parc social géré par les bailleurs sociaux.
B27: Les Caf transmettent aux bailleurs la donnée RLS dans le cadre des flux existants, qui sera portée sur la quittance de loyer du locataire.
B28: (1) Bénéficiaires gardant un droit d'aide au logement supérieur à 10 €
B29: (2) Bénéficiaires ayant un droit supérieur à 10 € passant à moins de 10 € suite à la réforme RLS
B30: (3) Bénéficiaires ayant un droit positif sous le seuil de versement passant à 0 €

Sheet AL604
B2: =Parametres!C2 -> 0
B4: Réduction de loyer de solidarité selon le revenu d'activité annuel | I4: Retour liste
H6: =Parametres!C4 -> 0
B7: AL604 | C7: Foyers impactés par la RLS | D7: dont gardant leur droit versable (1) | E7: dont perdant leur droit versable (2) | F7: dont sans versement avant réforme (3) | G7: Montant moyen mensuel de RLS | H7: Montant moyen baisse APL induite par la RLS
B8: Revenu activité annuel
B9: Revenu nul | C9: 812778 | D9: 811794 | E9: 0 | F9: 984 | G9: 41.83 | H9: 40.86
B10: De 1 € à 50 % du SMIC* | C10: 373413 | D10: 372865 | E10: 0 | F10: 548 | G10: 47.35 | H10: 46.25
B11: De 51 % à 100 % du SMIC* | C11: 260800 | D11: 260212 | E11: 0 | F11: 588 | G11: 49.79 | H11: 48.65
B12: Supérieur à 100% du SMIC* | C12: 254881 | D12: 252141 | E12: 0 | F12: 2740 | G12: 54.31 | H12: 53.09
B13: ENSEMBLE | C13: 1701872 | D13: 1697012 | E13: 0 | F13: 4860 | G13: 46.13 | H13: 45.07
B14: =Parametres!C6 -> 0
B15: Champ : Foyers bénéficiaires AL imapctés par la RLS
B16: Unité : Nombre de foyers bénéficiaires d'une aide au logement ou suspendus
B17: Le dispositif de réduction de loyer de solidarité entre en vigueur au 1er février 2018 : il consiste en une réduction de loyer à laquelle est associée une baisse de l'APL. Il s'applique au parc social géré par les bailleurs sociaux.
B18: Les Caf transmettent aux bailleurs la donnée RLS dans le cadre des flux existants, qui sera portée sur la quittance de loyer du locataire.
B19: (1) Bénéficiaires gardant un droit d'aide au logement supérieur à 10 €
B20: (2) Bénéficiaires ayant un droit supérieur à 10 € passant à moins de 10 € suite à la réforme RLS
B21: (3) Bénéficiaires ayant un droit positif sous le seuil de versement passant à 0 €
B23: * Smic annuel net | C23: 14628 | D23: en 2020
C24: 14772 | D24: en 2021
C25: 15948.6 | D25: en 2022

Sheet AL605
B2: =Parametres!C2 -> 0
B4: Réduction de loyer de solidarité selon la mesure corrective | I4: Retour liste
H6: =Parametres!C4 -> 0
B7: AL605 | C7: Foyers impactés par la RLS | D7: dont gardant leur droit versable (1) | E7: dont perdant leur droit versable (2) | F7: dont sans versement avant réforme (3) | G7: Montant moyen mensuel de RLS | H7: Montant moyen baisse APL induite par la RLS
B8: Foyers bénéfciaires AL bénéficiant d'au moins une mesure | C8: 518544 | D8: 517441 | E8: 0 | F8: 1103 | G8: 47.9 | H8: 46.78
B9: Isolé bénéficiant d'un abattement de ressources | C9: 103664 | D9: 103405 | E9: 0 | F9: 259 | G9: 43.48 | H9: 42.45
B10: Isolé bénéficiant d'une neutralisation abattement de ressources | C10: 252113 | D10: 251664 | E10: 0 | F10: 449 | G10: 44.1 | H10: 43.06
B11: Couple avec un abattement | C11: 39044 | D11: 38927 | E11: 0 | F11: 117 | G11: 55.97 | H11: 54.7
B12: Couple avec une neutralisation | C12: 95117 | D12: 94906 | E12: 0 | F12: 211 | G12: 57.36 | H12: 56.05
B13: Couple avec deux abattements | C13: 1871 | D13: 1866 | E13: 0 | F13: 5 | G13: 55.2 | H13: 53.95
B14: Couple avec deux neutralisations | C14: 17471 | D14: 17433 | E14: 0 | F14: 38 | G14: 54.98 | H14: 53.71
B15: Couple avec un abattement et une neutralisation | C15: 9264 | D15: 9240 | E15: 0 | F15: 24 | G15: 54.76 | H15: 53.49
B16: Sans abattement et sans neutralisation | C16: 1183328 | D16: 1179571 | E16: 0 | F16: 3757 | G16: 45.36 | H16: 44.32
B17: =Parametres!C6 -> 0
B18: Champ : Foyers bénéficiaires AL imapctés par la RLS
B19: Unité : Nombre de foyers bénéficiaires d'une aide au logement ou suspendus
B20: Le dispositif de réduction de loyer de solidarité entre en vigueur au 1er février 2018 : il consiste en une réduction de loyer à laquelle est associée une baisse de l'APL. Il s'applique au parc social géré par les bailleurs sociaux.
B21: Les Caf transmettent aux bailleurs la donnée RLS dans le cadre des flux existants, qui sera portée sur la quittance de loyer du locataire.
B22: (1) Bénéficiaires gardant un droit d'aide au logement supérieur à 10 €
B23: (2) Bénéficiaires ayant un droit supérieur à 10 € passant à moins de 10 € suite à la réforme RLS
B24: (3) Bénéficiaires ayant un droit positif sous le seuil de versement passant à 0 €

Sheet AL901
B2: =Parametres!C2 -> 0
B4: Montants détaillés selon le type de logement | F4: Retour liste
E6: =Parametres!C4 -> 0
B7: AL901 AL | C7: Nombre de foyers bénéficiaires | D7: Montant moyen du loyer | E7: Montant moyen de l'aide versable
C9: AL | D9: AL | E9: AL
B10: Foyer (Ehpad, Crous, FJT …) | C10: 377940 | D10: 1021.36 | E10: 222.29
B11: Location | C11: 5225236 | D11: 460.68 | E11: 244.8
B12: Accession | C12: 81141 | D12: 618 | E12: 192.27
B13: Non renseigné | C13: 1613 | D13: 1.29 | E13: 280.62
B14: ENSEMBLE | C14: 5685930 | D14: 500.07 | E14: 242.56
B15: =Parametres!C6 -> 0
B16: Champ : Foyers bénéficiaires d'une aide au logement
B17: Unité : Montants moyens du loyer et d'aide versable
B19: AL901 ALF | C19: Nombre de foyers bénéficiaires | D19: Montant moyen du loyer | E19: Montant moyen de l'aide versable
C21: ALF | D21: ALF | E21: ALF
B22: Foyer (Ehpad, Crous, FJT …) | C22: 683 | D22: 735.85 | E22: 255.78
B23: Location | C23: 760614 | D23: 648.58 | E23: 343.29
B24: Accession | C24: 40957 | D24: 663.92 | E24: 192.43
B25: Non renseigné | C25: 214 | D25: 2.82 | E25: 390.63
B26: ENSEMBLE | C26: 802468 | D26: 649.27 | E26: 335.52
B28: AL901 ALS | C28: Nombre de foyers bénéficiaires | D28: Montant moyen du loyer | E28: Montant moyen de l'aide versable
C30: ALS | D30: ALS | E30: ALS
B31: Foyer (Ehpad, Crous, FJT …) | C31: 155660 | D31: 1393.9 | E31: 149.68
B32: Location | C32: 2081791 | D32: 448.73 | E32: 217.42
B33: Accession | C33: 18841 | D33: 480.23 | E33: 163.88
B34: Non renseigné | C34: 549 | D34: 0.94 | E34: 222.61
B35: ENSEMBLE | C35: 2256841 | D35: 514.08 | E35: 212.3
B37: AL901 APL | C37: Nombre de foyers bénéficiaires | D37: Montant moyen du loyer | E37: Montant moyen de l'aide versable
C39: APL | D39: APL | E39: APL
B40: Foyer (Ehpad, Crous, FJT …) | C40: 221597 | D40: 760.56 | E40: 273.19
B41: Location | C41: 2382831 | D41: 411.15 | E41: 237.28
B42: Accession | C42: 21343 | D42: 651.48 | E42: 217.01
B43: Non renseigné | C43: 850 | D43: 1.13 | E43: 290.39
B44: ENSEMBLE | C44: 2626621 | D44: 442.45 | E44: 240.16

Sheet AL902
B2: =Parametres!C2 -> 0
B4: Montants détaillés selon la composition familiale | F4: Retour liste
E6: =Parametres!C4 -> 0
B7: AL902 AL | C7: Nombre de foyers bénéficiaires | D7: Montant moyen du loyer | E7: Montant moyen de l'aide versable
C9: AL | D9: AL | E9: AL
B10: Seul sans personne à charge | C10: 3458263 | D10: 469.06 | E10: 204.77
B11: Seul avec 1 personne à charge | C11: 561230 | D11: 500.47 | E11: 270.58
B12: Seul avec 2 personnes à charge | C12: 392085 | D12: 548.32 | E12: 314.3
B13: Seul avec 3 personnes à charge | C13: 172579 | D13: 575.13 | E13: 391.9
B14: Seul avec 4 personnes à charge ou plus | C14: 84633 | D14: 599.13 | E14: 489.11
B15: Sous total Seul | C15: 4668790 | D15: 485.77 | E15: 233.95
B16: En couple sans personne à charge | C16: 296938 | D16: 545.28 | E16: 250.75
B17: En couple avec 1 personne à charge | C17: 165954 | D17: 534.51 | E17: 255.4
B18: En couple avec 2 personnes à charge | C18: 212091 | D18: 568.73 | E18: 273.26
B19: En couple avec 3 personnes à charge | C19: 201901 | D19: 585.47 | E19: 301.47
B20: En couple avec 4 personnes à charge ou plus | C20: 140256 | D20: 612.78 | E20: 365.32
B21: Sous total en couple | C21: 1017140 | D21: 565.7 | E21: 282.07
B22: ENSEMBLE | C22: 5685930 | D22: 500.07 | E22: 242.56
B23: =Parametres!C6 -> 0
B24: Foyers bénéficiaires d'une aide au logement versable
B25: Unité : Montants moyens de ressource, de loyer et d'aide versable
B26: Enfant(s) à charge au sens des AL
B28: AL902 ALF | C28: Nombre de foyers bénéficiaires | D28: Montant moyen du loyer | E28: Montant moyen de l'aide versable
C30: AL | D30: AL | E30: AL
B31: Seul sans personne à charge | C31: 3086 | D31: 529.49 | E31: 253.67
B32: Seul avec 1 personne à charge | C32: 238524 | D32: 583.5 | E32: 287.62
B33: Seul avec 2 personnes à charge | C33: 165832 | D33: 646.34 | E33: 335.77
B34: Seul avec 3 personnes à charge | C34: 67064 | D34: 689.82 | E34: 432.7
B35: Seul avec 4 personnes à charge ou plus | C35: 33359 | D35: 718.04 | E35: 569.12
B36: Sous total Seul | C36: 507865 | D36: 626.57 | E36: 340.78
B37: En couple sans personne à charge | C37: 18231 | D37: 587.14 | E37: 269.65
B38: En couple avec 1 personne à charge | C38: 74492 | D38: 637.32 | E38: 277.43
B39: En couple avec 2 personnes à charge | C39: 86985 | D39: 691.63 | E39: 304.66
B40: En couple avec 3 personnes à charge | C40: 69763 | D40: 721.77 | E40: 347.35
B41: En couple avec 4 personnes à charge ou plus | C41: 45132 | D41: 755.85 | E41: 440.07
B42: Sous total en couple | C42: 294603 | D42: 688.4 | E42: 326.46
B43: ENSEMBLE | C43: 802468 | D43: 649.27 | E43: 335.52
B45: AL902 ALS | C45: Nombre de foyers bénéficiaires | D45: Montant moyen du loyer | E45: Montant moyen de l'aide versable
C47: AL | D47: AL | E47: AL
B48: Seul sans personne à charge | C48: 2111135 | D48: 506.29 | E48: 207.88
B49: Seul avec 1 personne à charge | C49: 6 | D49: 539.27 | E49: 338.86
B50: Seul avec 2 personnes à charge | C50: 24 | D50: 437.29 | E50: 252.97
B51: Seul avec 3 personnes à charge | C51: 1 | D51: 787.11 | E51: 89.44
B52: Seul avec 4 personnes à charge ou plus | C52: 0 | D52: 0 | E52: 0
B53: Sous total Seul | C53: 2111166 | D53: 506.29 | E53: 207.88
B54: En couple sans personne à charge | C54: 145670 | D54: 627 | E54: 276.35
B55: En couple avec 1 personne à charge | C55: 1 | D55: 1250 | E55: 283.41
B56: En couple avec 2 personnes à charge | C56: 4 | D56: 483.5 | E56: 297.74
B57: En couple avec 3 personnes à charge | C57: 0 | D57: 0 | E57: 0
B58: En couple avec 4 personnes à charge ou plus | C58: 0 | D58: 0 | E58: 0
B59: Sous total en couple | C59: 145675 | D59: 627 | E59: 276.35
B60: ENSEMBLE | C60: 2256841 | D60: 514.08 | E60: 212.3
B62: AL902 APL | C62: Nombre de foyers bénéficiaires | D62: Montant moyen du loyer | E62: Montant moyen de l'aide versable
C64: AL | D64: AL | E64: AL
B65: Seul sans personne à charge | C65: 1344042 | D65: 410.44 | E65: 199.78
B66: Seul avec 1 personne à charge | C66: 322700 | D66: 439.11 | E66: 257.99
B67: Seul avec 2 personnes à charge | C67: 226229 | D67: 476.48 | E67: 298.57
B68: Seul avec 3 personnes à charge | C68: 105514 | D68: 502.24 | E68: 365.97
B69: Seul avec 4 personnes à charge ou plus | C69: 51274 | D69: 521.77 | E69: 437.05
B70: Sous total Seul | C70: 2049759 | D70: 429.75 | E70: 234.34
B71: En couple sans personne à charge | C71: 133037 | D71: 450.07 | E71: 220.12
B72: En couple avec 1 personne à charge | C72: 91461 | D72: 450.77 | E72: 237.47
B73: En couple avec 2 personnes à charge | C73: 125102 | D73: 483.27 | E73: 251.43
B74: En couple avec 3 personnes à charge | C74: 132138 | D74: 513.51 | E74: 277.24
B75: En couple avec 4 personnes à charge ou plus | C75: 95124 | D75: 544.91 | E75: 329.86
B76: Sous total en couple | C76: 576862 | D76: 487.55 | E76: 260.84
B77: ENSEMBLE | C77: 2626621 | D77: 442.45 | E77: 240.16

Sheet AL903
B2: =Parametres!C2 -> 0
B4: Montants détaillés selon le zone géographique | F4: Retour liste
E6: =Parametres!C4 -> 0
B7: AL903 AL | C7: Nombre de foyers bénéficiaires | D7: Montant moyen du loyer | E7: Montant moyen de l'aide versable
C9: AL | D9: AL | E9: AL
B10: Foyers bénéficiaires d'une aide au logement par zone
B11: Zone 1 | C11: 1009020 | D11: 551.14 | E11: 267.12
B12: Zone 2 et 9 (Dom) | C12: 2840027 | D12: 464.4 | E12: 242.29
B13: Zone 3 | C13: 1835281 | D13: 527.62 | E13: 229.45
B14: Zone non renseignée | C14: 1602 | D14: 0 | E14: 280.87
B15: ENSEMBLE | C15: 5685930 | D15: 500.07 | E15: 242.56
B16: =Parametres!C6 -> 0
B17: Champ : Foyers bénéficiaires d'une aide au logement
B18: Unité : Montants moyens de ressource, de loyer et d'aide versable
B19: Zone 1 : agglomération parisienne et villes nouvelles situées en région Île-de-France
B20: Zone 2 : autres communes d'Ile-de France, agglomérations de plus de 100 000 habitants de province, villes nouvelles de province, Corse et Dom
B21: Zone 3 : le reste du territoire métropolitain
B23: AL903 ALF | C23: Nombre de foyers bénéficiaires | D23: Montant moyen du loyer | E23: Montant moyen de l'aide versable
C25: ALF | D25: ALF | E25: ALF
B26: Foyers bénéficiaires d'une aide au logement par zone
B27: Zone 1 | C27: 116241 | D27: 803.3 | E27: 375.96
B28: Zone 2 et 9 (Dom) | C28: 348163 | D28: 636.09 | E28: 354.47
B29: Zone 3 | C29: 337851 | D29: 610.26 | E29: 302.05
B30: Zone non renseignée | C30: 213 | D30: 0 | E30: 391.93
B31: ENSEMBLE | C31: 802468 | D31: 649.27 | E31: 335.52
B33: AL903 ALS | C33: Nombre de foyers bénéficiaires | D33: Montant moyen du loyer | E33: Montant moyen de l'aide versable
C35: ALS | D35: ALS | E35: ALS
B36: Foyers bénéficiaires d'une aide au logement par zone
B37: Zone 1 | C37: 352166 | D37: 603.86 | E37: 245.59
B38: Zone 2 et 9 (Dom) | C38: 1262099 | D38: 450.88 | E38: 209.69
B39: Zone 3 | C39: 642028 | D39: 589.5 | E39: 199.16
B40: Zone non renseignée | C40: 548 | D40: 0 | E40: 222.88
B41: ENSEMBLE | C41: 2256841 | D41: 514.08 | E41: 212.3
B43: AL903 APL | C43: Nombre de foyers bénéficiaires | D43: Montant moyen du loyer | E43: Montant moyen de l'aide versable
C45: APL | D45: APL | E45: APL
B46: Foyers bénéficiaires d'une aide au logement par zone
B47: Zone 1 | C47: 540613 | D47: 462.57 | E47: 257.74
B48: Zone 2 et 9 (Dom) | C48: 1229765 | D48: 429.66 | E48: 243.98
B49: Zone 3 | C49: 855402 | D49: 448.54 | E49: 223.51
B50: Zone non renseignée | C50: 841 | D50: 0 | E50: 290.53
B51: ENSEMBLE | C51: 2626621 | D51: 442.45 | E51: 240.16
