Workbook

Sheet Lisez moi
A1: Lisez-moi | C1: ACCOMPAGNEMENT FORMATION METIERS PETITE ENFANCE
A3: Exercice | B3: 2026
A5: Consignes d'utilisation du présent formulaire
A7: Pour chaque équipement concerné par le dispositif, il convient de saisir les informations figurant dans les cellules
B9: Onglet "1- Identification"
C10: Saisir les informations permettant de retrouver l'équipement qui est concerné par le dispositif de soutien à la formation
C11: Vous trouverez votre numéro gestionnaire et votre numéro équipement soit,
C12: - Sur vos notifications de subvention et de paiement
C13: Référence 1089-1658-4 : 1089 correspond au numéro gestionnaire et 1658 correspond au numéro équipement)
C14: - Sur AFAS
C15: onglet MES ACTIVITÉS : Numéro télédéclarant lié à l'équipement (ex: 1089-1658)
B16: Onglet "2- Declaration previsionnelle"
C17: 1-Professionnel(s) préparent une VAE
C18: 1.1- Professionnel(s) remplacé(s) durant les absences pour préparation de VAE
D19: Les heures sont à saisir au format décimal et à arrondir au 1/4 d'heure commencé.
D20: Exemples :
D21: une absence de 2h30 correspond à 2,5
D22: une absence de 2h15 correspond à 2,25
C23: Dans la colonne "Nb heures congé légal pour préparation VAE", indiquez le nombre d'heures de congé légal mobilisées en 2026 (sur l'année civile)
C24: 1.2- Professionnel(s) non remplacé(s) durant les absences pour préparation de VAE
D25: Les heures doivent être déclarées dans le service AFAS dans les données d'activité en "Nombre d'heures non facturées aux familles et intégralement prises en charge par la Psu en application d'une décision exceptionnelle de la Cnaf"
D26: Une même famille peut être concernée sur plusieurs mois
D27: Un même enfant peut être concerné sur plusieurs mois
C28: 2- Professionnel(s) participant au jury des VAE
C29: 2.1- Professionnel(s) remplacé(s) durant la participation à un jury de VAE
D30: Le décompte des jours d'absence des professionnels peut concerner des 1/2 journées
C31: 2.2-Professionnel(s) non remplacé(s) durant l'absence du (des) professionnel(s) pour participation au jury
D32: Les heures doivent être déclarées dans le service AFAS dans les données d'activité en "Nombre d'heures non facturées aux familles et intégralement prises en charge par la Psu en application d'une décision exceptionnelle de la Cnaf"
D33: Une même famille peut être concernée sur plusieurs mois
D34: Un même enfant peut être concerné sur plusieurs mois
C35: 3- Accompagnement de nouveaux professionnels de la catégorie 1
D36: =_xlfn.CONCAT("Indiquer le nombre de professionnels concernés par un engagement signé avant le 31/12/",B3) -> Indiquer le nombre de professionnels concernés par un engagement signé avant le 31/12/2026
B38: Onglet "3- Declaration reelle"
C39: Les consignes de saisie sont identiques à l'onglet "2- Declaration previsionnelle"
B40: Onglet "4-Synthese"
C41: Vous trouverez sur cet onglet le récapitulatif annuel des éléments déclarés sur les onglets :
D42: "2- Declaration previsionnelle"
D43: "3- Declaration reelle"

Sheet 1 - Identification
B2: Attention ! N'oubliez pas d'enregistrer régulièrement votre saisie !
B4: ACCOMPAGNEMENT FORMATION METIERS PETITE ENFANCE
B5: =_xlfn.CONCAT("Exercice ",'Lisez moi'!$B$3) -> Exercice 2026
B8: Nom du gestionnaire
B10: Numéro gestionnaire (AFAS)
B12: Nom de l'équipement
B14: Numéro équipement (AFAS)
B17: Date de la déclaration
B19: Nom du représentant légal
B21: Fonction du représentant légal

Sheet 2- Declaration previsionnelle
C1: =_xlfn.CONCAT("DECLARATION PREVISIONNELLE ",'Lisez moi'!$B$3) -> DECLARATION PREVISIONNELLE 2026
B3: Aide à la transposition des heures au format heure en format décimal
B4: Saisir le nombre d'heures d'absence ici au format hh:mm | H4: 1.0104167 | I4: la saisie dans les tableaux ci-dessous correspond à | N4: =ROUND(H4*24,2) -> 24.25
B6: 1-Professionnel(s) préparent une VAE
B7: 1.1- Professionnel(s) remplacé(s) durant les absences pour préparation de VAE
E9: Nombre d'heures d'absence des professionnels concernés (format décimal par 1/4 heure)
C10: Liste des professionnels de façon anonymisée | D10: Nb heures congé légal pour préparation VAE | E10: =_xlfn.CONCAT("Janv ",'Lisez moi'!$B$3) -> Janv 2026 | F10: =_xlfn.CONCAT("Fév ",'Lisez moi'!$B$3) -> Fév 2026 | G10: =_xlfn.CONCAT("Mars ",'Lisez moi'!$B$3) -> Mars 2026 | H10: =_xlfn.CONCAT("Avril ",'Lisez moi'!$B$3) -> Avril 2026 | I10: =_xlfn.CONCAT("Mai ",'Lisez moi'!$B$3) -> Mai 2026 | J10: =_xlfn.CONCAT("Juin ",'Lisez moi'!$B$3) -> Juin 2026 | K10: =_xlfn.CONCAT("Juil ",'Lisez moi'!$B$3) -> Juil 2026 | L10: =_xlfn.CONCAT("Août ",'Lisez moi'!$B$3) -> Août 2026 | M10: =_xlfn.CONCAT("Sept ",'Lisez moi'!$B$3) -> Sept 2026 | N10: =_xlfn.CONCAT("Oct ",'Lisez moi'!$B$3) -> Oct 2026 | O10: =_xlfn.CONCAT("Nov ",'Lisez moi'!$B$3) -> Nov 2026 | P10: =_xlfn.CONCAT("Déc ",'Lisez moi'!$B$3) -> Déc 2026 | Q10: Total
D11: 48 | E11: 36 | F11: 36 | G11: 36 | H11: 36 | Q11: =SUM(E11:P11) -> 144 | AA11: =IF(Q11-D11<0,0,Q11-D11) -> 96
Q12: =SUM(E12:P12) -> 0 | AA12: =IF(Q12-D12<0,0,Q12-D12) -> 0
Q13: =SUM(E13:P13) -> 0 | AA13: =IF(Q13-D13<0,0,Q13-D13) -> 0
Q14: =SUM(E14:P14) -> 0 | AA14: =IF(Q14-D14<0,0,Q14-D14) -> 0
Q15: =SUM(E15:P15) -> 0 | AA15: =IF(Q15-D15<0,0,Q15-D15) -> 0
Q16: =SUM(E16:P16) -> 0 | AA16: =IF(Q16-D16<0,0,Q16-D16) -> 0
Q17: =SUM(E17:P17) -> 0 | AA17: =IF(Q17-D17<0,0,Q17-D17) -> 0
Q18: =SUM(E18:P18) -> 0 | AA18: =IF(Q18-D18<0,0,Q18-D18) -> 0
Q19: =SUM(E19:P19) -> 0 | AA19: =IF(Q19-D19<0,0,Q19-D19) -> 0
Q20: =SUM(E20:P20) -> 0 | AA20: =IF(Q20-D20<0,0,Q20-D20) -> 0
Q21: =SUM(Q11:Q20) -> 144 | AA21: =SUM(AA11:AA20) -> 96
B25: 1.2- Professionnel(s) non remplacé(s) durant les absences pour préparation de VAE
E27: Nombre d'heures non facturées aux familles et non réalisées dues à l'absence des professionnels concernés (format décimal)
C28: Liste des professionnels de façon anonymisée | E28: =_xlfn.CONCAT("Janv ",'Lisez moi'!$B$3) -> Janv 2026 | F28: =_xlfn.CONCAT("Fév ",'Lisez moi'!$B$3) -> Fév 2026 | G28: =_xlfn.CONCAT("Mars ",'Lisez moi'!$B$3) -> Mars 2026 | H28: =_xlfn.CONCAT("Avril ",'Lisez moi'!$B$3) -> Avril 2026 | I28: =_xlfn.CONCAT("Mai ",'Lisez moi'!$B$3) -> Mai 2026 | J28: =_xlfn.CONCAT("Juin ",'Lisez moi'!$B$3) -> Juin 2026 | K28: =_xlfn.CONCAT("Juil ",'Lisez moi'!$B$3) -> Juil 2026 | L28: =_xlfn.CONCAT("Août ",'Lisez moi'!$B$3) -> Août 2026 | M28: =_xlfn.CONCAT("Sept ",'Lisez moi'!$B$3) -> Sept 2026 | N28: =_xlfn.CONCAT("Oct ",'Lisez moi'!$B$3) -> Oct 2026 | O28: =_xlfn.CONCAT("Nov ",'Lisez moi'!$B$3) -> Nov 2026 | P28: =_xlfn.CONCAT("Déc ",'Lisez moi'!$B$3) -> Déc 2026 | Q28: Total
Q29: =SUM(E29:P29) -> 0
Q30: =SUM(E30:P30) -> 0
Q31: =SUM(E31:P31) -> 0
Q32: =SUM(E32:P32) -> 0
Q33: =SUM(E33:P33) -> 0
Q34: =SUM(E34:P34) -> 0
Q35: =SUM(E35:P35) -> 0
Q36: =SUM(E36:P36) -> 0
Q37: =SUM(E37:P37) -> 0
Q38: =SUM(E38:P38) -> 0
P39: =IF(Q39>0,"Déclarer ces heures dans le dossier AFAS de l'équipement (cf onglet lisez moi)","") | Q39: =ROUNDUP(SUM(Q29:Q38),0) -> 0
E42: Nombre de familles concernées
E43: =_xlfn.CONCAT("Janv ",'Lisez moi'!$B$3) -> Janv 2026 | F43: =_xlfn.CONCAT("Fév ",'Lisez moi'!$B$3) -> Fév 2026 | G43: =_xlfn.CONCAT("Mars ",'Lisez moi'!$B$3) -> Mars 2026 | H43: =_xlfn.CONCAT("Avril ",'Lisez moi'!$B$3) -> Avril 2026 | I43: =_xlfn.CONCAT("Mai ",'Lisez moi'!$B$3) -> Mai 2026 | J43: =_xlfn.CONCAT("Juin ",'Lisez moi'!$B$3) -> Juin 2026 | K43: =_xlfn.CONCAT("Juil ",'Lisez moi'!$B$3) -> Juil 2026 | L43: =_xlfn.CONCAT("Août ",'Lisez moi'!$B$3) -> Août 2026 | M43: =_xlfn.CONCAT("Sept ",'Lisez moi'!$B$3) -> Sept 2026 | N43: =_xlfn.CONCAT("Oct ",'Lisez moi'!$B$3) -> Oct 2026 | O43: =_xlfn.CONCAT("Nov ",'Lisez moi'!$B$3) -> Nov 2026 | P43: =_xlfn.CONCAT("Déc ",'Lisez moi'!$B$3) -> Déc 2026 | Q43: Total
C44: Nb familles différentes | Q44: =SUM(E44:P44) -> 0
E46: Nombre d'enfants concernés
E47: =_xlfn.CONCAT("Janv ",'Lisez moi'!$B$3) -> Janv 2026 | F47: =_xlfn.CONCAT("Fév ",'Lisez moi'!$B$3) -> Fév 2026 | G47: =_xlfn.CONCAT("Mars ",'Lisez moi'!$B$3) -> Mars 2026 | H47: =_xlfn.CONCAT("Avril ",'Lisez moi'!$B$3) -> Avril 2026 | I47: =_xlfn.CONCAT("Mai ",'Lisez moi'!$B$3) -> Mai 2026 | J47: =_xlfn.CONCAT("Juin ",'Lisez moi'!$B$3) -> Juin 2026 | K47: =_xlfn.CONCAT("Juil ",'Lisez moi'!$B$3) -> Juil 2026 | L47: =_xlfn.CONCAT("Août ",'Lisez moi'!$B$3) -> Août 2026 | M47: =_xlfn.CONCAT("Sept ",'Lisez moi'!$B$3) -> Sept 2026 | N47: =_xlfn.CONCAT("Oct ",'Lisez moi'!$B$3) -> Oct 2026 | O47: =_xlfn.CONCAT("Nov ",'Lisez moi'!$B$3) -> Nov 2026 | P47: =_xlfn.CONCAT("Déc ",'Lisez moi'!$B$3) -> Déc 2026 | Q47: Total
C48: Nb enfants différents | Q48: =SUM(E48:P48) -> 0
B51: 2- Professionnel(s) participant au jury des VAE
B52: 2.1- Professionnel(s) remplacé(s) durant la participation à un jury de VAE
E54: Nombre de jours d'absence des professionnels
C55: Liste des professionnels de façon anonymisée | E55: =_xlfn.CONCAT("Janv ",'Lisez moi'!$B$3) -> Janv 2026 | F55: =_xlfn.CONCAT("Fév ",'Lisez moi'!$B$3) -> Fév 2026 | G55: =_xlfn.CONCAT("Mars ",'Lisez moi'!$B$3) -> Mars 2026 | H55: =_xlfn.CONCAT("Avril ",'Lisez moi'!$B$3) -> Avril 2026 | I55: =_xlfn.CONCAT("Mai ",'Lisez moi'!$B$3) -> Mai 2026 | J55: =_xlfn.CONCAT("Juin ",'Lisez moi'!$B$3) -> Juin 2026 | K55: =_xlfn.CONCAT("Juil ",'Lisez moi'!$B$3) -> Juil 2026 | L55: =_xlfn.CONCAT("Août ",'Lisez moi'!$B$3) -> Août 2026 | M55: =_xlfn.CONCAT("Sept ",'Lisez moi'!$B$3) -> Sept 2026 | N55: =_xlfn.CONCAT("Oct ",'Lisez moi'!$B$3) -> Oct 2026 | O55: =_xlfn.CONCAT("Nov ",'Lisez moi'!$B$3) -> Nov 2026 | P55: =_xlfn.CONCAT("Déc ",'Lisez moi'!$B$3) -> Déc 2026 | Q55: Total
Q56: =SUM(E56:P56) -> 0
Q57: =SUM(E57:P57) -> 0
Q58: =SUM(E58:P58) -> 0
Q59: =SUM(E59:P59) -> 0
Q60: =SUM(E60:P60) -> 0
Q61: =SUM(E61:P61) -> 0
Q62: =SUM(E62:P62) -> 0
Q63: =SUM(E63:P63) -> 0
Q64: =SUM(E64:P64) -> 0
Q65: =SUM(E65:P65) -> 0
Q66: =SUM(Q56:Q65) -> 0
B70: 2.2-Professionnel(s) non remplacé(s) durant l'absence du (des) professionnel(s) pour participation au jury
E72: Nombre d'heures non facturées aux familles et non réalisées dues à l'absence des professionnels concernés (format décimal)
C73: Liste des professionnels de façon anonymisée | E73: =_xlfn.CONCAT("Janv ",'Lisez moi'!$B$3) -> Janv 2026 | F73: =_xlfn.CONCAT("Fév ",'Lisez moi'!$B$3) -> Fév 2026 | G73: =_xlfn.CONCAT("Mars ",'Lisez moi'!$B$3) -> Mars 2026 | H73: =_xlfn.CONCAT("Avril ",'Lisez moi'!$B$3) -> Avril 2026 | I73: =_xlfn.CONCAT("Mai ",'Lisez moi'!$B$3) -> Mai 2026 | J73: =_xlfn.CONCAT("Juin ",'Lisez moi'!$B$3) -> Juin 2026 | K73: =_xlfn.CONCAT("Juil ",'Lisez moi'!$B$3) -> Juil 2026 | L73: =_xlfn.CONCAT("Août ",'Lisez moi'!$B$3) -> Août 2026 | M73: =_xlfn.CONCAT("Sept ",'Lisez moi'!$B$3) -> Sept 2026 | N73: =_xlfn.CONCAT("Oct ",'Lisez moi'!$B$3) -> Oct 2026 | O73: =_xlfn.CONCAT("Nov ",'Lisez moi'!$B$3) -> Nov 2026 | P73: =_xlfn.CONCAT("Déc ",'Lisez moi'!$B$3) -> Déc 2026 | Q73: Total
Q74: =SUM(E74:P74) -> 0
Q75: =SUM(E75:P75) -> 0
Q76: =SUM(E76:P76) -> 0
Q77: =SUM(E77:P77) -> 0
Q78: =SUM(E78:P78) -> 0
Q79: =SUM(E79:P79) -> 0
Q80: =SUM(E80:P80) -> 0
Q81: =SUM(E81:P81) -> 0
Q82: =SUM(E82:P82) -> 0
Q83: =SUM(E83:P83) -> 0
P84: =IF(Q84>0,"Déclarer ces heures dans le dossier AFAS de l'équipement (cf onglet lisez moi)","") | Q84: =ROUNDUP(SUM(Q74:Q83),0) -> 0
E87: Nombre de familles concernées
E88: =_xlfn.CONCAT("Janv ",'Lisez moi'!$B$3) -> Janv 2026 | F88: =_xlfn.CONCAT("Fév ",'Lisez moi'!$B$3) -> Fév 2026 | G88: =_xlfn.CONCAT("Mars ",'Lisez moi'!$B$3) -> Mars 2026 | H88: =_xlfn.CONCAT("Avril ",'Lisez moi'!$B$3) -> Avril 2026 | I88: =_xlfn.CONCAT("Mai ",'Lisez moi'!$B$3) -> Mai 2026 | J88: =_xlfn.CONCAT("Juin ",'Lisez moi'!$B$3) -> Juin 2026 | K88: =_xlfn.CONCAT("Juil ",'Lisez moi'!$B$3) -> Juil 2026 | L88: =_xlfn.CONCAT("Août ",'Lisez moi'!$B$3) -> Août 2026 | M88: =_xlfn.CONCAT("Sept ",'Lisez moi'!$B$3) -> Sept 2026 | N88: =_xlfn.CONCAT("Oct ",'Lisez moi'!$B$3) -> Oct 2026 | O88: =_xlfn.CONCAT("Nov ",'Lisez moi'!$B$3) -> Nov 2026 | P88: =_xlfn.CONCAT("Déc ",'Lisez moi'!$B$3) -> Déc 2026 | Q88: Total
C89: Nb familles différentes | Q89: =SUM(E89:P89) -> 0
E91: Nombre d'enfants concernés
E92: =_xlfn.CONCAT("Janv ",'Lisez moi'!$B$3) -> Janv 2026 | F92: =_xlfn.CONCAT("Fév ",'Lisez moi'!$B$3) -> Fév 2026 | G92: =_xlfn.CONCAT("Mars ",'Lisez moi'!$B$3) -> Mars 2026 | H92: =_xlfn.CONCAT("Avril ",'Lisez moi'!$B$3) -> Avril 2026 | I92: =_xlfn.CONCAT("Mai ",'Lisez moi'!$B$3) -> Mai 2026 | J92: =_xlfn.CONCAT("Juin ",'Lisez moi'!$B$3) -> Juin 2026 | K92: =_xlfn.CONCAT("Juil ",'Lisez moi'!$B$3) -> Juil 2026 | L92: =_xlfn.CONCAT("Août ",'Lisez moi'!$B$3) -> Août 2026 | M92: =_xlfn.CONCAT("Sept ",'Lisez moi'!$B$3) -> Sept 2026 | N92: =_xlfn.CONCAT("Oct ",'Lisez moi'!$B$3) -> Oct 2026 | O92: =_xlfn.CONCAT("Nov ",'Lisez moi'!$B$3) -> Nov 2026 | P92: =_xlfn.CONCAT("Déc ",'Lisez moi'!$B$3) -> Déc 2026 | Q92: Total
C93: Nb enfants différents | Q93: =SUM(E93:P93) -> 0
B96: 3- Accompagnement de nouveaux professionnels de la catégorie 1
F98: Total annuel
C99: Nombre de tuteurs
C100: Nombre de contrats d'alternance
C101: Nombre de stages longs rémunérés
E103: Période de turorat | I103: Période d'alternance à compter de la fin de la période d'essai | M103: Période de stage
E104: Début | F104: Fin | I104: Début | J104: Fin | M104: Début | N104: Fin
D105: Tuteur 01 | H105: Alternant 01 | L105: Stagiaire 01
D106: Tuteur 02 | H106: Alternant 02 | L106: Stagiaire 02
D107: Tuteur 03 | H107: Alternant 03 | L107: Stagiaire 03
D108: Tuteur 04 | H108: Alternant 04 | L108: Stagiaire 04
D109: Tuteur 05 | H109: Alternant 05 | L109: Stagiaire 05
D110: Tuteur 06 | H110: Alternant 06 | L110: Stagiaire 06
D111: Tuteur 07 | H111: Alternant 07 | L111: Stagiaire 07
D112: Tuteur 08 | H112: Alternant 08 | L112: Stagiaire 08
D113: Tuteur 09 | H113: Alternant 09 | L113: Stagiaire 09
D114: Tuteur 10 | H114: Alternant 10 | L114: Stagiaire 10

Sheet 3- Declaration reelle
C1: =_xlfn.CONCAT("DECLARATION REELLE ",'Lisez moi'!$B$3) -> DECLARATION REELLE 2026
B3: Aide à la transposition des heures au format heure en format décimal
B4: Saisir le nombre d'heures d'absence ici au format hh:mm | H4: 1.0104167 | I4: la saisie dans les tableaux ci-dessous correspond à | N4: =ROUND(H4*24,2) -> 24.25
B6: 1-Professionnel(s) préparent une VAE
B7: 1.1- Professionnel(s) remplacé(s) durant les absences pour préparation de VAE
E9: Nombre d'heures d'absence des professionnels concernés (format décimal par 1/4 heure)
C10: Liste des professionnels de façon anonymisée | D10: Nb heures congé légal pour préparation VAE | E10: =_xlfn.CONCAT("Janv ",'Lisez moi'!$B$3) -> Janv 2026 | F10: =_xlfn.CONCAT("Fév ",'Lisez moi'!$B$3) -> Fév 2026 | G10: =_xlfn.CONCAT("Mars ",'Lisez moi'!$B$3) -> Mars 2026 | H10: =_xlfn.CONCAT("Avril ",'Lisez moi'!$B$3) -> Avril 2026 | I10: =_xlfn.CONCAT("Mai ",'Lisez moi'!$B$3) -> Mai 2026 | J10: =_xlfn.CONCAT("Juin ",'Lisez moi'!$B$3) -> Juin 2026 | K10: =_xlfn.CONCAT("Juil ",'Lisez moi'!$B$3) -> Juil 2026 | L10: =_xlfn.CONCAT("Août ",'Lisez moi'!$B$3) -> Août 2026 | M10: =_xlfn.CONCAT("Sept ",'Lisez moi'!$B$3) -> Sept 2026 | N10: =_xlfn.CONCAT("Oct ",'Lisez moi'!$B$3) -> Oct 2026 | O10: =_xlfn.CONCAT("Nov ",'Lisez moi'!$B$3) -> Nov 2026 | P10: =_xlfn.CONCAT("Déc ",'Lisez moi'!$B$3) -> Déc 2026 | Q10: Total
Q11: =SUM(E11:P11) -> 0 | AA11: =IF(Q11-D11<0,0,Q11-D11) -> 0
Q12: =SUM(E12:P12) -> 0 | AA12: =IF(Q12-D12<0,0,Q12-D12) -> 0
Q13: =SUM(E13:P13) -> 0 | AA13: =IF(Q13-D13<0,0,Q13-D13) -> 0
Q14: =SUM(E14:P14) -> 0 | AA14: =IF(Q14-D14<0,0,Q14-D14) -> 0
Q15: =SUM(E15:P15) -> 0 | AA15: =IF(Q15-D15<0,0,Q15-D15) -> 0
Q16: =SUM(E16:P16) -> 0 | AA16: =IF(Q16-D16<0,0,Q16-D16) -> 0
Q17: =SUM(E17:P17) -> 0 | AA17: =IF(Q17-D17<0,0,Q17-D17) -> 0
Q18: =SUM(E18:P18) -> 0 | AA18: =IF(Q18-D18<0,0,Q18-D18) -> 0
Q19: =SUM(E19:P19) -> 0 | AA19: =IF(Q19-D19<0,0,Q19-D19) -> 0
Q20: =SUM(E20:P20) -> 0 | AA20: =IF(Q20-D20<0,0,Q20-D20) -> 0
Q21: =SUM(Q11:Q20) -> 0 | AA21: =SUM(AA11:AA20) -> 0
B25: 1.2- Professionnel(s) non remplacé(s) durant les absences pour préparation de VAE
E27: Nombre d'heures non facturées aux familles et non réalisées dues à l'absence des professionnels concernés (format décimal)
C28: Liste des professionnels de façon anonymisée | E28: =_xlfn.CONCAT("Janv ",'Lisez moi'!$B$3) -> Janv 2026 | F28: =_xlfn.CONCAT("Fév ",'Lisez moi'!$B$3) -> Fév 2026 | G28: =_xlfn.CONCAT("Mars ",'Lisez moi'!$B$3) -> Mars 2026 | H28: =_xlfn.CONCAT("Avril ",'Lisez moi'!$B$3) -> Avril 2026 | I28: =_xlfn.CONCAT("Mai ",'Lisez moi'!$B$3) -> Mai 2026 | J28: =_xlfn.CONCAT("Juin ",'Lisez moi'!$B$3) -> Juin 2026 | K28: =_xlfn.CONCAT("Juil ",'Lisez moi'!$B$3) -> Juil 2026 | L28: =_xlfn.CONCAT("Août ",'Lisez moi'!$B$3) -> Août 2026 | M28: =_xlfn.CONCAT("Sept ",'Lisez moi'!$B$3) -> Sept 2026 | N28: =_xlfn.CONCAT("Oct ",'Lisez moi'!$B$3) -> Oct 2026 | O28: =_xlfn.CONCAT("Nov ",'Lisez moi'!$B$3) -> Nov 2026 | P28: =_xlfn.CONCAT("Déc ",'Lisez moi'!$B$3) -> Déc 2026 | Q28: Total
Q29: =SUM(E29:P29) -> 0
Q30: =SUM(E30:P30) -> 0
Q31: =SUM(E31:P31) -> 0
Q32: =SUM(E32:P32) -> 0
Q33: =SUM(E33:P33) -> 0
Q34: =SUM(E34:P34) -> 0
Q35: =SUM(E35:P35) -> 0
Q36: =SUM(E36:P36) -> 0
Q37: =SUM(E37:P37) -> 0
Q38: =SUM(E38:P38) -> 0
P39: =IF(Q39>0,"Déclarer ces heures dans le dossier AFAS de l'équipement (cf onglet lisez moi)","") | Q39: =ROUNDUP(SUM(Q29:Q38),0) -> 0
E42: Nombre de familles concernées
E43: =_xlfn.CONCAT("Janv ",'Lisez moi'!$B$3) -> Janv 2026 | F43: =_xlfn.CONCAT("Fév ",'Lisez moi'!$B$3) -> Fév 2026 | G43: =_xlfn.CONCAT("Mars ",'Lisez moi'!$B$3) -> Mars 2026 | H43: =_xlfn.CONCAT("Avril ",'Lisez moi'!$B$3) -> Avril 2026 | I43: =_xlfn.CONCAT("Mai ",'Lisez moi'!$B$3) -> Mai 2026 | J43: =_xlfn.CONCAT("Juin ",'Lisez moi'!$B$3) -> Juin 2026 | K43: =_xlfn.CONCAT("Juil ",'Lisez moi'!$B$3) -> Juil 2026 | L43: =_xlfn.CONCAT("Août ",'Lisez moi'!$B$3) -> Août 2026 | M43: =_xlfn.CONCAT("Sept ",'Lisez moi'!$B$3) -> Sept 2026 | N43: =_xlfn.CONCAT("Oct ",'Lisez moi'!$B$3) -> Oct 2026 | O43: =_xlfn.CONCAT("Nov ",'Lisez moi'!$B$3) -> Nov 2026 | P43: =_xlfn.CONCAT("Déc ",'Lisez moi'!$B$3) -> Déc 2026 | Q43: Total
C44: Nb familles différentes | Q44: =SUM(E44:P44) -> 0
E46: Nombre d'enfants concernés
E47: =_xlfn.CONCAT("Janv ",'Lisez moi'!$B$3) -> Janv 2026 | F47: =_xlfn.CONCAT("Fév ",'Lisez moi'!$B$3) -> Fév 2026 | G47: =_xlfn.CONCAT("Mars ",'Lisez moi'!$B$3) -> Mars 2026 | H47: =_xlfn.CONCAT("Avril ",'Lisez moi'!$B$3) -> Avril 2026 | I47: =_xlfn.CONCAT("Mai ",'Lisez moi'!$B$3) -> Mai 2026 | J47: =_xlfn.CONCAT("Juin ",'Lisez moi'!$B$3) -> Juin 2026 | K47: =_xlfn.CONCAT("Juil ",'Lisez moi'!$B$3) -> Juil 2026 | L47: =_xlfn.CONCAT("Août ",'Lisez moi'!$B$3) -> Août 2026 | M47: =_xlfn.CONCAT("Sept ",'Lisez moi'!$B$3) -> Sept 2026 | N47: =_xlfn.CONCAT("Oct ",'Lisez moi'!$B$3) -> Oct 2026 | O47: =_xlfn.CONCAT("Nov ",'Lisez moi'!$B$3) -> Nov 2026 | P47: =_xlfn.CONCAT("Déc ",'Lisez moi'!$B$3) -> Déc 2026 | Q47: Total
C48: Nb enfants différents | Q48: =SUM(E48:P48) -> 0
B51: 2- Professionnel(s) participant au jury des VAE
B52: 2.1- Professionnel(s) remplacé(s) durant la participation à un jury de VAE
E54: Nombre de jours d'absence des professionnels
C55: Liste des professionnels de façon anonymisée | E55: =_xlfn.CONCAT("Janv ",'Lisez moi'!$B$3) -> Janv 2026 | F55: =_xlfn.CONCAT("Fév ",'Lisez moi'!$B$3) -> Fév 2026 | G55: =_xlfn.CONCAT("Mars ",'Lisez moi'!$B$3) -> Mars 2026 | H55: =_xlfn.CONCAT("Avril ",'Lisez moi'!$B$3) -> Avril 2026 | I55: =_xlfn.CONCAT("Mai ",'Lisez moi'!$B$3) -> Mai 2026 | J55: =_xlfn.CONCAT("Juin ",'Lisez moi'!$B$3) -> Juin 2026 | K55: =_xlfn.CONCAT("Juil ",'Lisez moi'!$B$3) -> Juil 2026 | L55: =_xlfn.CONCAT("Août ",'Lisez moi'!$B$3) -> Août 2026 | M55: =_xlfn.CONCAT("Sept ",'Lisez moi'!$B$3) -> Sept 2026 | N55: =_xlfn.CONCAT("Oct ",'Lisez moi'!$B$3) -> Oct 2026 | O55: =_xlfn.CONCAT("Nov ",'Lisez moi'!$B$3) -> Nov 2026 | P55: =_xlfn.CONCAT("Déc ",'Lisez moi'!$B$3) -> Déc 2026 | Q55: Total
Q56: =SUM(E56:P56) -> 0
Q57: =SUM(E57:P57) -> 0
Q58: =SUM(E58:P58) -> 0
Q59: =SUM(E59:P59) -> 0
Q60: =SUM(E60:P60) -> 0
Q61: =SUM(E61:P61) -> 0
Q62: =SUM(E62:P62) -> 0
Q63: =SUM(E63:P63) -> 0
Q64: =SUM(E64:P64) -> 0
Q65: =SUM(E65:P65) -> 0
Q66: =SUM(Q56:Q65) -> 0
B70: 2.2-Professionnel(s) non remplacé(s) durant l'absence du (des) professionnel(s) pour participation au jury
E72: Nombre d'heures non facturées aux familles et non réalisées dues à l'absence des professionnels concernés (format décimal)
C73: Liste des professionnels de façon anonymisée | E73: =_xlfn.CONCAT("Janv ",'Lisez moi'!$B$3) -> Janv 2026 | F73: =_xlfn.CONCAT("Fév ",'Lisez moi'!$B$3) -> Fév 2026 | G73: =_xlfn.CONCAT("Mars ",'Lisez moi'!$B$3) -> Mars 2026 | H73: =_xlfn.CONCAT("Avril ",'Lisez moi'!$B$3) -> Avril 2026 | I73: =_xlfn.CONCAT("Mai ",'Lisez moi'!$B$3) -> Mai 2026 | J73: =_xlfn.CONCAT("Juin ",'Lisez moi'!$B$3) -> Juin 2026 | K73: =_xlfn.CONCAT("Juil ",'Lisez moi'!$B$3) -> Juil 2026 | L73: =_xlfn.CONCAT("Août ",'Lisez moi'!$B$3) -> Août 2026 | M73: =_xlfn.CONCAT("Sept ",'Lisez moi'!$B$3) -> Sept 2026 | N73: =_xlfn.CONCAT("Oct ",'Lisez moi'!$B$3) -> Oct 2026 | O73: =_xlfn.CONCAT("Nov ",'Lisez moi'!$B$3) -> Nov 2026 | P73: =_xlfn.CONCAT("Déc ",'Lisez moi'!$B$3) -> Déc 2026 | Q73: Total
Q74: =SUM(E74:P74) -> 0
Q75: =SUM(E75:P75) -> 0
Q76: =SUM(E76:P76) -> 0
Q77: =SUM(E77:P77) -> 0
Q78: =SUM(E78:P78) -> 0
Q79: =SUM(E79:P79) -> 0
Q80: =SUM(E80:P80) -> 0
Q81: =SUM(E81:P81) -> 0
Q82: =SUM(E82:P82) -> 0
Q83: =SUM(E83:P83) -> 0
P84: =IF(Q84>0,"Déclarer ces heures dans le dossier AFAS de l'équipement (cf onglet lisez moi)","") | Q84: =ROUNDUP(SUM(Q74:Q83),0) -> 0
E87: Nombre de familles concernées
E88: =_xlfn.CONCAT("Janv ",'Lisez moi'!$B$3) -> Janv 2026 | F88: =_xlfn.CONCAT("Fév ",'Lisez moi'!$B$3) -> Fév 2026 | G88: =_xlfn.CONCAT("Mars ",'Lisez moi'!$B$3) -> Mars 2026 | H88: =_xlfn.CONCAT("Avril ",'Lisez moi'!$B$3) -> Avril 2026 | I88: =_xlfn.CONCAT("Mai ",'Lisez moi'!$B$3) -> Mai 2026 | J88: =_xlfn.CONCAT("Juin ",'Lisez moi'!$B$3) -> Juin 2026 | K88: =_xlfn.CONCAT("Juil ",'Lisez moi'!$B$3) -> Juil 2026 | L88: =_xlfn.CONCAT("Août ",'Lisez moi'!$B$3) -> Août 2026 | M88: =_xlfn.CONCAT("Sept ",'Lisez moi'!$B$3) -> Sept 2026 | N88: =_xlfn.CONCAT("Oct ",'Lisez moi'!$B$3) -> Oct 2026 | O88: =_xlfn.CONCAT("Nov ",'Lisez moi'!$B$3) -> Nov 2026 | P88: =_xlfn.CONCAT("Déc ",'Lisez moi'!$B$3) -> Déc 2026 | Q88: Total
C89: Nb familles différentes | Q89: =SUM(E89:P89) -> 0
E91: Nombre d'enfants concernés
E92: =_xlfn.CONCAT("Janv ",'Lisez moi'!$B$3) -> Janv 2026 | F92: =_xlfn.CONCAT("Fév ",'Lisez moi'!$B$3) -> Fév 2026 | G92: =_xlfn.CONCAT("Mars ",'Lisez moi'!$B$3) -> Mars 2026 | H92: =_xlfn.CONCAT("Avril ",'Lisez moi'!$B$3) -> Avril 2026 | I92: =_xlfn.CONCAT("Mai ",'Lisez moi'!$B$3) -> Mai 2026 | J92: =_xlfn.CONCAT("Juin ",'Lisez moi'!$B$3) -> Juin 2026 | K92: =_xlfn.CONCAT("Juil ",'Lisez moi'!$B$3) -> Juil 2026 | L92: =_xlfn.CONCAT("Août ",'Lisez moi'!$B$3) -> Août 2026 | M92: =_xlfn.CONCAT("Sept ",'Lisez moi'!$B$3) -> Sept 2026 | N92: =_xlfn.CONCAT("Oct ",'Lisez moi'!$B$3) -> Oct 2026 | O92: =_xlfn.CONCAT("Nov ",'Lisez moi'!$B$3) -> Nov 2026 | P92: =_xlfn.CONCAT("Déc ",'Lisez moi'!$B$3) -> Déc 2026 | Q92: Total
C93: Nb enfants différents | Q93: =SUM(E93:P93) -> 0
B96: 3- Accompagnement de nouveaux professionnels de la catégorie 1
F98: Total annuel
C99: Nombre de tuteurs
C100: Nombre de contrats d'alternance
C101: Nombre de stages longs rémunérés
E103: Période de turorat | I103: Période d'alternance à compter de la fin de la période d'essai | M103: Période de stage
E104: Début | F104: Fin | I104: Début | J104: Fin | M104: Début | N104: Fin
D105: Tuteur 01 | H105: Alternant 01 | L105: Stagiaire 01
D106: Tuteur 02 | H106: Alternant 02 | L106: Stagiaire 02
D107: Tuteur 03 | H107: Alternant 03 | L107: Stagiaire 03
D108: Tuteur 04 | H108: Alternant 04 | L108: Stagiaire 04
D109: Tuteur 05 | H109: Alternant 05 | L109: Stagiaire 05
D110: Tuteur 06 | H110: Alternant 06 | L110: Stagiaire 06
D111: Tuteur 07 | H111: Alternant 07 | L111: Stagiaire 07
D112: Tuteur 08 | H112: Alternant 08 | L112: Stagiaire 08
D113: Tuteur 09 | H113: Alternant 09 | L113: Stagiaire 09
D114: Tuteur 10 | H114: Alternant 10 | L114: Stagiaire 10

Sheet 4- Synthese
B1: =_xlfn.CONCAT("Synthèse - Déclarations ",'Lisez moi'!$B$3) -> Synthèse - Déclarations 2026
B3: 1-Professionnel(s) préparent une VAE | G3: PREVISIONNEL | K3: REEL
C5: 1.1- Professionnel(s) remplacé(s) durant les absences pour préparation de VAE
D7: Nombre de professionnels concernés | H7: =COUNTIF('2- Declaration previsionnelle'!Q11:Q20,">0") -> 1 | L7: =COUNTIF('3- Declaration reelle'!Q11:Q20,">0") -> 0
D9: Nombre d'heures d'absence pour tous les professionnels concernés (a) | H9: ='2- Declaration previsionnelle'!Q21 -> 144 | L9: ='3- Declaration reelle'!Q21 -> 0
D11: Nombre d'heures retenues pour la subvention [(a) - heures du congé légal par professionnel] | H11: ='2- Declaration previsionnelle'!AA21 -> 96 | L11: ='3- Declaration reelle'!AA21 -> 0
D13: Soit un nombre de jours arrondi à | H13: =ROUND((H11/7),2) -> 13.71 | L13: =ROUND((L11/7),2) -> 0
C14: OU
C16: 1.2- Professionnel(s) non remplacé(s) durant les absences pour préparation de VAE
D18: Nombre de professionnels concernés | H18: =COUNTIF('2- Declaration previsionnelle'!Q29:Q38,">0") -> 0 | L18: =COUNTIF('3- Declaration reelle'!Q29:Q38,">0") -> 0
D20: Nombre d'heures non facturées et non réalisées dues à l'absence des professionnels concernés | H20: ='2- Declaration previsionnelle'!Q39 -> 0 | L20: ='3- Declaration reelle'!Q39 -> 0
D24: Nombre de familles concernées | H24: ='2- Declaration previsionnelle'!Q44 -> 0 | L24: ='3- Declaration reelle'!Q44 -> 0
D26: Nombre d'enfants concernés | H26: ='2- Declaration previsionnelle'!Q48 -> 0 | L26: ='3- Declaration reelle'!Q48 -> 0
B29: 2- Professionnel(s) participant au jury des VAE | G29: PREVISIONNEL | K29: REEL
C31: 2.1- Professionnel(s) remplacé(s) durant la participation à un jury de VAE
D33: Nombre de professionnel(s) concerné(s) | H33: =COUNTIF('2- Declaration previsionnelle'!Q56:Q65,">0") -> 0 | L33: =COUNTIF('3- Declaration reelle'!Q56:Q65,">0") -> 0
D35: Nombre de jours d'absence du (des) professionnel(s) | H35: ='2- Declaration previsionnelle'!Q66 -> 0 | L35: ='3- Declaration reelle'!Q66 -> 0
C37: OU
C39: 2.2-Professionnel(s) non remplacé(s) durant l'absence du (des) professionnel(s) pour participation au jury
D41: Nombre de professionnels concernés | H41: =COUNTIF('2- Declaration previsionnelle'!Q74:Q83,">0") -> 0 | L41: =COUNTIF('3- Declaration reelle'!Q74:Q83,">0") -> 0
D43: Nombre d'heures non facturées et non réalisées dues à l'absence des professionnels concernés | H43: ='2- Declaration previsionnelle'!Q84 -> 0 | L43: ='3- Declaration reelle'!Q84 -> 0
D47: Nombre de familles concernées | H47: ='2- Declaration previsionnelle'!Q89 -> 0 | L47: ='3- Declaration reelle'!Q89 -> 0
D49: Nombre d'enfants concernés | H49: ='2- Declaration previsionnelle'!Q93 -> 0 | L49: ='3- Declaration reelle'!Q93 -> 0
B52: 3- Accompagnement de nouveaux professionnels de la catégorie 1 | G52: PREVISIONNEL | K52: REEL
D54: Nombre de tuteurs | H54: ='2- Declaration previsionnelle'!F99 -> 0 | L54: ='3- Declaration reelle'!F99 -> 0
D56: Nombre de contrats d'alternance | H56: ='2- Declaration previsionnelle'!F100 -> 0 | L56: ='3- Declaration reelle'!F100 -> 0
D58: Nombre de stages longs rémunérés | H58: ='2- Declaration previsionnelle'!F101 -> 0 | L58: ='3- Declaration reelle'!F101 -> 0

Sheet Evolution versions
A1: VERSION DE L'UTILITAIRE
A3: Numéro version | B3: Date modification | C3: Commentaire
A4: 2026 V1 | B4: 46206 | C4: Création de l'utilitaire pour l'exercice 2026
A5: 2026 V2 | B5: 46219 | C5: Correction fautes de frappes
A6: 2026 V3 | B6: 46255 | C6: Ajout de la date de la déclaration et du nom du représentant légal sur l'onglet identification
A7: 2026 V4 | B7: 46268 | C7: Modification du formulaire pour intégration de la modulation de la durée légale du congé pour préparer une VAE et des évolutions de forme

Sheet Recap
E2: Prévisionnel | V2: Réel
E3: 1-Professionnel(s) préparent une VAE | M3: 2- Professionnel(s) participant au jury des VAE | S3: 3- Accompagnement de nouveaux professionnels de la catégorie 1 | V3: 1-Professionnel(s) préparent une VAE | AD3: 2- Professionnel(s) participant au jury des VAE | AJ3: 3- Accompagnement de nouveaux professionnels de la catégorie 1
E4: 1.1- Professionnel(s) remplacé(s) durant les absences pour préparation de VAE | I4: 1.2- Professionnel(s) non remplacé(s) durant les absences pour préparation de VAE | M4: 2.1- Professionnel(s) remplacé(s) durant la participation à un jury de VAE | O4: 2.2-Professionnel(s) non remplacé(s) durant l'absence du (des) professionnel(s) pour participation au jury | V4: 1.1- Professionnel(s) remplacé(s) durant les absences pour préparation de VAE | Z4: 1.2- Professionnel(s) non remplacé(s) durant les absences pour préparation de VAE | AD4: 2.1- Professionnel(s) remplacé(s) durant la participation à un jury de VAE | AF4: 2.2-Professionnel(s) non remplacé(s) durant l'absence du (des) professionnel(s) pour participation au jury
A5: Idgest | B5: Nom gest | C5: Ideq | D5: Nom eq | E5: Nombre de professionnels concernés | F5: Nombre d'heures d'absence pour tous les professionnels concernés (a) | G5: Nombre d'heures retenues pour la subvention [(a) - h du congé légal par professionnel] | H5: Soit un nombre de jours arrondi à | I5: Nombre de professionnels concernés | J5: Nombre d'heures non facturées et non réalisées dues à l'absence des professionnels concernés | K5: Nombre de familles concernées | L5: Nombre d'enfants concernés | M5: Nombre de professionnel(s) concerné(s) | N5: Nombre de jours d'absence du (des) professionnel(s) | O5: Nombre de professionnels concernés | P5: Nombre d'heures non facturées et non réalisées dues à l'absence des professionnels concernés | Q5: Nombre de familles concernées | R5: Nombre d'enfants concernés | S5: Nombre de tuteurs | T5: Nombre de contrats d'alternance | U5: Nombre de stages longs rémunérés | V5: Nombre de professionnels concernés | W5: Nombre d'heures d'absence pour tous les professionnels concernés (a) | X5: Nombre d'heures retenues pour la subvention [(a) - h du congé légal par professionnel] | Y5: Soit un nombre de jours arrondi à | Z5: Nombre de professionnels concernés | AA5: Nombre d'heures non facturées et non réalisées dues à l'absence des professionnels concernés | AB5: Nombre de familles concernées | AC5: Nombre d'enfants concernés | AD5: Nombre de professionnel(s) concerné(s) | AE5: Nombre de jours d'absence du (des) professionnel(s) | AF5: Nombre de professionnels concernés | AG5: Nombre d'heures non facturées et non réalisées dues à l'absence des professionnels concernés | AH5: Nombre de familles concernées | AI5: Nombre d'enfants concernés | AJ5: Nombre de tuteurs | AK5: Nombre de contrats d'alternance | AL5: Nombre de stages longs rémunérés
A6: ='1 - Identification'!D10 -> 0 | B6: ='1 - Identification'!D8 -> 0 | C6: ='1 - Identification'!D14 -> 0 | D6: ='1 - Identification'!D12 -> 0 | E6: ='4- Synthese'!H7 -> 1 | F6: ='4- Synthese'!H9 -> 144 | G6: ='4- Synthese'!H11 -> 96 | H6: ='4- Synthese'!H13 -> 13.71 | I6: ='4- Synthese'!H18 -> 0 | J6: ='4- Synthese'!H20 -> 0 | K6: ='4- Synthese'!H24 -> 0 | L6: ='4- Synthese'!H26 -> 0 | M6: ='4- Synthese'!H33 -> 0 | N6: ='4- Synthese'!H35 -> 0 | O6: ='4- Synthese'!H41 -> 0 | P6: ='4- Synthese'!H43 -> 0 | Q6: ='4- Synthese'!H47 -> 0 | R6: ='4- Synthese'!H49 -> 0 | S6: ='4- Synthese'!H54 -> 0 | T6: ='4- Synthese'!H56 -> 0 | U6: ='4- Synthese'!H58 -> 0 | V6: ='4- Synthese'!L7 -> 0 | W6: ='4- Synthese'!L9 -> 0 | X6: ='4- Synthese'!L11 -> 0 | Y6: ='4- Synthese'!L13 -> 0 | Z6: ='4- Synthese'!L18 -> 0 | AA6: ='4- Synthese'!L20 -> 0 | AB6: ='4- Synthese'!L24 -> 0 | AC6: ='4- Synthese'!L26 -> 0 | AD6: ='4- Synthese'!L33 -> 0 | AE6: ='4- Synthese'!L35 -> 0 | AF6: ='4- Synthese'!L41 -> 0 | AG6: ='4- Synthese'!L43 -> 0 | AH6: ='4- Synthese'!L47 -> 0 | AI6: ='4- Synthese'!L49 -> 0 | AJ6: ='4- Synthese'!L54 -> 0 | AK6: ='4- Synthese'!L56 -> 0 | AL6: ='4- Synthese'!L58 -> 0
