Workbook

Sheet Lisez moi
A1: Lisez-moi | C1: COMPENSATION DES ABSENCES LIEES AU CONGE SUPPLEMENTAIRE DE NAISSANCE
A3: Exercice | B3: 2026
A5: Consignes d'utilisation du présent formulaire
A7: Les données sont à saisir dans les cellules sur fond bleu dans les onglets "1-Identification", "2-Déclaration prévisionnelle" et "3- Déclaration réelle"
B9: Onglet "1- Identification"
C10: Saisir les informations permettant de retrouver l'équipement qui est concerné par le dispositif de compensation des heures liées au CSN.
C11: Vous trouverez votre numéro gestionnaire et votre numéro équipement soit,
C12: - Sur vos notifications de subvention et de paiement
C13: Référence 1089-1658-4 : 1089 correspond au numéro gestionnaire et 1658 correspond au numéro équipement)
C14: - Sur AFAS
C15: onglet MES ACTIVITÉS : Numéro télédéclarant lié à l'équipement (ex: 1089-1658)
B16: Onglet "2- Declaration previsionnelle"
C17: Cet onglet permet de déterminer le nombre d'heures de compensation financières liées à la mise en œuvre du Congé Supplémentaire de Naissance.
C18: Dès la saisie de l'identification du 1er enfant, les zones se colorent en bleu au fur et à mesure de votre saisie
C19: Les heures doivent être déclarées dans le service AFAS dans les données d'activité en "Nombre d'heures non facturées aux familles et intégralement prises en charge par la Psu en application d'une décision exceptionnelle de la Cnaf"
C21: Le total à déclarer pour l'équipement concerné figure en cellule AY3
B22: Onglet "3- Declaration reelle"
C23: Les consignes de saisie sont identiques à l'onglet "2- Declaration previsionnelle"

Sheet 1 - Identification
B2: Attention ! N'oubliez pas d'enregistrer régulièrement votre saisie !
B4: Compensation des effets du congé supplémentaire de naissance
B5: =_xlfn.CONCAT("Exercice ",'Lisez moi'!$B$3) -> Exercice 2026
B8: Nom du gestionnaire
B10: Numéro gestionnaire (AFAS)
B12: Nom de l'équipement
B14: Numéro équipement (AFAS)
B18: Date de la déclaration
B20: Nom du représentant légal
B22: Fonction du représentant légal

Sheet 2-Déclaration prévisionnelle
A1: DECLARATION PREVISIONNELLE 2026
AX3: Nb heures non réalisées et non facturées à déclarer dans le dossier Psu de l'équipement (service AFAS) | AY3: =SUM(AY11:AY25) -> 0
I4: =IF(OR(I11>31,I12>31,I13>31,I14>31,I15>31,I16>31,I17>31,I18>31,I19>31,I20>31,I21>31,I22>31,I23>31,I24>31,I25>31),"Err : valeur max 31","") | P4: =IF(OR(P11>31,P12>31,P13>31,P14>31,P15>31,P16>31,P17>31,P18>31,P19>31,P20>31,P21>31,P22>31,P23>31,P24>31,P25>31),"Err : valeur max 31","") | W4: =IF(OR(W11>30,W12>30,W13>30,W14>30,W15>30,W16>30,W17>30,W18>30,W19>30,W20>30,W21>30,W22>30,W23>30,W24>30,W25>30),"Err : valeur max 30","") | AD4: =IF(OR(AD11>31,AD12>31,AD13>31,AD14>31,AD15>31,AD16>31,AD17>31,AD18>31,AD19>31,AD20>31,AD21>31,AD22>31,AD23>31,AD24>31,AD25>31),"Err : valeur max 31","") | AK4: =IF(OR(AK11>30,AK12>30,AK13>30,AK14>30,AK15>30,AK16>30,AK17>30,AK18>30,AK19>30,AK20>30,AK21>30,AK22>30,AK23>30,AK24>30,AK25>30),"Err : valeur max 30","") | AR4: =IF(OR(AR11>31,AR12>31,AR13>31,AR14>31,AR15>31,AR16>31,AR17>31,AR18>31,AR19>31,AR20>31,AR21>31,AR22>31,AR23>31,AR24>31,AR25>31),"Err : valeur max 31","")
C5: Mois concernés par l'absence due au CSN | I5: Données mensuelles du mois de Juillet 2026 | P5: Données mensuelles du mois de Aout 2026 | W5: Données mensuelles du mois de Septembre 2026 | AD5: Données mensuelles du mois de Octobre 2026 | AK5: Données mensuelles du mois de Novembre 2026 | AR5: Données mensuelles du mois de Décembre 2026 | AY5: Total
A6: Liste anonymisée des enfants (1 ligne par enfant) | B6: Date de naissance de l'enfant | C6: Juillet 2026 | D6: Août 2026 | E6: Septembre 2026 | F6: Octobre 2026 | G6: Novembre 2026 | H6: Décembre 2026 | I6: Nb jours d'accueil prévus au contrat lors de l'inscription | J6: Nb heures accueil prévues au contrat lors de l'inscription | K6: Soit, Nb heures par jour prévues au contrat lors de l'inscription | L6: Nb jours d'absence dus au CSN | M6: Nb heures non réalisées et non facturées pour l'enfant dues au CSN | N6: Nb jours maximum retenus pour compensation | O6: Nb heures non réalisées retenues du mois | P6: Nb jours d'accueil prévus au contrat lors de l'inscription | Q6: Nb heures accueil prévues au contrat lors de l'inscription | R6: Soit, Nb heures par jour prévues au contrat lors de l'inscription | S6: Nb jours d'absence dus au CSN | T6: Nb heures non réalisées et non facturées pour l'enfant dues au CSN | U6: Nb jours maximum retenus pour compensation | V6: Nb heures non réalisées retenues du mois | W6: Nb jours d'accueil prévus au contrat lors de l'inscription | X6: Nb heures accueil prévues au contrat lors de l'inscription | Y6: Soit, Nb heures par jour prévues au contrat lors de l'inscription | Z6: Nb jours d'absence dus au CSN | AA6: Nb heures non réalisées et non facturées pour l'enfant dues au CSN | AB6: Nb jours maximum retenus pour compensation | AC6: Nb heures non réalisées retenues du mois | AD6: Nb jours d'accueil prévus au contrat lors de l'inscription | AE6: Nb heures accueil prévues au contrat lors de l'inscription | AF6: Soit, Nb heures par jour prévues au contrat lors de l'inscription | AG6: Nb jours d'absence dus au CSN | AH6: Nb heures non réalisées et non facturées pour l'enfant dues au CSN | AI6: Nb jours maximum retenus pour compensation | AJ6: Nb heures non réalisées retenues du mois | AK6: Nb jours d'accueil prévus au contrat pour le mois | AL6: Nb heures accueil prévues au contrat pour le mois | AM6: Soit, Nb heures par jour prévues au contrat lors de l'inscription | AN6: Nb jours d'absence dus au CSN | AO6: Nb heures non réalisées et non facturées pour l'enfant dues au CSN | AP6: Nb jours maximum retenus pour compensation | AQ6: Nb heures non réalisées retenues du mois | AR6: Nb jours d'accueil prévus au contrat pour le mois | AS6: Nb heures accueil prévues au contrat pour le mois | AT6: Soit, Nb heures par jour prévues au contrat lors de l'inscription | AU6: Nb jours d'absence dus au CSN | AV6: Nb heures non réalisées et non facturées pour l'enfant dues au CSN | AW6: Nb jours maximum retenus pour compensation | AX6: Nb heures non réalisées retenues du mois | AY6: Nb heures non réalisées et non facturées retenues
A7: Exemple 1 | B7: 46037 | C7: Non | D7: Non | E7: Oui | F7: Oui | G7: Oui | H7: Oui | W7: 20 | X7: 120 | Y7: 6 | Z7: 20 | AA7: 120 | AB7: 20 | AC7: 120 | AD7: 20 | AE7: 120 | AF7: 6 | AG7: 20 | AH7: 120 | AI7: 20 | AJ7: 120 | AK7: 20 | AL7: 120 | AM7: 6 | AN7: 20 | AO7: 120 | AP7: 20 | AQ7: 120 | AR7: 20 | AS7: 120 | AT7: 6 | AU7: 20 | AV7: 120 | AW7: 20 | AX7: 120 | AY7: 480
A8: Exemple 2 | B8: 46037 | C8: Non | D8: Non | E8: Oui | F8: Oui | G8: Non | H8: Non | W8: 20 | X8: 160 | Y8: 8 | Z8: 20 | AA8: 160 | AB8: 20 | AC8: 160 | AD8: 20 | AE8: 160 | AF8: 8 | AG8: 20 | AH8: 160 | AI8: 20 | AJ8: 160 | AY8: 320
A9: Exemple 3 | B9: 46006 | C9: Non | D9: Non | E9: Non | F9: Non | G9: Oui | H9: Oui | AK9: 20 | AL9: 160 | AM9: 8 | AN9: 20 | AO9: 160 | AP9: 20 | AQ9: 160 | AR9: 20 | AS9: 160 | AT9: 8 | AU9: 14 | AV9: 112 | AW9: 14 | AX9: 112 | AY9: 272
K11: =IF(AND(J11>0,I11>0),J11/I11,"") | N11: =IF(AND(J11>0,I11>0,L11>0,M11>0),MIN(I11,L11,20),"") | O11: =IF(AND(J11>0,I11>0,L11>0,M11>0),ROUND(MIN(M11,N11*K11),0),"") | R11: =IF(AND(Q11>0,P11>0),Q11/P11,"") | U11: =IF(AND(Q11>0,P11>0,S11>0,T11>0),MIN(P11,S11,20),"") | V11: =IF(AND(Q11>0,P11>0,S11>0,T11>0),ROUND(MIN(T11,U11*R11),0),"") | Y11: =IF(AND(X11>0,W11>0),X11/W11,"") | AB11: =IF(AND(X11>0,W11>0,Z11>0,AA11>0),MIN(W11,Z11,20),"") | AC11: =IF(AND(X11>0,W11>0,Z11>0,AA11>0),ROUND(MIN(AA11,AB11*Y11),0),"") | AF11: =IF(AND(AE11>0,AD11>0),AE11/AD11,"") | AI11: =IF(AND(AE11>0,AD11>0,AG11>0,AH11>0),MIN(AD11,AG11,20),"") | AJ11: =IF(AND(AE11>0,AD11>0,AG11>0,AH11>0),ROUND(MIN(AH11,AI11*AF11),0),"") | AM11: =IF(AND(AL11>0,AK11>0),AL11/AK11,"") | AP11: =IF(AND(AL11>0,AK11>0,AN11>0,AO11>0),MIN(AK11,AN11,20),"") | AQ11: =IF(AND(AL11>0,AK11>0,AN11>0,AO11>0),ROUND(MIN(AO11,AP11*AM11),0),"") | AT11: =IF(AND(AS11>0,AR11>0),AS11/AR11,"") | AW11: =IF(AND(AS11>0,AR11>0,AU11>0,AV11>0),MIN(AR11,AU11,20),"") | AX11: =IF(AND(AS11>0,AR11>0,AU11>0,AV11>0),ROUND(MIN(AV11,AW11*AT11),0),"") | AY11: =IF(A11="","",IF(L11+S11+Z11+AG11+AN11+AU11>80,"Nb jours CSN>80",SUM(AX11,AQ11,AJ11,AC11,V11,O11))) | AZ11: =IF(C11="Oui",1,0) -> 0 | BA11: =IF(D11="Oui",1,0) -> 0 | BB11: =IF(E11="Oui",1,0) -> 0 | BC11: =IF(F11="Oui",1,0) -> 0 | BD11: =IF(G11="Oui",1,0) -> 0 | BE11: =IF(H11="Oui",1,0) -> 0
K12: =IF(AND(J12>0,I12>0),J12/I12,"") | N12: =IF(AND(J12>0,I12>0,L12>0,M12>0),MIN(I12,L12,20),"") | O12: =IF(AND(J12>0,I12>0,L12>0,M12>0),ROUND(MIN(M12,N12*K12),0),"") | R12: =IF(AND(Q12>0,P12>0),Q12/P12,"") | U12: =IF(AND(Q12>0,P12>0,S12>0,T12>0),MIN(P12,S12,20),"") | V12: =IF(AND(Q12>0,P12>0,S12>0,T12>0),ROUND(MIN(T12,U12*R12),0),"") | Y12: =IF(AND(X12>0,W12>0),X12/W12,"") | AB12: =IF(AND(X12>0,W12>0,Z12>0,AA12>0),MIN(W12,Z12,20),"") | AC12: =IF(AND(X12>0,W12>0,Z12>0,AA12>0),ROUND(MIN(AA12,AB12*Y12),0),"") | AF12: =IF(AND(AE12>0,AD12>0),AE12/AD12,"") | AI12: =IF(AND(AE12>0,AD12>0,AG12>0,AH12>0),MIN(AD12,AG12,20),"") | AJ12: =IF(AND(AE12>0,AD12>0,AG12>0,AH12>0),ROUND(MIN(AH12,AI12*AF12),0),"") | AM12: =IF(AND(AL12>0,AK12>0),AL12/AK12,"") | AP12: =IF(AND(AL12>0,AK12>0,AN12>0,AO12>0),MIN(AK12,AN12,20),"") | AQ12: =IF(AND(AL12>0,AK12>0,AN12>0,AO12>0),ROUND(MIN(AO12,AP12*AM12),0),"") | AT12: =IF(AND(AS12>0,AR12>0),AS12/AR12,"") | AW12: =IF(AND(AS12>0,AR12>0,AU12>0,AV12>0),MIN(AR12,AU12,20),"") | AX12: =IF(AND(AS12>0,AR12>0,AU12>0,AV12>0),ROUND(MIN(AV12,AW12*AT12),0),"") | AY12: =IF(A12="","",IF(L12+S12+Z12+AG12+AN12+AU12>80,"Nb jours CSN>80",SUM(AX12,AQ12,AJ12,AC12,V12,O12))) | AZ12: =IF(C12="Oui",1,0) -> 0 | BA12: =IF(D12="Oui",1,0) -> 0 | BB12: =IF(E12="Oui",1,0) -> 0 | BC12: =IF(F12="Oui",1,0) -> 0 | BD12: =IF(G12="Oui",1,0) -> 0 | BE12: =IF(H12="Oui",1,0) -> 0
K13: =IF(AND(J13>0,I13>0),J13/I13,"") | N13: =IF(AND(J13>0,I13>0,L13>0,M13>0),MIN(I13,L13,20),"") | O13: =IF(AND(J13>0,I13>0,L13>0,M13>0),ROUND(MIN(M13,N13*K13),0),"") | R13: =IF(AND(Q13>0,P13>0),Q13/P13,"") | U13: =IF(AND(Q13>0,P13>0,S13>0,T13>0),MIN(P13,S13,20),"") | V13: =IF(AND(Q13>0,P13>0,S13>0,T13>0),ROUND(MIN(T13,U13*R13),0),"") | Y13: =IF(AND(X13>0,W13>0),X13/W13,"") | AB13: =IF(AND(X13>0,W13>0,Z13>0,AA13>0),MIN(W13,Z13,20),"") | AC13: =IF(AND(X13>0,W13>0,Z13>0,AA13>0),ROUND(MIN(AA13,AB13*Y13),0),"") | AF13: =IF(AND(AE13>0,AD13>0),AE13/AD13,"") | AI13: =IF(AND(AE13>0,AD13>0,AG13>0,AH13>0),MIN(AD13,AG13,20),"") | AJ13: =IF(AND(AE13>0,AD13>0,AG13>0,AH13>0),ROUND(MIN(AH13,AI13*AF13),0),"") | AM13: =IF(AND(AL13>0,AK13>0),AL13/AK13,"") | AP13: =IF(AND(AL13>0,AK13>0,AN13>0,AO13>0),MIN(AK13,AN13,20),"") | AQ13: =IF(AND(AL13>0,AK13>0,AN13>0,AO13>0),ROUND(MIN(AO13,AP13*AM13),0),"") | AT13: =IF(AND(AS13>0,AR13>0),AS13/AR13,"") | AW13: =IF(AND(AS13>0,AR13>0,AU13>0,AV13>0),MIN(AR13,AU13,20),"") | AX13: =IF(AND(AS13>0,AR13>0,AU13>0,AV13>0),ROUND(MIN(AV13,AW13*AT13),0),"") | AY13: =IF(A13="","",IF(L13+S13+Z13+AG13+AN13+AU13>80,"Nb jours CSN>80",SUM(AX13,AQ13,AJ13,AC13,V13,O13))) | AZ13: =IF(C13="Oui",1,0) -> 0 | BA13: =IF(D13="Oui",1,0) -> 0 | BB13: =IF(E13="Oui",1,0) -> 0 | BC13: =IF(F13="Oui",1,0) -> 0 | BD13: =IF(G13="Oui",1,0) -> 0 | BE13: =IF(H13="Oui",1,0) -> 0
K14: =IF(AND(J14>0,I14>0),J14/I14,"") | N14: =IF(AND(J14>0,I14>0,L14>0,M14>0),MIN(I14,L14,20),"") | O14: =IF(AND(J14>0,I14>0,L14>0,M14>0),ROUND(MIN(M14,N14*K14),0),"") | R14: =IF(AND(Q14>0,P14>0),Q14/P14,"") | U14: =IF(AND(Q14>0,P14>0,S14>0,T14>0),MIN(P14,S14,20),"") | V14: =IF(AND(Q14>0,P14>0,S14>0,T14>0),ROUND(MIN(T14,U14*R14),0),"") | Y14: =IF(AND(X14>0,W14>0),X14/W14,"") | AB14: =IF(AND(X14>0,W14>0,Z14>0,AA14>0),MIN(W14,Z14,20),"") | AC14: =IF(AND(X14>0,W14>0,Z14>0,AA14>0),ROUND(MIN(AA14,AB14*Y14),0),"") | AF14: =IF(AND(AE14>0,AD14>0),AE14/AD14,"") | AI14: =IF(AND(AE14>0,AD14>0,AG14>0,AH14>0),MIN(AD14,AG14,20),"") | AJ14: =IF(AND(AE14>0,AD14>0,AG14>0,AH14>0),ROUND(MIN(AH14,AI14*AF14),0),"") | AM14: =IF(AND(AL14>0,AK14>0),AL14/AK14,"") | AP14: =IF(AND(AL14>0,AK14>0,AN14>0,AO14>0),MIN(AK14,AN14,20),"") | AQ14: =IF(AND(AL14>0,AK14>0,AN14>0,AO14>0),ROUND(MIN(AO14,AP14*AM14),0),"") | AT14: =IF(AND(AS14>0,AR14>0),AS14/AR14,"") | AW14: =IF(AND(AS14>0,AR14>0,AU14>0,AV14>0),MIN(AR14,AU14,20),"") | AX14: =IF(AND(AS14>0,AR14>0,AU14>0,AV14>0),ROUND(MIN(AV14,AW14*AT14),0),"") | AY14: =IF(A14="","",IF(L14+S14+Z14+AG14+AN14+AU14>80,"Nb jours CSN>80",SUM(AX14,AQ14,AJ14,AC14,V14,O14))) | AZ14: =IF(C14="Oui",1,0) -> 0 | BA14: =IF(D14="Oui",1,0) -> 0 | BB14: =IF(E14="Oui",1,0) -> 0 | BC14: =IF(F14="Oui",1,0) -> 0 | BD14: =IF(G14="Oui",1,0) -> 0 | BE14: =IF(H14="Oui",1,0) -> 0
K15: =IF(AND(J15>0,I15>0),J15/I15,"") | N15: =IF(AND(J15>0,I15>0,L15>0,M15>0),MIN(I15,L15,20),"") | O15: =IF(AND(J15>0,I15>0,L15>0,M15>0),ROUND(MIN(M15,N15*K15),0),"") | R15: =IF(AND(Q15>0,P15>0),Q15/P15,"") | U15: =IF(AND(Q15>0,P15>0,S15>0,T15>0),MIN(P15,S15,20),"") | V15: =IF(AND(Q15>0,P15>0,S15>0,T15>0),ROUND(MIN(T15,U15*R15),0),"") | Y15: =IF(AND(X15>0,W15>0),X15/W15,"") | AB15: =IF(AND(X15>0,W15>0,Z15>0,AA15>0),MIN(W15,Z15,20),"") | AC15: =IF(AND(X15>0,W15>0,Z15>0,AA15>0),ROUND(MIN(AA15,AB15*Y15),0),"") | AF15: =IF(AND(AE15>0,AD15>0),AE15/AD15,"") | AI15: =IF(AND(AE15>0,AD15>0,AG15>0,AH15>0),MIN(AD15,AG15,20),"") | AJ15: =IF(AND(AE15>0,AD15>0,AG15>0,AH15>0),ROUND(MIN(AH15,AI15*AF15),0),"") | AM15: =IF(AND(AL15>0,AK15>0),AL15/AK15,"") | AP15: =IF(AND(AL15>0,AK15>0,AN15>0,AO15>0),MIN(AK15,AN15,20),"") | AQ15: =IF(AND(AL15>0,AK15>0,AN15>0,AO15>0),ROUND(MIN(AO15,AP15*AM15),0),"") | AT15: =IF(AND(AS15>0,AR15>0),AS15/AR15,"") | AW15: =IF(AND(AS15>0,AR15>0,AU15>0,AV15>0),MIN(AR15,AU15,20),"") | AX15: =IF(AND(AS15>0,AR15>0,AU15>0,AV15>0),ROUND(MIN(AV15,AW15*AT15),0),"") | AY15: =IF(A15="","",IF(L15+S15+Z15+AG15+AN15+AU15>80,"Nb jours CSN>80",SUM(AX15,AQ15,AJ15,AC15,V15,O15))) | AZ15: =IF(C15="Oui",1,0) -> 0 | BA15: =IF(D15="Oui",1,0) -> 0 | BB15: =IF(E15="Oui",1,0) -> 0 | BC15: =IF(F15="Oui",1,0) -> 0 | BD15: =IF(G15="Oui",1,0) -> 0 | BE15: =IF(H15="Oui",1,0) -> 0
K16: =IF(AND(J16>0,I16>0),J16/I16,"") | N16: =IF(AND(J16>0,I16>0,L16>0,M16>0),MIN(I16,L16,20),"") | O16: =IF(AND(J16>0,I16>0,L16>0,M16>0),ROUND(MIN(M16,N16*K16),0),"") | R16: =IF(AND(Q16>0,P16>0),Q16/P16,"") | U16: =IF(AND(Q16>0,P16>0,S16>0,T16>0),MIN(P16,S16,20),"") | V16: =IF(AND(Q16>0,P16>0,S16>0,T16>0),ROUND(MIN(T16,U16*R16),0),"") | Y16: =IF(AND(X16>0,W16>0),X16/W16,"") | AB16: =IF(AND(X16>0,W16>0,Z16>0,AA16>0),MIN(W16,Z16,20),"") | AC16: =IF(AND(X16>0,W16>0,Z16>0,AA16>0),ROUND(MIN(AA16,AB16*Y16),0),"") | AF16: =IF(AND(AE16>0,AD16>0),AE16/AD16,"") | AI16: =IF(AND(AE16>0,AD16>0,AG16>0,AH16>0),MIN(AD16,AG16,20),"") | AJ16: =IF(AND(AE16>0,AD16>0,AG16>0,AH16>0),ROUND(MIN(AH16,AI16*AF16),0),"") | AM16: =IF(AND(AL16>0,AK16>0),AL16/AK16,"") | AP16: =IF(AND(AL16>0,AK16>0,AN16>0,AO16>0),MIN(AK16,AN16,20),"") | AQ16: =IF(AND(AL16>0,AK16>0,AN16>0,AO16>0),ROUND(MIN(AO16,AP16*AM16),0),"") | AT16: =IF(AND(AS16>0,AR16>0),AS16/AR16,"") | AW16: =IF(AND(AS16>0,AR16>0,AU16>0,AV16>0),MIN(AR16,AU16,20),"") | AX16: =IF(AND(AS16>0,AR16>0,AU16>0,AV16>0),ROUND(MIN(AV16,AW16*AT16),0),"") | AY16: =IF(A16="","",IF(L16+S16+Z16+AG16+AN16+AU16>80,"Nb jours CSN>80",SUM(AX16,AQ16,AJ16,AC16,V16,O16))) | AZ16: =IF(C16="Oui",1,0) -> 0 | BA16: =IF(D16="Oui",1,0) -> 0 | BB16: =IF(E16="Oui",1,0) -> 0 | BC16: =IF(F16="Oui",1,0) -> 0 | BD16: =IF(G16="Oui",1,0) -> 0 | BE16: =IF(H16="Oui",1,0) -> 0
K17: =IF(AND(J17>0,I17>0),J17/I17,"") | N17: =IF(AND(J17>0,I17>0,L17>0,M17>0),MIN(I17,L17,20),"") | O17: =IF(AND(J17>0,I17>0,L17>0,M17>0),ROUND(MIN(M17,N17*K17),0),"") | R17: =IF(AND(Q17>0,P17>0),Q17/P17,"") | U17: =IF(AND(Q17>0,P17>0,S17>0,T17>0),MIN(P17,S17,20),"") | V17: =IF(AND(Q17>0,P17>0,S17>0,T17>0),ROUND(MIN(T17,U17*R17),0),"") | Y17: =IF(AND(X17>0,W17>0),X17/W17,"") | AB17: =IF(AND(X17>0,W17>0,Z17>0,AA17>0),MIN(W17,Z17,20),"") | AC17: =IF(AND(X17>0,W17>0,Z17>0,AA17>0),ROUND(MIN(AA17,AB17*Y17),0),"") | AF17: =IF(AND(AE17>0,AD17>0),AE17/AD17,"") | AI17: =IF(AND(AE17>0,AD17>0,AG17>0,AH17>0),MIN(AD17,AG17,20),"") | AJ17: =IF(AND(AE17>0,AD17>0,AG17>0,AH17>0),ROUND(MIN(AH17,AI17*AF17),0),"") | AM17: =IF(AND(AL17>0,AK17>0),AL17/AK17,"") | AP17: =IF(AND(AL17>0,AK17>0,AN17>0,AO17>0),MIN(AK17,AN17,20),"") | AQ17: =IF(AND(AL17>0,AK17>0,AN17>0,AO17>0),ROUND(MIN(AO17,AP17*AM17),0),"") | AT17: =IF(AND(AS17>0,AR17>0),AS17/AR17,"") | AW17: =IF(AND(AS17>0,AR17>0,AU17>0,AV17>0),MIN(AR17,AU17,20),"") | AX17: =IF(AND(AS17>0,AR17>0,AU17>0,AV17>0),ROUND(MIN(AV17,AW17*AT17),0),"") | AY17: =IF(A17="","",IF(L17+S17+Z17+AG17+AN17+AU17>80,"Nb jours CSN>80",SUM(AX17,AQ17,AJ17,AC17,V17,O17))) | AZ17: =IF(C17="Oui",1,0) -> 0 | BA17: =IF(D17="Oui",1,0) -> 0 | BB17: =IF(E17="Oui",1,0) -> 0 | BC17: =IF(F17="Oui",1,0) -> 0 | BD17: =IF(G17="Oui",1,0) -> 0 | BE17: =IF(H17="Oui",1,0) -> 0
K18: =IF(AND(J18>0,I18>0),J18/I18,"") | N18: =IF(AND(J18>0,I18>0,L18>0,M18>0),MIN(I18,L18,20),"") | O18: =IF(AND(J18>0,I18>0,L18>0,M18>0),ROUND(MIN(M18,N18*K18),0),"") | R18: =IF(AND(Q18>0,P18>0),Q18/P18,"") | U18: =IF(AND(Q18>0,P18>0,S18>0,T18>0),MIN(P18,S18,20),"") | V18: =IF(AND(Q18>0,P18>0,S18>0,T18>0),ROUND(MIN(T18,U18*R18),0),"") | Y18: =IF(AND(X18>0,W18>0),X18/W18,"") | AB18: =IF(AND(X18>0,W18>0,Z18>0,AA18>0),MIN(W18,Z18,20),"") | AC18: =IF(AND(X18>0,W18>0,Z18>0,AA18>0),ROUND(MIN(AA18,AB18*Y18),0),"") | AF18: =IF(AND(AE18>0,AD18>0),AE18/AD18,"") | AI18: =IF(AND(AE18>0,AD18>0,AG18>0,AH18>0),MIN(AD18,AG18,20),"") | AJ18: =IF(AND(AE18>0,AD18>0,AG18>0,AH18>0),ROUND(MIN(AH18,AI18*AF18),0),"") | AM18: =IF(AND(AL18>0,AK18>0),AL18/AK18,"") | AP18: =IF(AND(AL18>0,AK18>0,AN18>0,AO18>0),MIN(AK18,AN18,20),"") | AQ18: =IF(AND(AL18>0,AK18>0,AN18>0,AO18>0),ROUND(MIN(AO18,AP18*AM18),0),"") | AT18: =IF(AND(AS18>0,AR18>0),AS18/AR18,"") | AW18: =IF(AND(AS18>0,AR18>0,AU18>0,AV18>0),MIN(AR18,AU18,20),"") | AX18: =IF(AND(AS18>0,AR18>0,AU18>0,AV18>0),ROUND(MIN(AV18,AW18*AT18),0),"") | AY18: =IF(A18="","",IF(L18+S18+Z18+AG18+AN18+AU18>80,"Nb jours CSN>80",SUM(AX18,AQ18,AJ18,AC18,V18,O18))) | AZ18: =IF(C18="Oui",1,0) -> 0 | BA18: =IF(D18="Oui",1,0) -> 0 | BB18: =IF(E18="Oui",1,0) -> 0 | BC18: =IF(F18="Oui",1,0) -> 0 | BD18: =IF(G18="Oui",1,0) -> 0 | BE18: =IF(H18="Oui",1,0) -> 0
K19: =IF(AND(J19>0,I19>0),J19/I19,"") | N19: =IF(AND(J19>0,I19>0,L19>0,M19>0),MIN(I19,L19,20),"") | O19: =IF(AND(J19>0,I19>0,L19>0,M19>0),ROUND(MIN(M19,N19*K19),0),"") | R19: =IF(AND(Q19>0,P19>0),Q19/P19,"") | U19: =IF(AND(Q19>0,P19>0,S19>0,T19>0),MIN(P19,S19,20),"") | V19: =IF(AND(Q19>0,P19>0,S19>0,T19>0),ROUND(MIN(T19,U19*R19),0),"") | Y19: =IF(AND(X19>0,W19>0),X19/W19,"") | AB19: =IF(AND(X19>0,W19>0,Z19>0,AA19>0),MIN(W19,Z19,20),"") | AC19: =IF(AND(X19>0,W19>0,Z19>0,AA19>0),ROUND(MIN(AA19,AB19*Y19),0),"") | AF19: =IF(AND(AE19>0,AD19>0),AE19/AD19,"") | AI19: =IF(AND(AE19>0,AD19>0,AG19>0,AH19>0),MIN(AD19,AG19,20),"") | AJ19: =IF(AND(AE19>0,AD19>0,AG19>0,AH19>0),ROUND(MIN(AH19,AI19*AF19),0),"") | AM19: =IF(AND(AL19>0,AK19>0),AL19/AK19,"") | AP19: =IF(AND(AL19>0,AK19>0,AN19>0,AO19>0),MIN(AK19,AN19,20),"") | AQ19: =IF(AND(AL19>0,AK19>0,AN19>0,AO19>0),ROUND(MIN(AO19,AP19*AM19),0),"") | AT19: =IF(AND(AS19>0,AR19>0),AS19/AR19,"") | AW19: =IF(AND(AS19>0,AR19>0,AU19>0,AV19>0),MIN(AR19,AU19,20),"") | AX19: =IF(AND(AS19>0,AR19>0,AU19>0,AV19>0),ROUND(MIN(AV19,AW19*AT19),0),"") | AY19: =IF(A19="","",IF(L19+S19+Z19+AG19+AN19+AU19>80,"Nb jours CSN>80",SUM(AX19,AQ19,AJ19,AC19,V19,O19))) | AZ19: =IF(C19="Oui",1,0) -> 0 | BA19: =IF(D19="Oui",1,0) -> 0 | BB19: =IF(E19="Oui",1,0) -> 0 | BC19: =IF(F19="Oui",1,0) -> 0 | BD19: =IF(G19="Oui",1,0) -> 0 | BE19: =IF(H19="Oui",1,0) -> 0
K20: =IF(AND(J20>0,I20>0),J20/I20,"") | N20: =IF(AND(J20>0,I20>0,L20>0,M20>0),MIN(I20,L20,20),"") | O20: =IF(AND(J20>0,I20>0,L20>0,M20>0),ROUND(MIN(M20,N20*K20),0),"") | R20: =IF(AND(Q20>0,P20>0),Q20/P20,"") | U20: =IF(AND(Q20>0,P20>0,S20>0,T20>0),MIN(P20,S20,20),"") | V20: =IF(AND(Q20>0,P20>0,S20>0,T20>0),ROUND(MIN(T20,U20*R20),0),"") | Y20: =IF(AND(X20>0,W20>0),X20/W20,"") | AB20: =IF(AND(X20>0,W20>0,Z20>0,AA20>0),MIN(W20,Z20,20),"") | AC20: =IF(AND(X20>0,W20>0,Z20>0,AA20>0),ROUND(MIN(AA20,AB20*Y20),0),"") | AF20: =IF(AND(AE20>0,AD20>0),AE20/AD20,"") | AI20: =IF(AND(AE20>0,AD20>0,AG20>0,AH20>0),MIN(AD20,AG20,20),"") | AJ20: =IF(AND(AE20>0,AD20>0,AG20>0,AH20>0),ROUND(MIN(AH20,AI20*AF20),0),"") | AM20: =IF(AND(AL20>0,AK20>0),AL20/AK20,"") | AP20: =IF(AND(AL20>0,AK20>0,AN20>0,AO20>0),MIN(AK20,AN20,20),"") | AQ20: =IF(AND(AL20>0,AK20>0,AN20>0,AO20>0),ROUND(MIN(AO20,AP20*AM20),0),"") | AT20: =IF(AND(AS20>0,AR20>0),AS20/AR20,"") | AW20: =IF(AND(AS20>0,AR20>0,AU20>0,AV20>0),MIN(AR20,AU20,20),"") | AX20: =IF(AND(AS20>0,AR20>0,AU20>0,AV20>0),ROUND(MIN(AV20,AW20*AT20),0),"") | AY20: =IF(A20="","",IF(L20+S20+Z20+AG20+AN20+AU20>80,"Nb jours CSN>80",SUM(AX20,AQ20,AJ20,AC20,V20,O20))) | AZ20: =IF(C20="Oui",1,0) -> 0 | BA20: =IF(D20="Oui",1,0) -> 0 | BB20: =IF(E20="Oui",1,0) -> 0 | BC20: =IF(F20="Oui",1,0) -> 0 | BD20: =IF(G20="Oui",1,0) -> 0 | BE20: =IF(H20="Oui",1,0) -> 0
K21: =IF(AND(J21>0,I21>0),J21/I21,"") | N21: =IF(AND(J21>0,I21>0,L21>0,M21>0),MIN(I21,L21,20),"") | O21: =IF(AND(J21>0,I21>0,L21>0,M21>0),ROUND(MIN(M21,N21*K21),0),"") | R21: =IF(AND(Q21>0,P21>0),Q21/P21,"") | U21: =IF(AND(Q21>0,P21>0,S21>0,T21>0),MIN(P21,S21,20),"") | V21: =IF(AND(Q21>0,P21>0,S21>0,T21>0),ROUND(MIN(T21,U21*R21),0),"") | Y21: =IF(AND(X21>0,W21>0),X21/W21,"") | AB21: =IF(AND(X21>0,W21>0,Z21>0,AA21>0),MIN(W21,Z21,20),"") | AC21: =IF(AND(X21>0,W21>0,Z21>0,AA21>0),ROUND(MIN(AA21,AB21*Y21),0),"") | AF21: =IF(AND(AE21>0,AD21>0),AE21/AD21,"") | AI21: =IF(AND(AE21>0,AD21>0,AG21>0,AH21>0),MIN(AD21,AG21,20),"") | AJ21: =IF(AND(AE21>0,AD21>0,AG21>0,AH21>0),ROUND(MIN(AH21,AI21*AF21),0),"") | AM21: =IF(AND(AL21>0,AK21>0),AL21/AK21,"") | AP21: =IF(AND(AL21>0,AK21>0,AN21>0,AO21>0),MIN(AK21,AN21,20),"") | AQ21: =IF(AND(AL21>0,AK21>0,AN21>0,AO21>0),ROUND(MIN(AO21,AP21*AM21),0),"") | AT21: =IF(AND(AS21>0,AR21>0),AS21/AR21,"") | AW21: =IF(AND(AS21>0,AR21>0,AU21>0,AV21>0),MIN(AR21,AU21,20),"") | AX21: =IF(AND(AS21>0,AR21>0,AU21>0,AV21>0),ROUND(MIN(AV21,AW21*AT21),0),"") | AY21: =IF(A21="","",IF(L21+S21+Z21+AG21+AN21+AU21>80,"Nb jours CSN>80",SUM(AX21,AQ21,AJ21,AC21,V21,O21))) | AZ21: =IF(C21="Oui",1,0) -> 0 | BA21: =IF(D21="Oui",1,0) -> 0 | BB21: =IF(E21="Oui",1,0) -> 0 | BC21: =IF(F21="Oui",1,0) -> 0 | BD21: =IF(G21="Oui",1,0) -> 0 | BE21: =IF(H21="Oui",1,0) -> 0
K22: =IF(AND(J22>0,I22>0),J22/I22,"") | N22: =IF(AND(J22>0,I22>0,L22>0,M22>0),MIN(I22,L22,20),"") | O22: =IF(AND(J22>0,I22>0,L22>0,M22>0),ROUND(MIN(M22,N22*K22),0),"") | R22: =IF(AND(Q22>0,P22>0),Q22/P22,"") | U22: =IF(AND(Q22>0,P22>0,S22>0,T22>0),MIN(P22,S22,20),"") | V22: =IF(AND(Q22>0,P22>0,S22>0,T22>0),ROUND(MIN(T22,U22*R22),0),"") | Y22: =IF(AND(X22>0,W22>0),X22/W22,"") | AB22: =IF(AND(X22>0,W22>0,Z22>0,AA22>0),MIN(W22,Z22,20),"") | AC22: =IF(AND(X22>0,W22>0,Z22>0,AA22>0),ROUND(MIN(AA22,AB22*Y22),0),"") | AF22: =IF(AND(AE22>0,AD22>0),AE22/AD22,"") | AI22: =IF(AND(AE22>0,AD22>0,AG22>0,AH22>0),MIN(AD22,AG22,20),"") | AJ22: =IF(AND(AE22>0,AD22>0,AG22>0,AH22>0),ROUND(MIN(AH22,AI22*AF22),0),"") | AM22: =IF(AND(AL22>0,AK22>0),AL22/AK22,"") | AP22: =IF(AND(AL22>0,AK22>0,AN22>0,AO22>0),MIN(AK22,AN22,20),"") | AQ22: =IF(AND(AL22>0,AK22>0,AN22>0,AO22>0),ROUND(MIN(AO22,AP22*AM22),0),"") | AT22: =IF(AND(AS22>0,AR22>0),AS22/AR22,"") | AW22: =IF(AND(AS22>0,AR22>0,AU22>0,AV22>0),MIN(AR22,AU22,20),"") | AX22: =IF(AND(AS22>0,AR22>0,AU22>0,AV22>0),ROUND(MIN(AV22,AW22*AT22),0),"") | AY22: =IF(A22="","",IF(L22+S22+Z22+AG22+AN22+AU22>80,"Nb jours CSN>80",SUM(AX22,AQ22,AJ22,AC22,V22,O22))) | AZ22: =IF(C22="Oui",1,0) -> 0 | BA22: =IF(D22="Oui",1,0) -> 0 | BB22: =IF(E22="Oui",1,0) -> 0 | BC22: =IF(F22="Oui",1,0) -> 0 | BD22: =IF(G22="Oui",1,0) -> 0 | BE22: =IF(H22="Oui",1,0) -> 0
... K25: =IF(AND(J25>0,I25>0),J25/I25,"") | N25: =IF(AND(J25>0,I25>0,L25>0,M25>0),MIN(I25,L25,20),"") | O25: =IF(AND(J25>0,I25>0,L25>0,M25>0),ROUND(MIN(M25,N25*K25),0),"") | R25: =IF(AND(Q25>0,P25>0),Q25/P25,"") | U25: =IF(AND(Q25>0,P25>0,S25>0,T25>0),MIN(P25,S25,20),"") | V25: =IF(AND(Q25>0,P25>0,S25>0,T25>0),ROUND(MIN(T25,U25*R25),0),"") | Y25: =IF(AND(X25>0,W25>0),X25/W25,"") | AB25: =IF(AND(X25>0,W25>0,Z25>0,AA25>0),MIN(W25,Z25,20),"") | AC25: =IF(AND(X25>0,W25>0,Z25>0,AA25>0),ROUND(MIN(AA25,AB25*Y25),0),"") | AF25: =IF(AND(AE25>0,AD25>0),AE25/AD25,"") | AI25: =IF(AND(AE25>0,AD25>0,AG25>0,AH25>0),MIN(AD25,AG25,20),"") | AJ25: =IF(AND(AE25>0,AD25>0,AG25>0,AH25>0),ROUND(MIN(AH25,AI25*AF25),0),"") | AM25: =IF(AND(AL25>0,AK25>0),AL25/AK25,"") | AP25: =IF(AND(AL25>0,AK25>0,AN25>0,AO25>0),MIN(AK25,AN25,20),"") | AQ25: =IF(AND(AL25>0,AK25>0,AN25>0,AO25>0),ROUND(MIN(AO25,AP25*AM25),0),"") | AT25: =IF(AND(AS25>0,AR25>0),AS25/AR25,"") | AW25: =IF(AND(AS25>0,AR25>0,AU25>0,AV25>0),MIN(AR25,AU25,20),"") | AX25: =IF(AND(AS25>0,AR25>0,AU25>0,AV25>0),ROUND(MIN(AV25,AW25*AT25),0),"") | AY25: =IF(A25="","",IF(L25+S25+Z25+AG25+AN25+AU25>80,"Nb jours CSN>80",SUM(AX25,AQ25,AJ25,AC25,V25,O25))) | AZ25: =IF(C25="Oui",1,0) -> 0 | BA25: =IF(D25="Oui",1,0) -> 0 | BB25: =IF(E25="Oui",1,0) -> 0 | BC25: =IF(F25="Oui",1,0) -> 0 | BD25: =IF(G25="Oui",1,0) -> 0 | BE25: =IF(H25="Oui",1,0) -> 0

Sheet 3-Déclaration réelle
A1: DECLARATION REELLE 2026
AX3: Nb heures non réalisées et non facturées à déclarer dans le dossier Psu de l'équipement (service AFAS) | AY3: =SUM(AY11:AY25) -> 0
I4: =IF(OR(I11>31,I12>31,I13>31,I14>31,I15>31,I16>31,I17>31,I18>31,I19>31,I20>31,I21>31,I22>31,I23>31,I24>31,I25>31),"Err : valeur max 31","") | P4: =IF(OR(P11>31,P12>31,P13>31,P14>31,P15>31,P16>31,P17>31,P18>31,P19>31,P20>31,P21>31,P22>31,P23>31,P24>31,P25>31),"Err : valeur max 31","") | W4: =IF(OR(W11>30,W12>30,W13>30,W14>30,W15>30,W16>30,W17>30,W18>30,W19>30,W20>30,W21>30,W22>30,W23>30,W24>30,W25>30),"Err : valeur max 30","") | AD4: =IF(OR(AD11>31,AD12>31,AD13>31,AD14>31,AD15>31,AD16>31,AD17>31,AD18>31,AD19>31,AD20>31,AD21>31,AD22>31,AD23>31,AD24>31,AD25>31),"Err : valeur max 31","") | AK4: =IF(OR(AK11>30,AK12>30,AK13>30,AK14>30,AK15>30,AK16>30,AK17>30,AK18>30,AK19>30,AK20>30,AK21>30,AK22>30,AK23>30,AK24>30,AK25>30),"Err : valeur max 30","") | AR4: =IF(OR(AR11>31,AR12>31,AR13>31,AR14>31,AR15>31,AR16>31,AR17>31,AR18>31,AR19>31,AR20>31,AR21>31,AR22>31,AR23>31,AR24>31,AR25>31),"Err : valeur max 31","")
C5: Mois concernés par l'absence due au CSN | I5: Données mensuelles du mois de Juillet 2026 | P5: Données mensuelles du mois de Aout 2026 | W5: Données mensuelles du mois de Septembre 2026 | AD5: Données mensuelles du mois de Octobre 2026 | AK5: Données mensuelles du mois de Novembre 2026 | AR5: Données mensuelles du mois de Décembre 2026 | AY5: Total
A6: Liste anonymisée des enfants (1 ligne par enfant) | B6: Date de naissance de l'enfant | C6: Juillet 2026 | D6: Août 2026 | E6: Septembre 2026 | F6: Octobre 2026 | G6: Novembre 2026 | H6: Décembre 2026 | I6: Nb jours d'accueil prévus au contrat lors de l'inscription | J6: Nb heures accueil prévues au contrat lors de l'inscription | K6: Soit, Nb heures par jour prévues au contrat lors de l'inscription | L6: Nb jours d'absence dus au CSN | M6: Nb heures non réalisées et non facturées pour l'enfant dues au CSN | N6: Nb jours maximum retenus pour compensation | O6: Nb heures non réalisées retenues du mois | P6: Nb jours d'accueil prévus au contrat lors de l'inscription | Q6: Nb heures accueil prévues au contrat lors de l'inscription | R6: Soit, Nb heures par jour prévues au contrat lors de l'inscription | S6: Nb jours d'absence dus au CSN | T6: Nb heures non réalisées et non facturées pour l'enfant dues au CSN | U6: Nb jours maximum retenus pour compensation | V6: Nb heures non réalisées retenues du mois | W6: Nb jours d'accueil prévus au contrat lors de l'inscription | X6: Nb heures accueil prévues au contrat lors de l'inscription | Y6: Soit, Nb heures par jour prévues au contrat lors de l'inscription | Z6: Nb jours d'absence dus au CSN | AA6: Nb heures non réalisées et non facturées pour l'enfant dues au CSN | AB6: Nb jours maximum retenus pour compensation | AC6: Nb heures non réalisées retenues du mois | AD6: Nb jours d'accueil prévus au contrat lors de l'inscription | AE6: Nb heures accueil prévues au contrat lors de l'inscription | AF6: Soit, Nb heures par jour prévues au contrat lors de l'inscription | AG6: Nb jours d'absence dus au CSN | AH6: Nb heures non réalisées et non facturées pour l'enfant dues au CSN | AI6: Nb jours maximum retenus pour compensation | AJ6: Nb heures non réalisées retenues du mois | AK6: Nb jours d'accueil prévus au contrat pour le mois | AL6: Nb heures accueil prévues au contrat pour le mois | AM6: Soit, Nb heures par jour prévues au contrat lors de l'inscription | AN6: Nb jours d'absence dus au CSN | AO6: Nb heures non réalisées et non facturées pour l'enfant dues au CSN | AP6: Nb jours maximum retenus pour compensation | AQ6: Nb heures non réalisées retenues du mois | AR6: Nb jours d'accueil prévus au contrat pour le mois | AS6: Nb heures accueil prévues au contrat pour le mois | AT6: Soit, Nb heures par jour prévues au contrat lors de l'inscription | AU6: Nb jours d'absence dus au CSN | AV6: Nb heures non réalisées et non facturées pour l'enfant dues au CSN | AW6: Nb jours maximum retenus pour compensation | AX6: Nb heures non réalisées retenues du mois | AY6: Nb heures non réalisées et non facturées retenues
A7: Exemple 1 | B7: 46037 | C7: Non | D7: Non | E7: Oui | F7: Oui | G7: Oui | H7: Oui | W7: 20 | X7: 120 | Y7: 6 | Z7: 20 | AA7: 120 | AB7: 20 | AC7: 120 | AD7: 20 | AE7: 120 | AF7: 6 | AG7: 20 | AH7: 120 | AI7: 20 | AJ7: 120 | AK7: 20 | AL7: 120 | AM7: 6 | AN7: 20 | AO7: 120 | AP7: 20 | AQ7: 120 | AR7: 20 | AS7: 120 | AT7: 6 | AU7: 20 | AV7: 120 | AW7: 20 | AX7: 120 | AY7: 480
A8: Exemple 2 | B8: 46037 | C8: Non | D8: Non | E8: Oui | F8: Oui | G8: Non | H8: Non | W8: 20 | X8: 160 | Y8: 8 | Z8: 20 | AA8: 160 | AB8: 20 | AC8: 160 | AD8: 20 | AE8: 160 | AF8: 8 | AG8: 20 | AH8: 160 | AI8: 20 | AJ8: 160 | AY8: 320
A9: Exemple 3 | B9: 46006 | C9: Non | D9: Non | E9: Non | F9: Non | G9: Oui | H9: Oui | AK9: 20 | AL9: 160 | AM9: 8 | AN9: 20 | AO9: 160 | AP9: 20 | AQ9: 160 | AR9: 20 | AS9: 160 | AT9: 8 | AU9: 14 | AV9: 112 | AW9: 14 | AX9: 112 | AY9: 272
K11: =IF(AND(J11>0,I11>0),J11/I11,"") | N11: =IF(AND(J11>0,I11>0,L11>0,M11>0),MIN(I11,L11,20),"") | O11: =IF(AND(J11>0,I11>0,L11>0,M11>0),ROUND(MIN(M11,N11*K11),0),"") | R11: =IF(AND(Q11>0,P11>0),Q11/P11,"") | U11: =IF(AND(Q11>0,P11>0,S11>0,T11>0),MIN(P11,S11,20),"") | V11: =IF(AND(Q11>0,P11>0,S11>0,T11>0),ROUND(MIN(T11,U11*R11),0),"") | Y11: =IF(AND(X11>0,W11>0),X11/W11,"") | AB11: =IF(AND(X11>0,W11>0,Z11>0,AA11>0),MIN(W11,Z11,20),"") | AC11: =IF(AND(X11>0,W11>0,Z11>0,AA11>0),ROUND(MIN(AA11,AB11*Y11),0),"") | AF11: =IF(AND(AE11>0,AD11>0),AE11/AD11,"") | AI11: =IF(AND(AE11>0,AD11>0,AG11>0,AH11>0),MIN(AD11,AG11,20),"") | AJ11: =IF(AND(AE11>0,AD11>0,AG11>0,AH11>0),ROUND(MIN(AH11,AI11*AF11),0),"") | AM11: =IF(AND(AL11>0,AK11>0),AL11/AK11,"") | AP11: =IF(AND(AL11>0,AK11>0,AN11>0,AO11>0),MIN(AK11,AN11,20),"") | AQ11: =IF(AND(AL11>0,AK11>0,AN11>0,AO11>0),ROUND(MIN(AO11,AP11*AM11),0),"") | AT11: =IF(AND(AS11>0,AR11>0),AS11/AR11,"") | AW11: =IF(AND(AS11>0,AR11>0,AU11>0,AV11>0),MIN(AR11,AU11,20),"") | AX11: =IF(AND(AS11>0,AR11>0,AU11>0,AV11>0),ROUND(MIN(AV11,AW11*AT11),0),"") | AY11: =IF(A11="","",IF(L11+S11+Z11+AG11+AN11+AU11>80,"Nb jours CSN>80",SUM(AX11,AQ11,AJ11,AC11,V11,O11))) | AZ11: =IF(C11="Oui",1,0) -> 0 | BA11: =IF(D11="Oui",1,0) -> 0 | BB11: =IF(E11="Oui",1,0) -> 0 | BC11: =IF(F11="Oui",1,0) -> 0 | BD11: =IF(G11="Oui",1,0) -> 0 | BE11: =IF(H11="Oui",1,0) -> 0
K12: =IF(AND(J12>0,I12>0),J12/I12,"") | N12: =IF(AND(J12>0,I12>0,L12>0,M12>0),MIN(I12,L12,20),"") | O12: =IF(AND(J12>0,I12>0,L12>0,M12>0),ROUND(MIN(M12,N12*K12),0),"") | R12: =IF(AND(Q12>0,P12>0),Q12/P12,"") | U12: =IF(AND(Q12>0,P12>0,S12>0,T12>0),MIN(P12,S12,20),"") | V12: =IF(AND(Q12>0,P12>0,S12>0,T12>0),ROUND(MIN(T12,U12*R12),0),"") | Y12: =IF(AND(X12>0,W12>0),X12/W12,"") | AB12: =IF(AND(X12>0,W12>0,Z12>0,AA12>0),MIN(W12,Z12,20),"") | AC12: =IF(AND(X12>0,W12>0,Z12>0,AA12>0),ROUND(MIN(AA12,AB12*Y12),0),"") | AF12: =IF(AND(AE12>0,AD12>0),AE12/AD12,"") | AI12: =IF(AND(AE12>0,AD12>0,AG12>0,AH12>0),MIN(AD12,AG12,20),"") | AJ12: =IF(AND(AE12>0,AD12>0,AG12>0,AH12>0),ROUND(MIN(AH12,AI12*AF12),0),"") | AM12: =IF(AND(AL12>0,AK12>0),AL12/AK12,"") | AP12: =IF(AND(AL12>0,AK12>0,AN12>0,AO12>0),MIN(AK12,AN12,20),"") | AQ12: =IF(AND(AL12>0,AK12>0,AN12>0,AO12>0),ROUND(MIN(AO12,AP12*AM12),0),"") | AT12: =IF(AND(AS12>0,AR12>0),AS12/AR12,"") | AW12: =IF(AND(AS12>0,AR12>0,AU12>0,AV12>0),MIN(AR12,AU12,20),"") | AX12: =IF(AND(AS12>0,AR12>0,AU12>0,AV12>0),ROUND(MIN(AV12,AW12*AT12),0),"") | AY12: =IF(A12="","",IF(L12+S12+Z12+AG12+AN12+AU12>80,"Nb jours CSN>80",SUM(AX12,AQ12,AJ12,AC12,V12,O12))) | AZ12: =IF(C12="Oui",1,0) -> 0 | BA12: =IF(D12="Oui",1,0) -> 0 | BB12: =IF(E12="Oui",1,0) -> 0 | BC12: =IF(F12="Oui",1,0) -> 0 | BD12: =IF(G12="Oui",1,0) -> 0 | BE12: =IF(H12="Oui",1,0) -> 0
K13: =IF(AND(J13>0,I13>0),J13/I13,"") | N13: =IF(AND(J13>0,I13>0,L13>0,M13>0),MIN(I13,L13,20),"") | O13: =IF(AND(J13>0,I13>0,L13>0,M13>0),ROUND(MIN(M13,N13*K13),0),"") | R13: =IF(AND(Q13>0,P13>0),Q13/P13,"") | U13: =IF(AND(Q13>0,P13>0,S13>0,T13>0),MIN(P13,S13,20),"") | V13: =IF(AND(Q13>0,P13>0,S13>0,T13>0),ROUND(MIN(T13,U13*R13),0),"") | Y13: =IF(AND(X13>0,W13>0),X13/W13,"") | AB13: =IF(AND(X13>0,W13>0,Z13>0,AA13>0),MIN(W13,Z13,20),"") | AC13: =IF(AND(X13>0,W13>0,Z13>0,AA13>0),ROUND(MIN(AA13,AB13*Y13),0),"") | AF13: =IF(AND(AE13>0,AD13>0),AE13/AD13,"") | AI13: =IF(AND(AE13>0,AD13>0,AG13>0,AH13>0),MIN(AD13,AG13,20),"") | AJ13: =IF(AND(AE13>0,AD13>0,AG13>0,AH13>0),ROUND(MIN(AH13,AI13*AF13),0),"") | AM13: =IF(AND(AL13>0,AK13>0),AL13/AK13,"") | AP13: =IF(AND(AL13>0,AK13>0,AN13>0,AO13>0),MIN(AK13,AN13,20),"") | AQ13: =IF(AND(AL13>0,AK13>0,AN13>0,AO13>0),ROUND(MIN(AO13,AP13*AM13),0),"") | AT13: =IF(AND(AS13>0,AR13>0),AS13/AR13,"") | AW13: =IF(AND(AS13>0,AR13>0,AU13>0,AV13>0),MIN(AR13,AU13,20),"") | AX13: =IF(AND(AS13>0,AR13>0,AU13>0,AV13>0),ROUND(MIN(AV13,AW13*AT13),0),"") | AY13: =IF(A13="","",IF(L13+S13+Z13+AG13+AN13+AU13>80,"Nb jours CSN>80",SUM(AX13,AQ13,AJ13,AC13,V13,O13))) | AZ13: =IF(C13="Oui",1,0) -> 0 | BA13: =IF(D13="Oui",1,0) -> 0 | BB13: =IF(E13="Oui",1,0) -> 0 | BC13: =IF(F13="Oui",1,0) -> 0 | BD13: =IF(G13="Oui",1,0) -> 0 | BE13: =IF(H13="Oui",1,0) -> 0
K14: =IF(AND(J14>0,I14>0),J14/I14,"") | N14: =IF(AND(J14>0,I14>0,L14>0,M14>0),MIN(I14,L14,20),"") | O14: =IF(AND(J14>0,I14>0,L14>0,M14>0),ROUND(MIN(M14,N14*K14),0),"") | R14: =IF(AND(Q14>0,P14>0),Q14/P14,"") | U14: =IF(AND(Q14>0,P14>0,S14>0,T14>0),MIN(P14,S14,20),"") | V14: =IF(AND(Q14>0,P14>0,S14>0,T14>0),ROUND(MIN(T14,U14*R14),0),"") | Y14: =IF(AND(X14>0,W14>0),X14/W14,"") | AB14: =IF(AND(X14>0,W14>0,Z14>0,AA14>0),MIN(W14,Z14,20),"") | AC14: =IF(AND(X14>0,W14>0,Z14>0,AA14>0),ROUND(MIN(AA14,AB14*Y14),0),"") | AF14: =IF(AND(AE14>0,AD14>0),AE14/AD14,"") | AI14: =IF(AND(AE14>0,AD14>0,AG14>0,AH14>0),MIN(AD14,AG14,20),"") | AJ14: =IF(AND(AE14>0,AD14>0,AG14>0,AH14>0),ROUND(MIN(AH14,AI14*AF14),0),"") | AM14: =IF(AND(AL14>0,AK14>0),AL14/AK14,"") | AP14: =IF(AND(AL14>0,AK14>0,AN14>0,AO14>0),MIN(AK14,AN14,20),"") | AQ14: =IF(AND(AL14>0,AK14>0,AN14>0,AO14>0),ROUND(MIN(AO14,AP14*AM14),0),"") | AT14: =IF(AND(AS14>0,AR14>0),AS14/AR14,"") | AW14: =IF(AND(AS14>0,AR14>0,AU14>0,AV14>0),MIN(AR14,AU14,20),"") | AX14: =IF(AND(AS14>0,AR14>0,AU14>0,AV14>0),ROUND(MIN(AV14,AW14*AT14),0),"") | AY14: =IF(A14="","",IF(L14+S14+Z14+AG14+AN14+AU14>80,"Nb jours CSN>80",SUM(AX14,AQ14,AJ14,AC14,V14,O14))) | AZ14: =IF(C14="Oui",1,0) -> 0 | BA14: =IF(D14="Oui",1,0) -> 0 | BB14: =IF(E14="Oui",1,0) -> 0 | BC14: =IF(F14="Oui",1,0) -> 0 | BD14: =IF(G14="Oui",1,0) -> 0 | BE14: =IF(H14="Oui",1,0) -> 0
K15: =IF(AND(J15>0,I15>0),J15/I15,"") | N15: =IF(AND(J15>0,I15>0,L15>0,M15>0),MIN(I15,L15,20),"") | O15: =IF(AND(J15>0,I15>0,L15>0,M15>0),ROUND(MIN(M15,N15*K15),0),"") | R15: =IF(AND(Q15>0,P15>0),Q15/P15,"") | U15: =IF(AND(Q15>0,P15>0,S15>0,T15>0),MIN(P15,S15,20),"") | V15: =IF(AND(Q15>0,P15>0,S15>0,T15>0),ROUND(MIN(T15,U15*R15),0),"") | Y15: =IF(AND(X15>0,W15>0),X15/W15,"") | AB15: =IF(AND(X15>0,W15>0,Z15>0,AA15>0),MIN(W15,Z15,20),"") | AC15: =IF(AND(X15>0,W15>0,Z15>0,AA15>0),ROUND(MIN(AA15,AB15*Y15),0),"") | AF15: =IF(AND(AE15>0,AD15>0),AE15/AD15,"") | AI15: =IF(AND(AE15>0,AD15>0,AG15>0,AH15>0),MIN(AD15,AG15,20),"") | AJ15: =IF(AND(AE15>0,AD15>0,AG15>0,AH15>0),ROUND(MIN(AH15,AI15*AF15),0),"") | AM15: =IF(AND(AL15>0,AK15>0),AL15/AK15,"") | AP15: =IF(AND(AL15>0,AK15>0,AN15>0,AO15>0),MIN(AK15,AN15,20),"") | AQ15: =IF(AND(AL15>0,AK15>0,AN15>0,AO15>0),ROUND(MIN(AO15,AP15*AM15),0),"") | AT15: =IF(AND(AS15>0,AR15>0),AS15/AR15,"") | AW15: =IF(AND(AS15>0,AR15>0,AU15>0,AV15>0),MIN(AR15,AU15,20),"") | AX15: =IF(AND(AS15>0,AR15>0,AU15>0,AV15>0),ROUND(MIN(AV15,AW15*AT15),0),"") | AY15: =IF(A15="","",IF(L15+S15+Z15+AG15+AN15+AU15>80,"Nb jours CSN>80",SUM(AX15,AQ15,AJ15,AC15,V15,O15))) | AZ15: =IF(C15="Oui",1,0) -> 0 | BA15: =IF(D15="Oui",1,0) -> 0 | BB15: =IF(E15="Oui",1,0) -> 0 | BC15: =IF(F15="Oui",1,0) -> 0 | BD15: =IF(G15="Oui",1,0) -> 0 | BE15: =IF(H15="Oui",1,0) -> 0
K16: =IF(AND(J16>0,I16>0),J16/I16,"") | N16: =IF(AND(J16>0,I16>0,L16>0,M16>0),MIN(I16,L16,20),"") | O16: =IF(AND(J16>0,I16>0,L16>0,M16>0),ROUND(MIN(M16,N16*K16),0),"") | R16: =IF(AND(Q16>0,P16>0),Q16/P16,"") | U16: =IF(AND(Q16>0,P16>0,S16>0,T16>0),MIN(P16,S16,20),"") | V16: =IF(AND(Q16>0,P16>0,S16>0,T16>0),ROUND(MIN(T16,U16*R16),0),"") | Y16: =IF(AND(X16>0,W16>0),X16/W16,"") | AB16: =IF(AND(X16>0,W16>0,Z16>0,AA16>0),MIN(W16,Z16,20),"") | AC16: =IF(AND(X16>0,W16>0,Z16>0,AA16>0),ROUND(MIN(AA16,AB16*Y16),0),"") | AF16: =IF(AND(AE16>0,AD16>0),AE16/AD16,"") | AI16: =IF(AND(AE16>0,AD16>0,AG16>0,AH16>0),MIN(AD16,AG16,20),"") | AJ16: =IF(AND(AE16>0,AD16>0,AG16>0,AH16>0),ROUND(MIN(AH16,AI16*AF16),0),"") | AM16: =IF(AND(AL16>0,AK16>0),AL16/AK16,"") | AP16: =IF(AND(AL16>0,AK16>0,AN16>0,AO16>0),MIN(AK16,AN16,20),"") | AQ16: =IF(AND(AL16>0,AK16>0,AN16>0,AO16>0),ROUND(MIN(AO16,AP16*AM16),0),"") | AT16: =IF(AND(AS16>0,AR16>0),AS16/AR16,"") | AW16: =IF(AND(AS16>0,AR16>0,AU16>0,AV16>0),MIN(AR16,AU16,20),"") | AX16: =IF(AND(AS16>0,AR16>0,AU16>0,AV16>0),ROUND(MIN(AV16,AW16*AT16),0),"") | AY16: =IF(A16="","",IF(L16+S16+Z16+AG16+AN16+AU16>80,"Nb jours CSN>80",SUM(AX16,AQ16,AJ16,AC16,V16,O16))) | AZ16: =IF(C16="Oui",1,0) -> 0 | BA16: =IF(D16="Oui",1,0) -> 0 | BB16: =IF(E16="Oui",1,0) -> 0 | BC16: =IF(F16="Oui",1,0) -> 0 | BD16: =IF(G16="Oui",1,0) -> 0 | BE16: =IF(H16="Oui",1,0) -> 0
K17: =IF(AND(J17>0,I17>0),J17/I17,"") | N17: =IF(AND(J17>0,I17>0,L17>0,M17>0),MIN(I17,L17,20),"") | O17: =IF(AND(J17>0,I17>0,L17>0,M17>0),ROUND(MIN(M17,N17*K17),0),"") | R17: =IF(AND(Q17>0,P17>0),Q17/P17,"") | U17: =IF(AND(Q17>0,P17>0,S17>0,T17>0),MIN(P17,S17,20),"") | V17: =IF(AND(Q17>0,P17>0,S17>0,T17>0),ROUND(MIN(T17,U17*R17),0),"") | Y17: =IF(AND(X17>0,W17>0),X17/W17,"") | AB17: =IF(AND(X17>0,W17>0,Z17>0,AA17>0),MIN(W17,Z17,20),"") | AC17: =IF(AND(X17>0,W17>0,Z17>0,AA17>0),ROUND(MIN(AA17,AB17*Y17),0),"") | AF17: =IF(AND(AE17>0,AD17>0),AE17/AD17,"") | AI17: =IF(AND(AE17>0,AD17>0,AG17>0,AH17>0),MIN(AD17,AG17,20),"") | AJ17: =IF(AND(AE17>0,AD17>0,AG17>0,AH17>0),ROUND(MIN(AH17,AI17*AF17),0),"") | AM17: =IF(AND(AL17>0,AK17>0),AL17/AK17,"") | AP17: =IF(AND(AL17>0,AK17>0,AN17>0,AO17>0),MIN(AK17,AN17,20),"") | AQ17: =IF(AND(AL17>0,AK17>0,AN17>0,AO17>0),ROUND(MIN(AO17,AP17*AM17),0),"") | AT17: =IF(AND(AS17>0,AR17>0),AS17/AR17,"") | AW17: =IF(AND(AS17>0,AR17>0,AU17>0,AV17>0),MIN(AR17,AU17,20),"") | AX17: =IF(AND(AS17>0,AR17>0,AU17>0,AV17>0),ROUND(MIN(AV17,AW17*AT17),0),"") | AY17: =IF(A17="","",IF(L17+S17+Z17+AG17+AN17+AU17>80,"Nb jours CSN>80",SUM(AX17,AQ17,AJ17,AC17,V17,O17))) | AZ17: =IF(C17="Oui",1,0) -> 0 | BA17: =IF(D17="Oui",1,0) -> 0 | BB17: =IF(E17="Oui",1,0) -> 0 | BC17: =IF(F17="Oui",1,0) -> 0 | BD17: =IF(G17="Oui",1,0) -> 0 | BE17: =IF(H17="Oui",1,0) -> 0
K18: =IF(AND(J18>0,I18>0),J18/I18,"") | N18: =IF(AND(J18>0,I18>0,L18>0,M18>0),MIN(I18,L18,20),"") | O18: =IF(AND(J18>0,I18>0,L18>0,M18>0),ROUND(MIN(M18,N18*K18),0),"") | R18: =IF(AND(Q18>0,P18>0),Q18/P18,"") | U18: =IF(AND(Q18>0,P18>0,S18>0,T18>0),MIN(P18,S18,20),"") | V18: =IF(AND(Q18>0,P18>0,S18>0,T18>0),ROUND(MIN(T18,U18*R18),0),"") | Y18: =IF(AND(X18>0,W18>0),X18/W18,"") | AB18: =IF(AND(X18>0,W18>0,Z18>0,AA18>0),MIN(W18,Z18,20),"") | AC18: =IF(AND(X18>0,W18>0,Z18>0,AA18>0),ROUND(MIN(AA18,AB18*Y18),0),"") | AF18: =IF(AND(AE18>0,AD18>0),AE18/AD18,"") | AI18: =IF(AND(AE18>0,AD18>0,AG18>0,AH18>0),MIN(AD18,AG18,20),"") | AJ18: =IF(AND(AE18>0,AD18>0,AG18>0,AH18>0),ROUND(MIN(AH18,AI18*AF18),0),"") | AM18: =IF(AND(AL18>0,AK18>0),AL18/AK18,"") | AP18: =IF(AND(AL18>0,AK18>0,AN18>0,AO18>0),MIN(AK18,AN18,20),"") | AQ18: =IF(AND(AL18>0,AK18>0,AN18>0,AO18>0),ROUND(MIN(AO18,AP18*AM18),0),"") | AT18: =IF(AND(AS18>0,AR18>0),AS18/AR18,"") | AW18: =IF(AND(AS18>0,AR18>0,AU18>0,AV18>0),MIN(AR18,AU18,20),"") | AX18: =IF(AND(AS18>0,AR18>0,AU18>0,AV18>0),ROUND(MIN(AV18,AW18*AT18),0),"") | AY18: =IF(A18="","",IF(L18+S18+Z18+AG18+AN18+AU18>80,"Nb jours CSN>80",SUM(AX18,AQ18,AJ18,AC18,V18,O18))) | AZ18: =IF(C18="Oui",1,0) -> 0 | BA18: =IF(D18="Oui",1,0) -> 0 | BB18: =IF(E18="Oui",1,0) -> 0 | BC18: =IF(F18="Oui",1,0) -> 0 | BD18: =IF(G18="Oui",1,0) -> 0 | BE18: =IF(H18="Oui",1,0) -> 0
K19: =IF(AND(J19>0,I19>0),J19/I19,"") | N19: =IF(AND(J19>0,I19>0,L19>0,M19>0),MIN(I19,L19,20),"") | O19: =IF(AND(J19>0,I19>0,L19>0,M19>0),ROUND(MIN(M19,N19*K19),0),"") | R19: =IF(AND(Q19>0,P19>0),Q19/P19,"") | U19: =IF(AND(Q19>0,P19>0,S19>0,T19>0),MIN(P19,S19,20),"") | V19: =IF(AND(Q19>0,P19>0,S19>0,T19>0),ROUND(MIN(T19,U19*R19),0),"") | Y19: =IF(AND(X19>0,W19>0),X19/W19,"") | AB19: =IF(AND(X19>0,W19>0,Z19>0,AA19>0),MIN(W19,Z19,20),"") | AC19: =IF(AND(X19>0,W19>0,Z19>0,AA19>0),ROUND(MIN(AA19,AB19*Y19),0),"") | AF19: =IF(AND(AE19>0,AD19>0),AE19/AD19,"") | AI19: =IF(AND(AE19>0,AD19>0,AG19>0,AH19>0),MIN(AD19,AG19,20),"") | AJ19: =IF(AND(AE19>0,AD19>0,AG19>0,AH19>0),ROUND(MIN(AH19,AI19*AF19),0),"") | AM19: =IF(AND(AL19>0,AK19>0),AL19/AK19,"") | AP19: =IF(AND(AL19>0,AK19>0,AN19>0,AO19>0),MIN(AK19,AN19,20),"") | AQ19: =IF(AND(AL19>0,AK19>0,AN19>0,AO19>0),ROUND(MIN(AO19,AP19*AM19),0),"") | AT19: =IF(AND(AS19>0,AR19>0),AS19/AR19,"") | AW19: =IF(AND(AS19>0,AR19>0,AU19>0,AV19>0),MIN(AR19,AU19,20),"") | AX19: =IF(AND(AS19>0,AR19>0,AU19>0,AV19>0),ROUND(MIN(AV19,AW19*AT19),0),"") | AY19: =IF(A19="","",IF(L19+S19+Z19+AG19+AN19+AU19>80,"Nb jours CSN>80",SUM(AX19,AQ19,AJ19,AC19,V19,O19))) | AZ19: =IF(C19="Oui",1,0) -> 0 | BA19: =IF(D19="Oui",1,0) -> 0 | BB19: =IF(E19="Oui",1,0) -> 0 | BC19: =IF(F19="Oui",1,0) -> 0 | BD19: =IF(G19="Oui",1,0) -> 0 | BE19: =IF(H19="Oui",1,0) -> 0
K20: =IF(AND(J20>0,I20>0),J20/I20,"") | N20: =IF(AND(J20>0,I20>0,L20>0,M20>0),MIN(I20,L20,20),"") | O20: =IF(AND(J20>0,I20>0,L20>0,M20>0),ROUND(MIN(M20,N20*K20),0),"") | R20: =IF(AND(Q20>0,P20>0),Q20/P20,"") | U20: =IF(AND(Q20>0,P20>0,S20>0,T20>0),MIN(P20,S20,20),"") | V20: =IF(AND(Q20>0,P20>0,S20>0,T20>0),ROUND(MIN(T20,U20*R20),0),"") | Y20: =IF(AND(X20>0,W20>0),X20/W20,"") | AB20: =IF(AND(X20>0,W20>0,Z20>0,AA20>0),MIN(W20,Z20,20),"") | AC20: =IF(AND(X20>0,W20>0,Z20>0,AA20>0),ROUND(MIN(AA20,AB20*Y20),0),"") | AF20: =IF(AND(AE20>0,AD20>0),AE20/AD20,"") | AI20: =IF(AND(AE20>0,AD20>0,AG20>0,AH20>0),MIN(AD20,AG20,20),"") | AJ20: =IF(AND(AE20>0,AD20>0,AG20>0,AH20>0),ROUND(MIN(AH20,AI20*AF20),0),"") | AM20: =IF(AND(AL20>0,AK20>0),AL20/AK20,"") | AP20: =IF(AND(AL20>0,AK20>0,AN20>0,AO20>0),MIN(AK20,AN20,20),"") | AQ20: =IF(AND(AL20>0,AK20>0,AN20>0,AO20>0),ROUND(MIN(AO20,AP20*AM20),0),"") | AT20: =IF(AND(AS20>0,AR20>0),AS20/AR20,"") | AW20: =IF(AND(AS20>0,AR20>0,AU20>0,AV20>0),MIN(AR20,AU20,20),"") | AX20: =IF(AND(AS20>0,AR20>0,AU20>0,AV20>0),ROUND(MIN(AV20,AW20*AT20),0),"") | AY20: =IF(A20="","",IF(L20+S20+Z20+AG20+AN20+AU20>80,"Nb jours CSN>80",SUM(AX20,AQ20,AJ20,AC20,V20,O20))) | AZ20: =IF(C20="Oui",1,0) -> 0 | BA20: =IF(D20="Oui",1,0) -> 0 | BB20: =IF(E20="Oui",1,0) -> 0 | BC20: =IF(F20="Oui",1,0) -> 0 | BD20: =IF(G20="Oui",1,0) -> 0 | BE20: =IF(H20="Oui",1,0) -> 0
K21: =IF(AND(J21>0,I21>0),J21/I21,"") | N21: =IF(AND(J21>0,I21>0,L21>0,M21>0),MIN(I21,L21,20),"") | O21: =IF(AND(J21>0,I21>0,L21>0,M21>0),ROUND(MIN(M21,N21*K21),0),"") | R21: =IF(AND(Q21>0,P21>0),Q21/P21,"") | U21: =IF(AND(Q21>0,P21>0,S21>0,T21>0),MIN(P21,S21,20),"") | V21: =IF(AND(Q21>0,P21>0,S21>0,T21>0),ROUND(MIN(T21,U21*R21),0),"") | Y21: =IF(AND(X21>0,W21>0),X21/W21,"") | AB21: =IF(AND(X21>0,W21>0,Z21>0,AA21>0),MIN(W21,Z21,20),"") | AC21: =IF(AND(X21>0,W21>0,Z21>0,AA21>0),ROUND(MIN(AA21,AB21*Y21),0),"") | AF21: =IF(AND(AE21>0,AD21>0),AE21/AD21,"") | AI21: =IF(AND(AE21>0,AD21>0,AG21>0,AH21>0),MIN(AD21,AG21,20),"") | AJ21: =IF(AND(AE21>0,AD21>0,AG21>0,AH21>0),ROUND(MIN(AH21,AI21*AF21),0),"") | AM21: =IF(AND(AL21>0,AK21>0),AL21/AK21,"") | AP21: =IF(AND(AL21>0,AK21>0,AN21>0,AO21>0),MIN(AK21,AN21,20),"") | AQ21: =IF(AND(AL21>0,AK21>0,AN21>0,AO21>0),ROUND(MIN(AO21,AP21*AM21),0),"") | AT21: =IF(AND(AS21>0,AR21>0),AS21/AR21,"") | AW21: =IF(AND(AS21>0,AR21>0,AU21>0,AV21>0),MIN(AR21,AU21,20),"") | AX21: =IF(AND(AS21>0,AR21>0,AU21>0,AV21>0),ROUND(MIN(AV21,AW21*AT21),0),"") | AY21: =IF(A21="","",IF(L21+S21+Z21+AG21+AN21+AU21>80,"Nb jours CSN>80",SUM(AX21,AQ21,AJ21,AC21,V21,O21))) | AZ21: =IF(C21="Oui",1,0) -> 0 | BA21: =IF(D21="Oui",1,0) -> 0 | BB21: =IF(E21="Oui",1,0) -> 0 | BC21: =IF(F21="Oui",1,0) -> 0 | BD21: =IF(G21="Oui",1,0) -> 0 | BE21: =IF(H21="Oui",1,0) -> 0
K22: =IF(AND(J22>0,I22>0),J22/I22,"") | N22: =IF(AND(J22>0,I22>0,L22>0,M22>0),MIN(I22,L22,20),"") | O22: =IF(AND(J22>0,I22>0,L22>0,M22>0),ROUND(MIN(M22,N22*K22),0),"") | R22: =IF(AND(Q22>0,P22>0),Q22/P22,"") | U22: =IF(AND(Q22>0,P22>0,S22>0,T22>0),MIN(P22,S22,20),"") | V22: =IF(AND(Q22>0,P22>0,S22>0,T22>0),ROUND(MIN(T22,U22*R22),0),"") | Y22: =IF(AND(X22>0,W22>0),X22/W22,"") | AB22: =IF(AND(X22>0,W22>0,Z22>0,AA22>0),MIN(W22,Z22,20),"") | AC22: =IF(AND(X22>0,W22>0,Z22>0,AA22>0),ROUND(MIN(AA22,AB22*Y22),0),"") | AF22: =IF(AND(AE22>0,AD22>0),AE22/AD22,"") | AI22: =IF(AND(AE22>0,AD22>0,AG22>0,AH22>0),MIN(AD22,AG22,20),"") | AJ22: =IF(AND(AE22>0,AD22>0,AG22>0,AH22>0),ROUND(MIN(AH22,AI22*AF22),0),"") | AM22: =IF(AND(AL22>0,AK22>0),AL22/AK22,"") | AP22: =IF(AND(AL22>0,AK22>0,AN22>0,AO22>0),MIN(AK22,AN22,20),"") | AQ22: =IF(AND(AL22>0,AK22>0,AN22>0,AO22>0),ROUND(MIN(AO22,AP22*AM22),0),"") | AT22: =IF(AND(AS22>0,AR22>0),AS22/AR22,"") | AW22: =IF(AND(AS22>0,AR22>0,AU22>0,AV22>0),MIN(AR22,AU22,20),"") | AX22: =IF(AND(AS22>0,AR22>0,AU22>0,AV22>0),ROUND(MIN(AV22,AW22*AT22),0),"") | AY22: =IF(A22="","",IF(L22+S22+Z22+AG22+AN22+AU22>80,"Nb jours CSN>80",SUM(AX22,AQ22,AJ22,AC22,V22,O22))) | AZ22: =IF(C22="Oui",1,0) -> 0 | BA22: =IF(D22="Oui",1,0) -> 0 | BB22: =IF(E22="Oui",1,0) -> 0 | BC22: =IF(F22="Oui",1,0) -> 0 | BD22: =IF(G22="Oui",1,0) -> 0 | BE22: =IF(H22="Oui",1,0) -> 0
... K25: =IF(AND(J25>0,I25>0),J25/I25,"") | N25: =IF(AND(J25>0,I25>0,L25>0,M25>0),MIN(I25,L25,20),"") | O25: =IF(AND(J25>0,I25>0,L25>0,M25>0),ROUND(MIN(M25,N25*K25),0),"") | R25: =IF(AND(Q25>0,P25>0),Q25/P25,"") | U25: =IF(AND(Q25>0,P25>0,S25>0,T25>0),MIN(P25,S25,20),"") | V25: =IF(AND(Q25>0,P25>0,S25>0,T25>0),ROUND(MIN(T25,U25*R25),0),"") | Y25: =IF(AND(X25>0,W25>0),X25/W25,"") | AB25: =IF(AND(X25>0,W25>0,Z25>0,AA25>0),MIN(W25,Z25,20),"") | AC25: =IF(AND(X25>0,W25>0,Z25>0,AA25>0),ROUND(MIN(AA25,AB25*Y25),0),"") | AF25: =IF(AND(AE25>0,AD25>0),AE25/AD25,"") | AI25: =IF(AND(AE25>0,AD25>0,AG25>0,AH25>0),MIN(AD25,AG25,20),"") | AJ25: =IF(AND(AE25>0,AD25>0,AG25>0,AH25>0),ROUND(MIN(AH25,AI25*AF25),0),"") | AM25: =IF(AND(AL25>0,AK25>0),AL25/AK25,"") | AP25: =IF(AND(AL25>0,AK25>0,AN25>0,AO25>0),MIN(AK25,AN25,20),"") | AQ25: =IF(AND(AL25>0,AK25>0,AN25>0,AO25>0),ROUND(MIN(AO25,AP25*AM25),0),"") | AT25: =IF(AND(AS25>0,AR25>0),AS25/AR25,"") | AW25: =IF(AND(AS25>0,AR25>0,AU25>0,AV25>0),MIN(AR25,AU25,20),"") | AX25: =IF(AND(AS25>0,AR25>0,AU25>0,AV25>0),ROUND(MIN(AV25,AW25*AT25),0),"") | AY25: =IF(A25="","",IF(L25+S25+Z25+AG25+AN25+AU25>80,"Nb jours CSN>80",SUM(AX25,AQ25,AJ25,AC25,V25,O25))) | AZ25: =IF(C25="Oui",1,0) -> 0 | BA25: =IF(D25="Oui",1,0) -> 0 | BB25: =IF(E25="Oui",1,0) -> 0 | BC25: =IF(F25="Oui",1,0) -> 0 | BD25: =IF(G25="Oui",1,0) -> 0 | BE25: =IF(H25="Oui",1,0) -> 0

Sheet Evolution versions
A1: VERSION DU FORMULAIRE
A3: Numéro version | B3: Date modification | C3: Commentaire
A4: 2026 V01 | B4: 46269 | C4: Création de l'utilitaire pour l'exercice 2026

Sheet Recap
E1: DECLARATION PREVISIONNELLE 2026 | BC1: DECLARATION REELLE 2026
G4: Mois concernés par l'absence due au CSN | M4: Données mensuelles du mois de Juillet 2026 | T4: Données mensuelles du mois de Aout 2026 | AA4: Données mensuelles du mois de Septembre 2026 | AH4: Données mensuelles du mois de Octobre 2026 | AO4: Données mensuelles du mois de Novembre 2026 | AV4: Données mensuelles du mois de Décembre 2026 | BC4: Total | BF4: Mois concernés par l'absence due au CSN | BL4: Données mensuelles du mois de Juillet 2026 | BS4: Données mensuelles du mois de Aout 2026 | BZ4: Données mensuelles du mois de Septembre 2026 | CG4: Données mensuelles du mois de Octobre 2026 | CN4: Données mensuelles du mois de Novembre 2026 | CU4: Données mensuelles du mois de Décembre 2026 | DB4: Total
A5: Idgest | B5: Nom gest | C5: Ideq | D5: Non eq | E5: Liste anonymisée des enfants (1 ligne par enfant) | F5: Date de naissance de l'enfant | G5: Juillet 2026 | H5: Août 2026 | I5: Septembre 2026 | J5: Octobre 2026 | K5: Novembre 2026 | L5: Décembre 2026 | M5: Nb jours d'accueil prévus au contrat lors de l'inscription | N5: Nb heures accueil prévues au contrat lors de l'inscription | O5: Soit, Nb heures par jour prévues au contrat lors de l'inscription | P5: Nb jours d'absence dus au CSN | Q5: Nb heures non réalisées et non facturées pour l'enfant dues au CSN | R5: Nb jours maximum retenus pour compensation | S5: Nb heures non réalisées retenues du mois | T5: Nb jours d'accueil prévus au contrat lors de l'inscription | U5: Nb heures accueil prévues au contrat lors de l'inscription | V5: Soit, Nb heures par jour prévues au contrat lors de l'inscription | W5: Nb jours d'absence dus au CSN | X5: Nb heures non réalisées et non facturées pour l'enfant dues au CSN | Y5: Nb jours maximum retenus pour compensation | Z5: Nb heures non réalisées retenues du mois | AA5: Nb jours d'accueil prévus au contrat lors de l'inscription | AB5: Nb heures accueil prévues au contrat lors de l'inscription | AC5: Soit, Nb heures par jour prévues au contrat lors de l'inscription | AD5: Nb jours d'absence dus au CSN | AE5: Nb heures non réalisées et non facturées pour l'enfant dues au CSN | AF5: Nb jours maximum retenus pour compensation | AG5: Nb heures non réalisées retenues du mois | AH5: Nb jours d'accueil prévus au contrat lors de l'inscription | AI5: Nb heures accueil prévues au contrat lors de l'inscription | AJ5: Soit, Nb heures par jour prévues au contrat lors de l'inscription | AK5: Nb jours d'absence dus au CSN | AL5: Nb heures non réalisées et non facturées pour l'enfant dues au CSN | AM5: Nb jours maximum retenus pour compensation | AN5: Nb heures non réalisées retenues du mois | AO5: Nb jours d'accueil prévus au contrat pour le mois | AP5: Nb heures accueil prévues au contrat pour le mois | AQ5: Soit, Nb heures par jour prévues au contrat lors de l'inscription | AR5: Nb jours d'absence dus au CSN | AS5: Nb heures non réalisées et non facturées pour l'enfant dues au CSN | AT5: Nb jours maximum retenus pour compensation | AU5: Nb heures non réalisées retenues du mois | AV5: Nb jours d'accueil prévus au contrat pour le mois | AW5: Nb heures accueil prévues au contrat pour le mois | AX5: Soit, Nb heures par jour prévues au contrat lors de l'inscription | AY5: Nb jours d'absence dus au CSN | AZ5: Nb heures non réalisées et non facturées pour l'enfant dues au CSN | BA5: Nb jours maximum retenus pour compensation | BB5: Nb heures non réalisées retenues du mois | BC5: Nb heures non réalisées et non facturées retenues | BD5: Liste anonymisée des enfants (1 ligne par enfant) | BE5: Date de naissance de l'enfant | BF5: Juillet 2026 | BG5: Août 2026 | BH5: Septembre 2026 | BI5: Octobre 2026 | BJ5: Novembre 2026 | BK5: Décembre 2026 | BL5: Nb jours d'accueil prévus au contrat lors de l'inscription | BM5: Nb heures accueil prévues au contrat lors de l'inscription | BN5: Soit, Nb heures par jour prévues au contrat lors de l'inscription | BO5: Nb jours d'absence dus au CSN | BP5: Nb heures non réalisées et non facturées pour l'enfant dues au CSN | BQ5: Nb jours maximum retenus pour compensation | BR5: Nb heures non réalisées retenues du mois | BS5: Nb jours d'accueil prévus au contrat lors de l'inscription | BT5: Nb heures accueil prévues au contrat lors de l'inscription | BU5: Soit, Nb heures par jour prévues au contrat lors de l'inscription | BV5: Nb jours d'absence dus au CSN | BW5: Nb heures non réalisées et non facturées pour l'enfant dues au CSN | BX5: Nb jours maximum retenus pour compensation | BY5: Nb heures non réalisées retenues du mois | BZ5: Nb jours d'accueil prévus au contrat lors de l'inscription | CA5: Nb heures accueil prévues au contrat lors de l'inscription | CB5: Soit, Nb heures par jour prévues au contrat lors de l'inscription | CC5: Nb jours d'absence dus au CSN | CD5: Nb heures non réalisées et non facturées pour l'enfant dues au CSN | CE5: Nb jours maximum retenus pour compensation | CF5: Nb heures non réalisées retenues du mois | CG5: Nb jours d'accueil prévus au contrat lors de l'inscription | CH5: Nb heures accueil prévues au contrat lors de l'inscription | CI5: Soit, Nb heures par jour prévues au contrat lors de l'inscription | CJ5: Nb jours d'absence dus au CSN | CK5: Nb heures non réalisées et non facturées pour l'enfant dues au CSN | CL5: Nb jours maximum retenus pour compensation | CM5: Nb heures non réalisées retenues du mois | CN5: Nb jours d'accueil prévus au contrat pour le mois | CO5: Nb heures accueil prévues au contrat pour le mois | CP5: Soit, Nb heures par jour prévues au contrat lors de l'inscription | CQ5: Nb jours d'absence dus au CSN | CR5: Nb heures non réalisées et non facturées pour l'enfant dues au CSN | CS5: Nb jours maximum retenus pour compensation | CT5: Nb heures non réalisées retenues du mois | CU5: Nb jours d'accueil prévus au contrat pour le mois | CV5: Nb heures accueil prévues au contrat pour le mois | CW5: Soit, Nb heures par jour prévues au contrat lors de l'inscription | CX5: Nb jours d'absence dus au CSN | CY5: Nb heures non réalisées et non facturées pour l'enfant dues au CSN | CZ5: Nb jours maximum retenus pour compensation | DA5: Nb heures non réalisées retenues du mois | DB5: Nb heures non réalisées et non facturées retenues
A6: =IF(AND(E6="",BD6=""),"",'1 - Identification'!$D$10) | B6: =IF(AND(E6="",BD6=""),"",'1 - Identification'!$D$8) | C6: =IF(AND(E6="",BD6=""),"",'1 - Identification'!$D$14) | D6: =IF(AND(E6="",BD6=""),"",'1 - Identification'!$D$12) | E6: =IF('2-Déclaration prévisionnelle'!$A11="","",'2-Déclaration prévisionnelle'!A11) | F6: =IF('2-Déclaration prévisionnelle'!$A11="","",'2-Déclaration prévisionnelle'!B11) | G6: =IF('2-Déclaration prévisionnelle'!$A11="","",'2-Déclaration prévisionnelle'!C11) | H6: =IF('2-Déclaration prévisionnelle'!$A11="","",'2-Déclaration prévisionnelle'!D11) | I6: =IF('2-Déclaration prévisionnelle'!$A11="","",'2-Déclaration prévisionnelle'!E11) | J6: =IF('2-Déclaration prévisionnelle'!$A11="","",'2-Déclaration prévisionnelle'!F11) | K6: =IF('2-Déclaration prévisionnelle'!$A11="","",'2-Déclaration prévisionnelle'!G11) | L6: =IF('2-Déclaration prévisionnelle'!$A11="","",'2-Déclaration prévisionnelle'!H11) | ... BC6: =IF('2-Déclaration prévisionnelle'!$A11="","",'2-Déclaration prévisionnelle'!AY11) | BD6: =IF('3-Déclaration réelle'!$A11="","",'3-Déclaration réelle'!A11) | BE6: =IF('3-Déclaration réelle'!$A11="","",'3-Déclaration réelle'!B11) | BF6: =IF('3-Déclaration réelle'!$A11="","",'3-Déclaration réelle'!C11) | BG6: =IF('3-Déclaration réelle'!$A11="","",'3-Déclaration réelle'!D11) | BH6: =IF('3-Déclaration réelle'!$A11="","",'3-Déclaration réelle'!E11) | BI6: =IF('3-Déclaration réelle'!$A11="","",'3-Déclaration réelle'!F11) | BJ6: =IF('3-Déclaration réelle'!$A11="","",'3-Déclaration réelle'!G11) | BK6: =IF('3-Déclaration réelle'!$A11="","",'3-Déclaration réelle'!H11) | ... DB6: =IF('3-Déclaration réelle'!$A11="","",'3-Déclaration réelle'!AY11)
A7: =IF(AND(E7="",BD7=""),"",'1 - Identification'!$D$10) | B7: =IF(AND(E7="",BD7=""),"",'1 - Identification'!$D$8) | C7: =IF(AND(E7="",BD7=""),"",'1 - Identification'!$D$14) | D7: =IF(AND(E7="",BD7=""),"",'1 - Identification'!$D$12) | E7: =IF('2-Déclaration prévisionnelle'!$A12="","",'2-Déclaration prévisionnelle'!A12) | F7: =IF('2-Déclaration prévisionnelle'!$A12="","",'2-Déclaration prévisionnelle'!B12) | G7: =IF('2-Déclaration prévisionnelle'!$A12="","",'2-Déclaration prévisionnelle'!C12) | H7: =IF('2-Déclaration prévisionnelle'!$A12="","",'2-Déclaration prévisionnelle'!D12) | I7: =IF('2-Déclaration prévisionnelle'!$A12="","",'2-Déclaration prévisionnelle'!E12) | J7: =IF('2-Déclaration prévisionnelle'!$A12="","",'2-Déclaration prévisionnelle'!F12) | K7: =IF('2-Déclaration prévisionnelle'!$A12="","",'2-Déclaration prévisionnelle'!G12) | L7: =IF('2-Déclaration prévisionnelle'!$A12="","",'2-Déclaration prévisionnelle'!H12) | ... BC7: =IF('2-Déclaration prévisionnelle'!$A12="","",'2-Déclaration prévisionnelle'!AY12) | BD7: =IF('3-Déclaration réelle'!$A12="","",'3-Déclaration réelle'!A12) | BE7: =IF('3-Déclaration réelle'!$A12="","",'3-Déclaration réelle'!AZ12) | BF7: =IF('3-Déclaration réelle'!$A12="","",'3-Déclaration réelle'!C12) | BG7: =IF('3-Déclaration réelle'!$A12="","",'3-Déclaration réelle'!D12) | BH7: =IF('3-Déclaration réelle'!$A12="","",'3-Déclaration réelle'!E12) | BI7: =IF('3-Déclaration réelle'!$A12="","",'3-Déclaration réelle'!F12) | BJ7: =IF('3-Déclaration réelle'!$A12="","",'3-Déclaration réelle'!G12) | BK7: =IF('3-Déclaration réelle'!$A12="","",'3-Déclaration réelle'!H12) | BL7: =IF('3-Déclaration réelle'!$A12="","",'3-Déclaration réelle'!I12) | BM7: =IF('3-Déclaration réelle'!$A12="","",'3-Déclaration réelle'!J12) | ... DB7: =IF('3-Déclaration réelle'!$A12="","",'3-Déclaration réelle'!AY12)
A8: =IF(AND(E8="",BD8=""),"",'1 - Identification'!$D$10) | B8: =IF(AND(E8="",BD8=""),"",'1 - Identification'!$D$8) | C8: =IF(AND(E8="",BD8=""),"",'1 - Identification'!$D$14) | D8: =IF(AND(E8="",BD8=""),"",'1 - Identification'!$D$12) | E8: =IF('2-Déclaration prévisionnelle'!$A13="","",'2-Déclaration prévisionnelle'!A13) | F8: =IF('2-Déclaration prévisionnelle'!$A13="","",'2-Déclaration prévisionnelle'!B13) | G8: =IF('2-Déclaration prévisionnelle'!$A13="","",'2-Déclaration prévisionnelle'!C13) | H8: =IF('2-Déclaration prévisionnelle'!$A13="","",'2-Déclaration prévisionnelle'!D13) | I8: =IF('2-Déclaration prévisionnelle'!$A13="","",'2-Déclaration prévisionnelle'!E13) | J8: =IF('2-Déclaration prévisionnelle'!$A13="","",'2-Déclaration prévisionnelle'!F13) | K8: =IF('2-Déclaration prévisionnelle'!$A13="","",'2-Déclaration prévisionnelle'!G13) | L8: =IF('2-Déclaration prévisionnelle'!$A13="","",'2-Déclaration prévisionnelle'!H13) | ... BC8: =IF('2-Déclaration prévisionnelle'!$A13="","",'2-Déclaration prévisionnelle'!AY13) | BD8: =IF('3-Déclaration réelle'!$A13="","",'3-Déclaration réelle'!A13) | BE8: =IF('3-Déclaration réelle'!$A13="","",'3-Déclaration réelle'!AZ13) | BF8: =IF('3-Déclaration réelle'!$A13="","",'3-Déclaration réelle'!C13) | BG8: =IF('3-Déclaration réelle'!$A13="","",'3-Déclaration réelle'!D13) | BH8: =IF('3-Déclaration réelle'!$A13="","",'3-Déclaration réelle'!E13) | BI8: =IF('3-Déclaration réelle'!$A13="","",'3-Déclaration réelle'!F13) | BJ8: =IF('3-Déclaration réelle'!$A13="","",'3-Déclaration réelle'!G13) | BK8: =IF('3-Déclaration réelle'!$A13="","",'3-Déclaration réelle'!H13) | BL8: =IF('3-Déclaration réelle'!$A13="","",'3-Déclaration réelle'!I13) | BM8: =IF('3-Déclaration réelle'!$A13="","",'3-Déclaration réelle'!J13) | ... DB8: =IF('3-Déclaration réelle'!$A13="","",'3-Déclaration réelle'!AY13)
A9: =IF(AND(E9="",BD9=""),"",'1 - Identification'!$D$10) | B9: =IF(AND(E9="",BD9=""),"",'1 - Identification'!$D$8) | C9: =IF(AND(E9="",BD9=""),"",'1 - Identification'!$D$14) | D9: =IF(AND(E9="",BD9=""),"",'1 - Identification'!$D$12) | E9: =IF('2-Déclaration prévisionnelle'!$A14="","",'2-Déclaration prévisionnelle'!A14) | F9: =IF('2-Déclaration prévisionnelle'!$A14="","",'2-Déclaration prévisionnelle'!B14) | G9: =IF('2-Déclaration prévisionnelle'!$A14="","",'2-Déclaration prévisionnelle'!C14) | H9: =IF('2-Déclaration prévisionnelle'!$A14="","",'2-Déclaration prévisionnelle'!D14) | I9: =IF('2-Déclaration prévisionnelle'!$A14="","",'2-Déclaration prévisionnelle'!E14) | J9: =IF('2-Déclaration prévisionnelle'!$A14="","",'2-Déclaration prévisionnelle'!F14) | K9: =IF('2-Déclaration prévisionnelle'!$A14="","",'2-Déclaration prévisionnelle'!G14) | L9: =IF('2-Déclaration prévisionnelle'!$A14="","",'2-Déclaration prévisionnelle'!H14) | ... BC9: =IF('2-Déclaration prévisionnelle'!$A14="","",'2-Déclaration prévisionnelle'!AY14) | BD9: =IF('3-Déclaration réelle'!$A14="","",'3-Déclaration réelle'!A14) | BE9: =IF('3-Déclaration réelle'!$A14="","",'3-Déclaration réelle'!AZ14) | BF9: =IF('3-Déclaration réelle'!$A14="","",'3-Déclaration réelle'!C14) | BG9: =IF('3-Déclaration réelle'!$A14="","",'3-Déclaration réelle'!D14) | BH9: =IF('3-Déclaration réelle'!$A14="","",'3-Déclaration réelle'!E14) | BI9: =IF('3-Déclaration réelle'!$A14="","",'3-Déclaration réelle'!F14) | BJ9: =IF('3-Déclaration réelle'!$A14="","",'3-Déclaration réelle'!G14) | BK9: =IF('3-Déclaration réelle'!$A14="","",'3-Déclaration réelle'!H14) | BL9: =IF('3-Déclaration réelle'!$A14="","",'3-Déclaration réelle'!I14) | BM9: =IF('3-Déclaration réelle'!$A14="","",'3-Déclaration réelle'!J14) | ... DB9: =IF('3-Déclaration réelle'!$A14="","",'3-Déclaration réelle'!AY14)
A10: =IF(AND(E10="",BD10=""),"",'1 - Identification'!$D$10) | B10: =IF(AND(E10="",BD10=""),"",'1 - Identification'!$D$8) | C10: =IF(AND(E10="",BD10=""),"",'1 - Identification'!$D$14) | D10: =IF(AND(E10="",BD10=""),"",'1 - Identification'!$D$12) | E10: =IF('2-Déclaration prévisionnelle'!$A15="","",'2-Déclaration prévisionnelle'!A15) | F10: =IF('2-Déclaration prévisionnelle'!$A15="","",'2-Déclaration prévisionnelle'!B15) | G10: =IF('2-Déclaration prévisionnelle'!$A15="","",'2-Déclaration prévisionnelle'!C15) | H10: =IF('2-Déclaration prévisionnelle'!$A15="","",'2-Déclaration prévisionnelle'!D15) | I10: =IF('2-Déclaration prévisionnelle'!$A15="","",'2-Déclaration prévisionnelle'!E15) | J10: =IF('2-Déclaration prévisionnelle'!$A15="","",'2-Déclaration prévisionnelle'!F15) | K10: =IF('2-Déclaration prévisionnelle'!$A15="","",'2-Déclaration prévisionnelle'!G15) | L10: =IF('2-Déclaration prévisionnelle'!$A15="","",'2-Déclaration prévisionnelle'!H15) | ... BC10: =IF('2-Déclaration prévisionnelle'!$A15="","",'2-Déclaration prévisionnelle'!AY15) | BD10: =IF('3-Déclaration réelle'!$A15="","",'3-Déclaration réelle'!A15) | BE10: =IF('3-Déclaration réelle'!$A15="","",'3-Déclaration réelle'!AZ15) | BF10: =IF('3-Déclaration réelle'!$A15="","",'3-Déclaration réelle'!C15) | BG10: =IF('3-Déclaration réelle'!$A15="","",'3-Déclaration réelle'!D15) | BH10: =IF('3-Déclaration réelle'!$A15="","",'3-Déclaration réelle'!E15) | BI10: =IF('3-Déclaration réelle'!$A15="","",'3-Déclaration réelle'!F15) | BJ10: =IF('3-Déclaration réelle'!$A15="","",'3-Déclaration réelle'!G15) | BK10: =IF('3-Déclaration réelle'!$A15="","",'3-Déclaration réelle'!H15) | BL10: =IF('3-Déclaration réelle'!$A15="","",'3-Déclaration réelle'!I15) | BM10: =IF('3-Déclaration réelle'!$A15="","",'3-Déclaration réelle'!J15) | ... DB10: =IF('3-Déclaration réelle'!$A15="","",'3-Déclaration réelle'!AY15)
A11: =IF(AND(E11="",BD11=""),"",'1 - Identification'!$D$10) | B11: =IF(AND(E11="",BD11=""),"",'1 - Identification'!$D$8) | C11: =IF(AND(E11="",BD11=""),"",'1 - Identification'!$D$14) | D11: =IF(AND(E11="",BD11=""),"",'1 - Identification'!$D$12) | E11: =IF('2-Déclaration prévisionnelle'!$A16="","",'2-Déclaration prévisionnelle'!A16) | F11: =IF('2-Déclaration prévisionnelle'!$A16="","",'2-Déclaration prévisionnelle'!B16) | G11: =IF('2-Déclaration prévisionnelle'!$A16="","",'2-Déclaration prévisionnelle'!C16) | H11: =IF('2-Déclaration prévisionnelle'!$A16="","",'2-Déclaration prévisionnelle'!D16) | I11: =IF('2-Déclaration prévisionnelle'!$A16="","",'2-Déclaration prévisionnelle'!E16) | J11: =IF('2-Déclaration prévisionnelle'!$A16="","",'2-Déclaration prévisionnelle'!F16) | K11: =IF('2-Déclaration prévisionnelle'!$A16="","",'2-Déclaration prévisionnelle'!G16) | L11: =IF('2-Déclaration prévisionnelle'!$A16="","",'2-Déclaration prévisionnelle'!H16) | ... BC11: =IF('2-Déclaration prévisionnelle'!$A16="","",'2-Déclaration prévisionnelle'!AY16) | BD11: =IF('3-Déclaration réelle'!$A16="","",'3-Déclaration réelle'!A16) | BE11: =IF('3-Déclaration réelle'!$A16="","",'3-Déclaration réelle'!AZ16) | BF11: =IF('3-Déclaration réelle'!$A16="","",'3-Déclaration réelle'!C16) | BG11: =IF('3-Déclaration réelle'!$A16="","",'3-Déclaration réelle'!D16) | BH11: =IF('3-Déclaration réelle'!$A16="","",'3-Déclaration réelle'!E16) | BI11: =IF('3-Déclaration réelle'!$A16="","",'3-Déclaration réelle'!F16) | BJ11: =IF('3-Déclaration réelle'!$A16="","",'3-Déclaration réelle'!G16) | BK11: =IF('3-Déclaration réelle'!$A16="","",'3-Déclaration réelle'!H16) | BL11: =IF('3-Déclaration réelle'!$A16="","",'3-Déclaration réelle'!I16) | BM11: =IF('3-Déclaration réelle'!$A16="","",'3-Déclaration réelle'!J16) | ... DB11: =IF('3-Déclaration réelle'!$A16="","",'3-Déclaration réelle'!AY16)
A12: =IF(AND(E12="",BD12=""),"",'1 - Identification'!$D$10) | B12: =IF(AND(E12="",BD12=""),"",'1 - Identification'!$D$8) | C12: =IF(AND(E12="",BD12=""),"",'1 - Identification'!$D$14) | D12: =IF(AND(E12="",BD12=""),"",'1 - Identification'!$D$12) | E12: =IF('2-Déclaration prévisionnelle'!$A17="","",'2-Déclaration prévisionnelle'!A17) | F12: =IF('2-Déclaration prévisionnelle'!$A17="","",'2-Déclaration prévisionnelle'!B17) | G12: =IF('2-Déclaration prévisionnelle'!$A17="","",'2-Déclaration prévisionnelle'!C17) | H12: =IF('2-Déclaration prévisionnelle'!$A17="","",'2-Déclaration prévisionnelle'!D17) | I12: =IF('2-Déclaration prévisionnelle'!$A17="","",'2-Déclaration prévisionnelle'!E17) | J12: =IF('2-Déclaration prévisionnelle'!$A17="","",'2-Déclaration prévisionnelle'!F17) | K12: =IF('2-Déclaration prévisionnelle'!$A17="","",'2-Déclaration prévisionnelle'!G17) | L12: =IF('2-Déclaration prévisionnelle'!$A17="","",'2-Déclaration prévisionnelle'!H17) | ... BC12: =IF('2-Déclaration prévisionnelle'!$A17="","",'2-Déclaration prévisionnelle'!AY17) | BD12: =IF('3-Déclaration réelle'!$A17="","",'3-Déclaration réelle'!A17) | BE12: =IF('3-Déclaration réelle'!$A17="","",'3-Déclaration réelle'!AZ17) | BF12: =IF('3-Déclaration réelle'!$A17="","",'3-Déclaration réelle'!C17) | BG12: =IF('3-Déclaration réelle'!$A17="","",'3-Déclaration réelle'!D17) | BH12: =IF('3-Déclaration réelle'!$A17="","",'3-Déclaration réelle'!E17) | BI12: =IF('3-Déclaration réelle'!$A17="","",'3-Déclaration réelle'!F17) | BJ12: =IF('3-Déclaration réelle'!$A17="","",'3-Déclaration réelle'!G17) | BK12: =IF('3-Déclaration réelle'!$A17="","",'3-Déclaration réelle'!H17) | BL12: =IF('3-Déclaration réelle'!$A17="","",'3-Déclaration réelle'!I17) | BM12: =IF('3-Déclaration réelle'!$A17="","",'3-Déclaration réelle'!J17) | ... DB12: =IF('3-Déclaration réelle'!$A17="","",'3-Déclaration réelle'!AY17)
A13: =IF(AND(E13="",BD13=""),"",'1 - Identification'!$D$10) | B13: =IF(AND(E13="",BD13=""),"",'1 - Identification'!$D$8) | C13: =IF(AND(E13="",BD13=""),"",'1 - Identification'!$D$14) | D13: =IF(AND(E13="",BD13=""),"",'1 - Identification'!$D$12) | E13: =IF('2-Déclaration prévisionnelle'!$A18="","",'2-Déclaration prévisionnelle'!A18) | F13: =IF('2-Déclaration prévisionnelle'!$A18="","",'2-Déclaration prévisionnelle'!B18) | G13: =IF('2-Déclaration prévisionnelle'!$A18="","",'2-Déclaration prévisionnelle'!C18) | H13: =IF('2-Déclaration prévisionnelle'!$A18="","",'2-Déclaration prévisionnelle'!D18) | I13: =IF('2-Déclaration prévisionnelle'!$A18="","",'2-Déclaration prévisionnelle'!E18) | J13: =IF('2-Déclaration prévisionnelle'!$A18="","",'2-Déclaration prévisionnelle'!F18) | K13: =IF('2-Déclaration prévisionnelle'!$A18="","",'2-Déclaration prévisionnelle'!G18) | L13: =IF('2-Déclaration prévisionnelle'!$A18="","",'2-Déclaration prévisionnelle'!H18) | ... BC13: =IF('2-Déclaration prévisionnelle'!$A18="","",'2-Déclaration prévisionnelle'!AY18) | BD13: =IF('3-Déclaration réelle'!$A18="","",'3-Déclaration réelle'!A18) | BE13: =IF('3-Déclaration réelle'!$A18="","",'3-Déclaration réelle'!AZ18) | BF13: =IF('3-Déclaration réelle'!$A18="","",'3-Déclaration réelle'!C18) | BG13: =IF('3-Déclaration réelle'!$A18="","",'3-Déclaration réelle'!D18) | BH13: =IF('3-Déclaration réelle'!$A18="","",'3-Déclaration réelle'!E18) | BI13: =IF('3-Déclaration réelle'!$A18="","",'3-Déclaration réelle'!F18) | BJ13: =IF('3-Déclaration réelle'!$A18="","",'3-Déclaration réelle'!G18) | BK13: =IF('3-Déclaration réelle'!$A18="","",'3-Déclaration réelle'!H18) | BL13: =IF('3-Déclaration réelle'!$A18="","",'3-Déclaration réelle'!I18) | BM13: =IF('3-Déclaration réelle'!$A18="","",'3-Déclaration réelle'!J18) | ... DB13: =IF('3-Déclaration réelle'!$A18="","",'3-Déclaration réelle'!AY18)
A14: =IF(AND(E14="",BD14=""),"",'1 - Identification'!$D$10) | B14: =IF(AND(E14="",BD14=""),"",'1 - Identification'!$D$8) | C14: =IF(AND(E14="",BD14=""),"",'1 - Identification'!$D$14) | D14: =IF(AND(E14="",BD14=""),"",'1 - Identification'!$D$12) | E14: =IF('2-Déclaration prévisionnelle'!$A19="","",'2-Déclaration prévisionnelle'!A19) | F14: =IF('2-Déclaration prévisionnelle'!$A19="","",'2-Déclaration prévisionnelle'!B19) | G14: =IF('2-Déclaration prévisionnelle'!$A19="","",'2-Déclaration prévisionnelle'!C19) | H14: =IF('2-Déclaration prévisionnelle'!$A19="","",'2-Déclaration prévisionnelle'!D19) | I14: =IF('2-Déclaration prévisionnelle'!$A19="","",'2-Déclaration prévisionnelle'!E19) | J14: =IF('2-Déclaration prévisionnelle'!$A19="","",'2-Déclaration prévisionnelle'!F19) | K14: =IF('2-Déclaration prévisionnelle'!$A19="","",'2-Déclaration prévisionnelle'!G19) | L14: =IF('2-Déclaration prévisionnelle'!$A19="","",'2-Déclaration prévisionnelle'!H19) | ... BC14: =IF('2-Déclaration prévisionnelle'!$A19="","",'2-Déclaration prévisionnelle'!AY19) | BD14: =IF('3-Déclaration réelle'!$A19="","",'3-Déclaration réelle'!A19) | BE14: =IF('3-Déclaration réelle'!$A19="","",'3-Déclaration réelle'!AZ19) | BF14: =IF('3-Déclaration réelle'!$A19="","",'3-Déclaration réelle'!C19) | BG14: =IF('3-Déclaration réelle'!$A19="","",'3-Déclaration réelle'!D19) | BH14: =IF('3-Déclaration réelle'!$A19="","",'3-Déclaration réelle'!E19) | BI14: =IF('3-Déclaration réelle'!$A19="","",'3-Déclaration réelle'!F19) | BJ14: =IF('3-Déclaration réelle'!$A19="","",'3-Déclaration réelle'!G19) | BK14: =IF('3-Déclaration réelle'!$A19="","",'3-Déclaration réelle'!H19) | BL14: =IF('3-Déclaration réelle'!$A19="","",'3-Déclaration réelle'!I19) | BM14: =IF('3-Déclaration réelle'!$A19="","",'3-Déclaration réelle'!J19) | ... DB14: =IF('3-Déclaration réelle'!$A19="","",'3-Déclaration réelle'!AY19)
A15: =IF(AND(E15="",BD15=""),"",'1 - Identification'!$D$10) | B15: =IF(AND(E15="",BD15=""),"",'1 - Identification'!$D$8) | C15: =IF(AND(E15="",BD15=""),"",'1 - Identification'!$D$14) | D15: =IF(AND(E15="",BD15=""),"",'1 - Identification'!$D$12) | E15: =IF('2-Déclaration prévisionnelle'!$A20="","",'2-Déclaration prévisionnelle'!A20) | F15: =IF('2-Déclaration prévisionnelle'!$A20="","",'2-Déclaration prévisionnelle'!B20) | G15: =IF('2-Déclaration prévisionnelle'!$A20="","",'2-Déclaration prévisionnelle'!C20) | H15: =IF('2-Déclaration prévisionnelle'!$A20="","",'2-Déclaration prévisionnelle'!D20) | I15: =IF('2-Déclaration prévisionnelle'!$A20="","",'2-Déclaration prévisionnelle'!E20) | J15: =IF('2-Déclaration prévisionnelle'!$A20="","",'2-Déclaration prévisionnelle'!F20) | K15: =IF('2-Déclaration prévisionnelle'!$A20="","",'2-Déclaration prévisionnelle'!G20) | L15: =IF('2-Déclaration prévisionnelle'!$A20="","",'2-Déclaration prévisionnelle'!H20) | ... BC15: =IF('2-Déclaration prévisionnelle'!$A20="","",'2-Déclaration prévisionnelle'!AY20) | BD15: =IF('3-Déclaration réelle'!$A20="","",'3-Déclaration réelle'!A20) | BE15: =IF('3-Déclaration réelle'!$A20="","",'3-Déclaration réelle'!AZ20) | BF15: =IF('3-Déclaration réelle'!$A20="","",'3-Déclaration réelle'!C20) | BG15: =IF('3-Déclaration réelle'!$A20="","",'3-Déclaration réelle'!D20) | BH15: =IF('3-Déclaration réelle'!$A20="","",'3-Déclaration réelle'!E20) | BI15: =IF('3-Déclaration réelle'!$A20="","",'3-Déclaration réelle'!F20) | BJ15: =IF('3-Déclaration réelle'!$A20="","",'3-Déclaration réelle'!G20) | BK15: =IF('3-Déclaration réelle'!$A20="","",'3-Déclaration réelle'!H20) | BL15: =IF('3-Déclaration réelle'!$A20="","",'3-Déclaration réelle'!I20) | BM15: =IF('3-Déclaration réelle'!$A20="","",'3-Déclaration réelle'!J20) | ... DB15: =IF('3-Déclaration réelle'!$A20="","",'3-Déclaration réelle'!AY20)
A16: =IF(AND(E16="",BD16=""),"",'1 - Identification'!$D$10) | B16: =IF(AND(E16="",BD16=""),"",'1 - Identification'!$D$8) | C16: =IF(AND(E16="",BD16=""),"",'1 - Identification'!$D$14) | D16: =IF(AND(E16="",BD16=""),"",'1 - Identification'!$D$12) | E16: =IF('2-Déclaration prévisionnelle'!$A21="","",'2-Déclaration prévisionnelle'!A21) | F16: =IF('2-Déclaration prévisionnelle'!$A21="","",'2-Déclaration prévisionnelle'!B21) | G16: =IF('2-Déclaration prévisionnelle'!$A21="","",'2-Déclaration prévisionnelle'!C21) | H16: =IF('2-Déclaration prévisionnelle'!$A21="","",'2-Déclaration prévisionnelle'!D21) | I16: =IF('2-Déclaration prévisionnelle'!$A21="","",'2-Déclaration prévisionnelle'!E21) | J16: =IF('2-Déclaration prévisionnelle'!$A21="","",'2-Déclaration prévisionnelle'!F21) | K16: =IF('2-Déclaration prévisionnelle'!$A21="","",'2-Déclaration prévisionnelle'!G21) | L16: =IF('2-Déclaration prévisionnelle'!$A21="","",'2-Déclaration prévisionnelle'!H21) | ... BC16: =IF('2-Déclaration prévisionnelle'!$A21="","",'2-Déclaration prévisionnelle'!AY21) | BD16: =IF('3-Déclaration réelle'!$A21="","",'3-Déclaration réelle'!A21) | BE16: =IF('3-Déclaration réelle'!$A21="","",'3-Déclaration réelle'!AZ21) | BF16: =IF('3-Déclaration réelle'!$A21="","",'3-Déclaration réelle'!C21) | BG16: =IF('3-Déclaration réelle'!$A21="","",'3-Déclaration réelle'!D21) | BH16: =IF('3-Déclaration réelle'!$A21="","",'3-Déclaration réelle'!E21) | BI16: =IF('3-Déclaration réelle'!$A21="","",'3-Déclaration réelle'!F21) | BJ16: =IF('3-Déclaration réelle'!$A21="","",'3-Déclaration réelle'!G21) | BK16: =IF('3-Déclaration réelle'!$A21="","",'3-Déclaration réelle'!H21) | BL16: =IF('3-Déclaration réelle'!$A21="","",'3-Déclaration réelle'!I21) | BM16: =IF('3-Déclaration réelle'!$A21="","",'3-Déclaration réelle'!J21) | ... DB16: =IF('3-Déclaration réelle'!$A21="","",'3-Déclaration réelle'!AY21)
A17: =IF(AND(E17="",BD17=""),"",'1 - Identification'!$D$10) | B17: =IF(AND(E17="",BD17=""),"",'1 - Identification'!$D$8) | C17: =IF(AND(E17="",BD17=""),"",'1 - Identification'!$D$14) | D17: =IF(AND(E17="",BD17=""),"",'1 - Identification'!$D$12) | E17: =IF('2-Déclaration prévisionnelle'!$A22="","",'2-Déclaration prévisionnelle'!A22) | F17: =IF('2-Déclaration prévisionnelle'!$A22="","",'2-Déclaration prévisionnelle'!B22) | G17: =IF('2-Déclaration prévisionnelle'!$A22="","",'2-Déclaration prévisionnelle'!C22) | H17: =IF('2-Déclaration prévisionnelle'!$A22="","",'2-Déclaration prévisionnelle'!D22) | I17: =IF('2-Déclaration prévisionnelle'!$A22="","",'2-Déclaration prévisionnelle'!E22) | J17: =IF('2-Déclaration prévisionnelle'!$A22="","",'2-Déclaration prévisionnelle'!F22) | K17: =IF('2-Déclaration prévisionnelle'!$A22="","",'2-Déclaration prévisionnelle'!G22) | L17: =IF('2-Déclaration prévisionnelle'!$A22="","",'2-Déclaration prévisionnelle'!H22) | ... BC17: =IF('2-Déclaration prévisionnelle'!$A22="","",'2-Déclaration prévisionnelle'!AY22) | BD17: =IF('3-Déclaration réelle'!$A22="","",'3-Déclaration réelle'!A22) | BE17: =IF('3-Déclaration réelle'!$A22="","",'3-Déclaration réelle'!AZ22) | BF17: =IF('3-Déclaration réelle'!$A22="","",'3-Déclaration réelle'!C22) | BG17: =IF('3-Déclaration réelle'!$A22="","",'3-Déclaration réelle'!D22) | BH17: =IF('3-Déclaration réelle'!$A22="","",'3-Déclaration réelle'!E22) | BI17: =IF('3-Déclaration réelle'!$A22="","",'3-Déclaration réelle'!F22) | BJ17: =IF('3-Déclaration réelle'!$A22="","",'3-Déclaration réelle'!G22) | BK17: =IF('3-Déclaration réelle'!$A22="","",'3-Déclaration réelle'!H22) | BL17: =IF('3-Déclaration réelle'!$A22="","",'3-Déclaration réelle'!I22) | BM17: =IF('3-Déclaration réelle'!$A22="","",'3-Déclaration réelle'!J22) | ... DB17: =IF('3-Déclaration réelle'!$A22="","",'3-Déclaration réelle'!AY22)
A18: =IF(AND(E18="",BD18=""),"",'1 - Identification'!$D$10) | B18: =IF(AND(E18="",BD18=""),"",'1 - Identification'!$D$8) | C18: =IF(AND(E18="",BD18=""),"",'1 - Identification'!$D$14) | D18: =IF(AND(E18="",BD18=""),"",'1 - Identification'!$D$12) | E18: =IF('2-Déclaration prévisionnelle'!$A23="","",'2-Déclaration prévisionnelle'!A23) | F18: =IF('2-Déclaration prévisionnelle'!$A23="","",'2-Déclaration prévisionnelle'!B23) | G18: =IF('2-Déclaration prévisionnelle'!$A23="","",'2-Déclaration prévisionnelle'!C23) | H18: =IF('2-Déclaration prévisionnelle'!$A23="","",'2-Déclaration prévisionnelle'!D23) | I18: =IF('2-Déclaration prévisionnelle'!$A23="","",'2-Déclaration prévisionnelle'!E23) | J18: =IF('2-Déclaration prévisionnelle'!$A23="","",'2-Déclaration prévisionnelle'!F23) | K18: =IF('2-Déclaration prévisionnelle'!$A23="","",'2-Déclaration prévisionnelle'!G23) | L18: =IF('2-Déclaration prévisionnelle'!$A23="","",'2-Déclaration prévisionnelle'!H23) | ... BC18: =IF('2-Déclaration prévisionnelle'!$A23="","",'2-Déclaration prévisionnelle'!AY23) | BD18: =IF('3-Déclaration réelle'!$A23="","",'3-Déclaration réelle'!A23) | BE18: =IF('3-Déclaration réelle'!$A23="","",'3-Déclaration réelle'!AZ23) | BF18: =IF('3-Déclaration réelle'!$A23="","",'3-Déclaration réelle'!C23) | BG18: =IF('3-Déclaration réelle'!$A23="","",'3-Déclaration réelle'!D23) | BH18: =IF('3-Déclaration réelle'!$A23="","",'3-Déclaration réelle'!E23) | BI18: =IF('3-Déclaration réelle'!$A23="","",'3-Déclaration réelle'!F23) | BJ18: =IF('3-Déclaration réelle'!$A23="","",'3-Déclaration réelle'!G23) | BK18: =IF('3-Déclaration réelle'!$A23="","",'3-Déclaration réelle'!H23) | BL18: =IF('3-Déclaration réelle'!$A23="","",'3-Déclaration réelle'!I23) | BM18: =IF('3-Déclaration réelle'!$A23="","",'3-Déclaration réelle'!J23) | ... DB18: =IF('3-Déclaration réelle'!$A23="","",'3-Déclaration réelle'!AY23)
... A20: =IF(AND(E20="",BD20=""),"",'1 - Identification'!$D$10) | B20: =IF(AND(E20="",BD20=""),"",'1 - Identification'!$D$8) | C20: =IF(AND(E20="",BD20=""),"",'1 - Identification'!$D$14) | D20: =IF(AND(E20="",BD20=""),"",'1 - Identification'!$D$12) | E20: =IF('2-Déclaration prévisionnelle'!$A25="","",'2-Déclaration prévisionnelle'!A25) | F20: =IF('2-Déclaration prévisionnelle'!$A25="","",'2-Déclaration prévisionnelle'!B25) | G20: =IF('2-Déclaration prévisionnelle'!$A25="","",'2-Déclaration prévisionnelle'!C25) | H20: =IF('2-Déclaration prévisionnelle'!$A25="","",'2-Déclaration prévisionnelle'!D25) | I20: =IF('2-Déclaration prévisionnelle'!$A25="","",'2-Déclaration prévisionnelle'!E25) | J20: =IF('2-Déclaration prévisionnelle'!$A25="","",'2-Déclaration prévisionnelle'!F25) | K20: =IF('2-Déclaration prévisionnelle'!$A25="","",'2-Déclaration prévisionnelle'!G25) | L20: =IF('2-Déclaration prévisionnelle'!$A25="","",'2-Déclaration prévisionnelle'!H25) | ... BC20: =IF('2-Déclaration prévisionnelle'!$A25="","",'2-Déclaration prévisionnelle'!AY25) | BD20: =IF('3-Déclaration réelle'!$A25="","",'3-Déclaration réelle'!A25) | BE20: =IF('3-Déclaration réelle'!$A25="","",'3-Déclaration réelle'!AZ25) | BF20: =IF('3-Déclaration réelle'!$A25="","",'3-Déclaration réelle'!C25) | BG20: =IF('3-Déclaration réelle'!$A25="","",'3-Déclaration réelle'!D25) | BH20: =IF('3-Déclaration réelle'!$A25="","",'3-Déclaration réelle'!E25) | BI20: =IF('3-Déclaration réelle'!$A25="","",'3-Déclaration réelle'!F25) | BJ20: =IF('3-Déclaration réelle'!$A25="","",'3-Déclaration réelle'!G25) | BK20: =IF('3-Déclaration réelle'!$A25="","",'3-Déclaration réelle'!H25) | BL20: =IF('3-Déclaration réelle'!$A25="","",'3-Déclaration réelle'!I25) | BM20: =IF('3-Déclaration réelle'!$A25="","",'3-Déclaration réelle'!J25) | ... DB20: =IF('3-Déclaration réelle'!$A25="","",'3-Déclaration réelle'!AY25)
